Workbook

Sheet Sections I-III. Company Data
B1: Maine 945 Report | E1: 945 Long Version: 10/21/2019
B2: All companies must, at least, complete Sections I, II, and III below. Use the Tab key to go forward and hold down the Shift key and Tab Key to go backward.
B3: Section I. Company Information
B4: Company Name: | E4: Cigna Health and Life Insurance Company, Inc.
B5: NAIC Code: | E5: 67369
B7: Section II. Contact Information
B8: First Name: | D8: Jasmine | J8: Last Name: | K8: Smith
B9: E-Mail: | D9: Jasmine.Smith@cigna.com | J9: Phone Number: | K9: 860-902-0987
B11: Section III. Direct Written Health Insurance Premium
B12: Year | C12: 2021
B14: Did this Company Have at Least $5 million of direct written health insurance premium in Maine? (Click on box and Select YES or NO ----->) | P14: YES
B16: **If you answered YES to the question directly above, you must complete the Statewide Data tab, Area tabs, and Allocation and Comments tabs.
B17: **If you answered NO to the question above, you must complete the 945 Short Form instead of this form.
B50: YES
B51: NO

Sheet Statewide Data
B1: Maine Rule 945 Report
B2: Statewide Data | C2: Policyholder Category
A3: Line Number | B3: Line Description | C3: Large Groups | D3: Small Groups | E3: Individuals | F3: Stop Loss | G3: Total
B4: Member and Contract Information
A5: 1 | B5: Member Months during year | C5: ='Area 1 Data'!C5+'Area 2 Data'!C5+'Area 3 Data'!C5+'Area 4 Data'!C5 -> 158533 | D5: ='Area 1 Data'!D5+'Area 2 Data'!D5+'Area 3 Data'!D5+'Area 4 Data'!D5 -> 0 | E5: ='Area 1 Data'!E5+'Area 2 Data'!E5+'Area 3 Data'!E5+'Area 4 Data'!E5 -> 0 | F5: ='Area 1 Data'!F5+'Area 2 Data'!F5+'Area 3 Data'!F5+'Area 4 Data'!F5 -> 263636 | G5: =SUM(C5:F5) -> 422169
A6: 2 | B6: Number of contracts 12/31 | C6: ='Area 1 Data'!C6+'Area 2 Data'!C6+'Area 3 Data'!C6+'Area 4 Data'!C6 -> 6237 | D6: ='Area 1 Data'!D6+'Area 2 Data'!D6+'Area 3 Data'!D6+'Area 4 Data'!D6 -> 0 | E6: ='Area 1 Data'!E6+'Area 2 Data'!E6+'Area 3 Data'!E6+'Area 4 Data'!E6 -> 0 | F6: ='Area 1 Data'!F6+'Area 2 Data'!F6+'Area 3 Data'!F6+'Area 4 Data'!F6 -> 551 | G6: =SUM(C6:F6) -> 6788
A7: 2a | B7: Number of contracts included in line 2 that were issued during the year | G7: =SUM(C7:F7) -> 0
A8: 2b | B8: Number of contracts in line 2a covering policyholders that were uninsured for the prior 90 days | C8: 0 | F8: 0 | G8: =SUM(C8:F8) -> 0
A9: 3 | B9: Number of subscribers covered as individuals (non-family) under group or individual contracts 12/31 | C9: ='Area 1 Data'!C7+'Area 2 Data'!C7+'Area 3 Data'!C7+'Area 4 Data'!C7 -> 7203 | D9: ='Area 1 Data'!D7+'Area 2 Data'!D7+'Area 3 Data'!D7+'Area 4 Data'!D7 -> 0 | E9: ='Area 1 Data'!E7+'Area 2 Data'!E7+'Area 3 Data'!E7+'Area 4 Data'!E7 -> 0 | F9: ='Area 1 Data'!F7+'Area 2 Data'!F7+'Area 3 Data'!F7+'Area 4 Data'!F7 -> 4174 | G9: =SUM(C9:F9) -> 11377
A10: 4 | B10: Number of families covered (individual + spouse, individual + dependent, individual + family) 12/31 | C10: ='Area 1 Data'!C8+'Area 2 Data'!C8+'Area 3 Data'!C8+'Area 4 Data'!C8 -> 3239 | D10: ='Area 1 Data'!D8+'Area 2 Data'!D8+'Area 3 Data'!D8+'Area 4 Data'!D8 -> 0 | E10: ='Area 1 Data'!E8+'Area 2 Data'!E8+'Area 3 Data'!E8+'Area 4 Data'!E8 -> 0 | F10: ='Area 1 Data'!F8+'Area 2 Data'!F8+'Area 3 Data'!F8+'Area 4 Data'!F8 -> 5668 | G10: =SUM(C10:F10) -> 8907
A11: 5 | B11: Number of dependents 12/31 | C11: ='Area 1 Data'!C9+'Area 2 Data'!C9+'Area 3 Data'!C9+'Area 4 Data'!C9 -> 2892 | D11: ='Area 1 Data'!D9+'Area 2 Data'!D9+'Area 3 Data'!D9+'Area 4 Data'!D9 -> 0 | E11: ='Area 1 Data'!E9+'Area 2 Data'!E9+'Area 3 Data'!E9+'Area 4 Data'!E9 -> 0 | F11: ='Area 1 Data'!F9+'Area 2 Data'!F9+'Area 3 Data'!F9+'Area 4 Data'!F9 -> 11266 | G11: =SUM(C11:F11) -> 14158
A12: 5a | B12: Covered lives 12/31 (lines 3-5) | C12: =SUM(C9:C11) -> 13334 | D12: =SUM(D9:D11) -> 0 | E12: =SUM(E9:E11) -> 0 | F12: =SUM(F9:F11) -> 21108 | G12: =SUM(C12:F12) -> 34442
B13: Revenue Information
A14: 6 | B14: Direct premiums written | C14: ='Area 1 Data'!C11+'Area 2 Data'!C11+'Area 3 Data'!C11+'Area 4 Data'!C11 -> 89328651 | D14: ='Area 1 Data'!D11+'Area 2 Data'!D11+'Area 3 Data'!D11+'Area 4 Data'!D11 -> 1103 | E14: ='Area 1 Data'!E11+'Area 2 Data'!E11+'Area 3 Data'!E11+'Area 4 Data'!E11 -> 18858 | F14: ='Area 1 Data'!F11+'Area 2 Data'!F11+'Area 3 Data'!F11+'Area 4 Data'!F11 -> 12439893 | G14: =SUM(C14:F14) -> 101788505
A15: 7 | B15: Direct premiums earned | C15: ='Area 1 Data'!C12+'Area 2 Data'!C12+'Area 3 Data'!C12+'Area 4 Data'!C12 -> 90849492 | D15: ='Area 1 Data'!D12+'Area 2 Data'!D12+'Area 3 Data'!D12+'Area 4 Data'!D12 -> 1036 | E15: ='Area 1 Data'!E12+'Area 2 Data'!E12+'Area 3 Data'!E12+'Area 4 Data'!E12 -> 0 | F15: ='Area 1 Data'!F12+'Area 2 Data'!F12+'Area 3 Data'!F12+'Area 4 Data'!F12 -> 12215444 | G15: =SUM(C15:F15) -> 1.0306597e+08
A16: 8 | B16: Net premium income | C16: 113089140 | G16: =SUM(C16:F16) -> 113089140
A17: 9 | B17: Change in unearned premium reserves and reserve for rate credits | G17: =SUM(C17:F17) -> 0
A18: 10 | B18: Fee-for-service | C18: ='Area 1 Data'!C13+'Area 2 Data'!C13+'Area 3 Data'!C13+'Area 4 Data'!C13 -> 0 | D18: ='Area 1 Data'!D13+'Area 2 Data'!D13+'Area 3 Data'!D13+'Area 4 Data'!D13 -> 0 | E18: ='Area 1 Data'!E13+'Area 2 Data'!E13+'Area 3 Data'!E13+'Area 4 Data'!E13 -> 0 | F18: 0 | G18: ='Area 1 Data'!G13+'Area 2 Data'!G13+'Area 3 Data'!G13+'Area 4 Data'!G13 -> 0
A19: 11 | B19: Risk revenue | C19: ='Area 1 Data'!C14+'Area 2 Data'!C14+'Area 3 Data'!C14+'Area 4 Data'!C14 -> 0 | D19: ='Area 1 Data'!D14+'Area 2 Data'!D14+'Area 3 Data'!D14+'Area 4 Data'!D14 -> 0 | E19: ='Area 1 Data'!E14+'Area 2 Data'!E14+'Area 3 Data'!E14+'Area 4 Data'!E14 -> 0 | F19: 0 | G19: ='Area 1 Data'!G14+'Area 2 Data'!G14+'Area 3 Data'!G14+'Area 4 Data'!G14 -> 0
A20: 13 | B20: Aggregate write-ins for other health care related revenues | G20: =SUM(C20:F20) -> 0
A21: 14 | B21: Total revenues (lines 8-13) | C21: =SUM(C16:C20) -> 113089140 | D21: =SUM(D16:D20) -> 0 | E21: =SUM(E16:E20) -> 0 | F21: =SUM(F16:F20) -> 0 | G21: =SUM(C21:F21) -> 113089140
B22: Expense Information
A23: 15 | B23: Hospital benefits (not including emergency room) - inpatient only | C23: ='Area 1 Data'!C16+'Area 2 Data'!C16+'Area 3 Data'!C16+'Area 4 Data'!C16 -> 18554389 | D23: ='Area 1 Data'!D16+'Area 2 Data'!D16+'Area 3 Data'!D16+'Area 4 Data'!D16 -> 0 | E23: ='Area 1 Data'!E16+'Area 2 Data'!E16+'Area 3 Data'!E16+'Area 4 Data'!E16 -> 0 | F23: 0 | G23: ='Area 1 Data'!G16+'Area 2 Data'!G16+'Area 3 Data'!G16+'Area 4 Data'!G16 -> 18554389
A24: 16 | B24: Hospital benefits (not including emergency room) - outpatient only | C24: ='Area 1 Data'!C17+'Area 2 Data'!C17+'Area 3 Data'!C17+'Area 4 Data'!C17 -> 31350634 | D24: ='Area 1 Data'!D17+'Area 2 Data'!D17+'Area 3 Data'!D17+'Area 4 Data'!D17 -> 0 | E24: ='Area 1 Data'!E17+'Area 2 Data'!E17+'Area 3 Data'!E17+'Area 4 Data'!E17 -> 0 | F24: 0 | G24: ='Area 1 Data'!G17+'Area 2 Data'!G17+'Area 3 Data'!G17+'Area 4 Data'!G17 -> 31350634
A25: 17 | B25: Medical benefits (excluding hospital inpatient and outpatient above) | C25: ='Area 1 Data'!C18+'Area 2 Data'!C18+'Area 3 Data'!C18+'Area 4 Data'!C18 -> 15935560 | D25: ='Area 1 Data'!D18+'Area 2 Data'!D18+'Area 3 Data'!D18+'Area 4 Data'!D18 -> 0 | E25: ='Area 1 Data'!E18+'Area 2 Data'!E18+'Area 3 Data'!E18+'Area 4 Data'!E18 -> 0 | F25: 0 | G25: ='Area 1 Data'!G18+'Area 2 Data'!G18+'Area 3 Data'!G18+'Area 4 Data'!G18 -> 15935560
A26: 18 | B26: Other professional services | C26: ='Area 1 Data'!C19+'Area 2 Data'!C19+'Area 3 Data'!C19+'Area 4 Data'!C19 -> 10387.38 | D26: ='Area 1 Data'!D19+'Area 2 Data'!D19+'Area 3 Data'!D19+'Area 4 Data'!D19 -> 0 | E26: ='Area 1 Data'!E19+'Area 2 Data'!E19+'Area 3 Data'!E19+'Area 4 Data'!E19 -> 0 | F26: 0 | G26: ='Area 1 Data'!G19+'Area 2 Data'!G19+'Area 3 Data'!G19+'Area 4 Data'!G19 -> 10387.38
A27: 19 | B27: Outside referrals | C27: ='Area 1 Data'!C20+'Area 2 Data'!C20+'Area 3 Data'!C20+'Area 4 Data'!C20 -> 481651.24 | D27: ='Area 1 Data'!D20+'Area 2 Data'!D20+'Area 3 Data'!D20+'Area 4 Data'!D20 -> 0 | E27: ='Area 1 Data'!E20+'Area 2 Data'!E20+'Area 3 Data'!E20+'Area 4 Data'!E20 -> 0 | F27: 0 | G27: ='Area 1 Data'!G20+'Area 2 Data'!G20+'Area 3 Data'!G20+'Area 4 Data'!G20 -> 481651.24
A28: 20 | B28: Emergency room and out-of-area | C28: ='Area 1 Data'!C21+'Area 2 Data'!C21+'Area 3 Data'!C21+'Area 4 Data'!C21 -> 320996.39 | D28: ='Area 1 Data'!D21+'Area 2 Data'!D21+'Area 3 Data'!D21+'Area 4 Data'!D21 -> 0 | E28: ='Area 1 Data'!E21+'Area 2 Data'!E21+'Area 3 Data'!E21+'Area 4 Data'!E21 -> 0 | F28: 0 | G28: ='Area 1 Data'!G21+'Area 2 Data'!G21+'Area 3 Data'!G21+'Area 4 Data'!G21 -> 320996.39
A29: 21 | B29: Prescription drugs | C29: ='Area 1 Data'!C22+'Area 2 Data'!C22+'Area 3 Data'!C22+'Area 4 Data'!C22 -> 23023618 | D29: ='Area 1 Data'!D22+'Area 2 Data'!D22+'Area 3 Data'!D22+'Area 4 Data'!D22 -> 0 | E29: ='Area 1 Data'!E22+'Area 2 Data'!E22+'Area 3 Data'!E22+'Area 4 Data'!E22 -> 0 | F29: 0 | G29: ='Area 1 Data'!G22+'Area 2 Data'!G22+'Area 3 Data'!G22+'Area 4 Data'!G22 -> 23023618
A30: 22 | B30: Aggregate write-ins for other medical and hospital | F30: 0 | G30: =SUM(C30:F30) -> 0
A31: 23 | B31: Incentive pool and withhold adjustments and bonus amounts | F31: 0 | G31: =SUM(C31:F31) -> 0
A32: 24 | B32: Net reinsurance recoveries | G32: =SUM(C32:F32) -> 0
A33: 25 | B33: Total medical and hospital expenses (lines 15-23 less line 24) Manually enter the total for Stop Loss | C33: =SUM(C23:C31)-C32 -> 89677235 | D33: =SUM(D23:D31)-D32 -> 0 | E33: =SUM(E23:E31)-E32 -> 0 | G33: =SUM(C33:F33) -> 89677235
A34: 26 | B34: Increase in reserves | G34: =SUM(C34:F34) -> 0
A35: 27 | B35: Cost containment expenses | C35: 1392210 | D35: 367 | E35: 225 | F35: 168872.58 | G35: =SUM(C35:F35) -> 1561674.6
A36: 28 | B36: Other claims adjustment expenses | C36: 0 | D36: 0 | E36: 0 | F36: 0 | G36: =SUM(C36:F36) -> 0
A37: 29 | B37: Salaries, wages and other benefits excluding cost containment expenses and other claims adjustment expenses | C37: 14841219 | D37: 4411.0888 | E37: 2169.5017 | F37: 1891691.7 | G37: =SUM(C37:F37) -> 16739491
A38: 30 | B38: Commissions | C38: 2012738 | D38: 593 | E38: 329 | F38: 267298.49 | G38: =SUM(C38:F38) -> 2280958.5
A39: 31 | B39: Marketing and advertising | C39: 251742 | D39: 53 | E39: 39 | F39: 27370.787 | G39: =SUM(C39:F39) -> 279204.79
A40: 32 | B40: Taxes, licenses and fees, excluding ACA Annual Health Insurance Industry Fee and ACA Exchange Fee | C40: 5374602 | D40: 1423 | E40: 763 | F40: 639255.52 | G40: =SUM(C40:F40) -> 6016043.5
...

Sheet Area 1 Data
B1: Maine Rule 945 Report
B2: Area 1: Cumberland, Sagadahoc and York Counties | C2: Policyholder Category
A3: Line Number | B3: Line Description | C3: Large Groups | D3: Small Groups | E3: Individuals | F3: Stop Loss | G3: Total
B4: Member and Contract Information
A5: 1 | B5: Member Months during year | C5: 60320.57 | F5: 108582 | G5: =SUM(C5:F5) -> 168902.57
A6: 2 | B6: Number of contracts 12/31 | C6: 3039.12 | F6: 269 | G6: =SUM(C6:F6) -> 3308.12
A7: 3 | B7: Number of subscribers covered as individuals (non-family) under group or individual contracts 12/31 | C7: 2660 | F7: 1817 | G7: =SUM(C7:F7) -> 4477
A8: 4 | B8: Number of families covered (individual + spouse, individual + dependent, individual + family) 12/31 | C8: 1228 | F8: 2265 | G8: =SUM(C8:F8) -> 3493
A9: 5 | B9: Number of dependents 12/31 | C9: 1126 | F9: 4678 | G9: =SUM(C9:F9) -> 5804
B10: Revenue Information
A11: 6 | B11: Direct premiums written | C11: 33988853 | D11: 1103 | E11: 18858 | F11: 12439893 | G11: =SUM(C11:F11) -> 46448707
A12: 7 | B12: Direct premiums earned | C12: 34567521 | D12: 1036 | F12: 12215444 | G12: =SUM(C12:F12) -> 46784001
A13: 10 | B13: Fee-for-service | F13: 0 | G13: =SUM(C13:F13) -> 0
A14: 11 | B14: Risk revenue | F14: 0 | G14: =SUM(C14:F14) -> 0
B15: Expense Information
A16: 15 | B16: Hospital benefits (not including emergency room) - inpatient only | C16: 7483951.9 | F16: 0 | G16: =SUM(C16:F16) -> 7483951.9
A17: 16 | B17: Hospital benefits (not including emergency room) - outpatient only | C17: 10066352 | F17: 0 | G17: =SUM(C17:F17) -> 10066352
A18: 17 | B18: Medical benefits (excluding hospital inpatient and outpatient above) | C18: 7244970.1 | F18: 0 | G18: =SUM(C18:F18) -> 7244970.1
A19: 18 | B19: Other professional services | C19: 42 | F19: 0 | G19: =SUM(C19:F19) -> 42
A20: 19 | B20: Outside referrals | C20: 174231.04 | F20: 0 | G20: =SUM(C20:F20) -> 174231.04
A21: 20 | B21: Emergency room and out-of-area | C21: 102324.77 | F21: 0 | G21: =SUM(C21:F21) -> 102324.77
A22: 21 | B22: Prescription drugs | C22: 8181512.7 | F22: 0 | G22: =SUM(C22:F22) -> 8181512.7
B23: Utilization Statistics
A24: 39 | B24: Hospital days (not including emergency room) - inpatient only | C24: 1577 | F24: 0 | G24: =SUM(C24:F24) -> 1577
A25: 40 | B25: Physician encounters | C25: 38344 | F25: 0 | G25: =SUM(C25:F25) -> 38344
A26: 41 | B26: Other professional encounters | C26: 24564 | F26: 0 | G26: =SUM(C26:F26) -> 24564
A27: 42 | B27: Number of emergency room visits | C27: 950 | F27: 0 | G27: =SUM(C27:F27) -> 950

Sheet Area 2 Data
B1: Maine Rule 945 Report
B2: Area 2: Knox, Kennebec, Lincoln and Oxford Counties | C2: Policyholder Category
A3: Line Number | B3: Line Description | C3: Large Groups | D3: Small Groups | E3: Individuals | F3: Stop Loss | G3: Total
B4: Member and Contract Information
A5: 1 | B5: Member Months during year | C5: 35673.96 | F5: 30792 | G5: =SUM(C5:F5) -> 66465.96
A6: 2 | B6: Number of contracts 12/31 | C6: 1156.68 | F6: 101 | G6: =SUM(C6:F6) -> 1257.68
A7: 3 | B7: Number of subscribers covered as individuals (non-family) under group or individual contracts 12/31 | C7: 1661 | F7: 448 | G7: =SUM(C7:F7) -> 2109
A8: 4 | B8: Number of families covered (individual + spouse, individual + dependent, individual + family) 12/31 | C8: 698 | F8: 674 | G8: =SUM(C8:F8) -> 1372
A9: 5 | B9: Number of dependents 12/31 | C9: 632 | F9: 1292 | G9: =SUM(C9:F9) -> 1924
B10: Revenue Information
A11: 6 | B11: Direct premiums written | C11: 20101221 | G11: =SUM(C11:F11) -> 20101221
A12: 7 | B12: Direct premiums earned | C12: 20443449 | G12: =SUM(C12:F12) -> 20443449
A13: 10 | B13: Fee-for-service | F13: 0 | G13: =SUM(C13:F13) -> 0
A14: 11 | B14: Risk revenue | F14: 0 | G14: =SUM(C14:F14) -> 0
B15: Expense Information
A16: 15 | B16: Hospital benefits (not including emergency room) - inpatient only | C16: 2608488.1 | F16: 0 | G16: =SUM(C16:F16) -> 2608488.1
A17: 16 | B17: Hospital benefits (not including emergency room) - outpatient only | C17: 6579369.7 | F17: 0 | G17: =SUM(C17:F17) -> 6579369.7
A18: 17 | B18: Medical benefits (excluding hospital inpatient and outpatient above) | C18: 3087843.3 | F18: 0 | G18: =SUM(C18:F18) -> 3087843.3
A19: 18 | B19: Other professional services | C19: 5762.71 | F19: 0 | G19: =SUM(C19:F19) -> 5762.71
A20: 19 | B20: Outside referrals | C20: 170712.14 | F20: 0 | G20: =SUM(C20:F20) -> 170712.14
A21: 20 | B21: Emergency room and out-of-area | C21: 57354.67 | F21: 0 | G21: =SUM(C21:F21) -> 57354.67
A22: 21 | B22: Prescription drugs | C22: 4569473.4 | F22: 0 | G22: =SUM(C22:F22) -> 4569473.4
B23: Utilization Statistics
A24: 39 | B24: Hospital days (not including emergency room) - inpatient only | C24: 255 | F24: 0 | G24: =SUM(C24:F24) -> 255
A25: 40 | B25: Physician encounters | C25: 21219 | F25: 0 | G25: =SUM(C25:F25) -> 21219
A26: 41 | B26: Other professional encounters | C26: 15090 | F26: 0 | G26: =SUM(C26:F26) -> 15090
A27: 42 | B27: Number of emergency room visits | C27: 856 | F27: 0 | G27: =SUM(C27:F27) -> 856

Sheet Area 3 Data
B1: Maine Rule 945 Report
B2: Area 3: Androscoggin, Waldo, Franklin, Penobscot, Somerset and Piscataquis Counties | C2: Policyholder Category
A3: Line Number | B3: Line Description | C3: Large Groups | D3: Small Groups | E3: Individuals | F3: Stop Loss | G3: Total
B4: Member and Contract Information
A5: 1 | B5: Member Months during year | C5: 51448.94 | F5: 101263 | G5: =SUM(C5:F5) -> 152711.94
A6: 2 | B6: Number of contracts 12/31 | C6: 1421.28 | F6: 129 | G6: =SUM(C6:F6) -> 1550.28
A7: 3 | B7: Number of subscribers covered as individuals (non-family) under group or individual contracts 12/31 | C7: 2450 | F7: 1532 | G7: =SUM(C7:F7) -> 3982
A8: 4 | B8: Number of families covered (individual + spouse, individual + dependent, individual + family) 12/31 | C8: 1065 | F8: 2237 | G8: =SUM(C8:F8) -> 3302
A9: 5 | B9: Number of dependents 12/31 | C9: 919 | F9: 4407 | G9: =SUM(C9:F9) -> 5326
B10: Revenue Information
A11: 6 | B11: Direct premiums written | C11: 28989954 | G11: =SUM(C11:F11) -> 28989954
A12: 7 | B12: Direct premiums earned | C12: 29483514 | G12: =SUM(C12:F12) -> 29483514
A13: 10 | B13: Fee-for-service | F13: 0 | G13: =SUM(C13:F13) -> 0
A14: 11 | B14: Risk revenue | F14: 0 | G14: =SUM(C14:F14) -> 0
B15: Expense Information
A16: 15 | B16: Hospital benefits (not including emergency room) - inpatient only | C16: 6674249.5 | F16: 0 | G16: =SUM(C16:F16) -> 6674249.5
A17: 16 | B17: Hospital benefits (not including emergency room) - outpatient only | C17: 12297976 | F17: 0 | G17: =SUM(C17:F17) -> 12297976
A18: 17 | B18: Medical benefits (excluding hospital inpatient and outpatient above) | C18: 4736497.7 | F18: 0 | G18: =SUM(C18:F18) -> 4736497.7
A19: 18 | B19: Other professional services | C19: 4582.67 | F19: 0 | G19: =SUM(C19:F19) -> 4582.67
A20: 19 | B20: Outside referrals | C20: 110349.79 | F20: 0 | G20: =SUM(C20:F20) -> 110349.79
A21: 20 | B21: Emergency room and out-of-area | C21: 139783.47 | F21: 0 | G21: =SUM(C21:F21) -> 139783.47
A22: 21 | B22: Prescription drugs | C22: 9098461 | F22: 0 | G22: =SUM(C22:F22) -> 9098461
B23: Utilization Statistics
A24: 39 | B24: Hospital days (not including emergency room) - inpatient only | C24: 1517 | F24: 0 | G24: =SUM(C24:F24) -> 1517
A25: 40 | B25: Physician encounters | C25: 31455 | F25: 0 | G25: =SUM(C25:F25) -> 31455
A26: 41 | B26: Other professional encounters | C26: 21263 | F26: 0 | G26: =SUM(C26:F26) -> 21263
A27: 42 | B27: Number of emergency room visits | C27: 1456 | F27: 0 | G27: =SUM(C27:F27) -> 1456

Sheet Area 4 Data
B1: Maine Rule 945 Report
B2: Area 4: Hancock, Aroostook and Washington Counties | C2: Policyholder Category
A3: Line Number | B3: Line Description | C3: Large Groups | D3: Small Groups | E3: Individuals | F3: Stop Loss | G3: Total
B4: Member and Contract Information
A5: 1 | B5: Member Months during year | C5: 11089.53 | F5: 22999 | G5: =SUM(C5:F5) -> 34088.53
A6: 2 | B6: Number of contracts 12/31 | C6: 619.92 | F6: 52 | G6: =SUM(C6:F6) -> 671.92
A7: 3 | B7: Number of subscribers covered as individuals (non-family) under group or individual contracts 12/31 | C7: 432 | F7: 377 | G7: =SUM(C7:F7) -> 809
A8: 4 | B8: Number of families covered (individual + spouse, individual + dependent, individual + family) 12/31 | C8: 248 | F8: 492 | G8: =SUM(C8:F8) -> 740
A9: 5 | B9: Number of dependents 12/31 | C9: 215 | F9: 889 | G9: =SUM(C9:F9) -> 1104
B10: Revenue Information
A11: 6 | B11: Direct premiums written | C11: 6248623.7 | G11: =SUM(C11:F11) -> 6248623.7
A12: 7 | B12: Direct premiums earned | C12: 6355008 | G12: =SUM(C12:F12) -> 6355008
A13: 10 | B13: Fee-for-service | F13: 0 | G13: =SUM(C13:F13) -> 0
A14: 11 | B14: Risk revenue | F14: 0 | G14: =SUM(C14:F14) -> 0
B15: Expense Information
A16: 15 | B16: Hospital benefits (not including emergency room) - inpatient only | C16: 1787699.5 | F16: 0 | G16: =SUM(C16:F16) -> 1787699.5
A17: 16 | B17: Hospital benefits (not including emergency room) - outpatient only | C17: 2406936.4 | F17: 0 | G17: =SUM(C17:F17) -> 2406936.4
A18: 17 | B18: Medical benefits (excluding hospital inpatient and outpatient above) | C18: 866248.42 | F18: 0 | G18: =SUM(C18:F18) -> 866248.42
A19: 18 | B19: Other professional services | C19: 0 | F19: 0 | G19: =SUM(C19:F19) -> 0
A20: 19 | B20: Outside referrals | C20: 26358.27 | F20: 0 | G20: =SUM(C20:F20) -> 26358.27
A21: 20 | B21: Emergency room and out-of-area | C21: 21533.48 | F21: 0 | G21: =SUM(C21:F21) -> 21533.48
A22: 21 | B22: Prescription drugs | C22: 1174170.6 | F22: 0 | G22: =SUM(C22:F22) -> 1174170.6
B23: Utilization Statistics
A24: 39 | B24: Hospital days (not including emergency room) - inpatient only | C24: 1383 | F24: 0 | G24: =SUM(C24:F24) -> 1383
A25: 40 | B25: Physician encounters | C25: 5679 | F25: 0 | G25: =SUM(C25:F25) -> 5679
A26: 41 | B26: Other professional encounters | C26: 4429 | F26: 0 | G26: =SUM(C26:F26) -> 4429
A27: 42 | B27: Number of emergency room visits | C27: 180 | G27: =SUM(C27:F27) -> 180

Sheet Allocation Method
A1: Maine 945 Report
A2: 1. Place an X in either the Actual, or the Allocated or the Combination column below to indicate how your data in the Statewide and Area tabs were determined.
A3: 2. For each line item marked as either Allocated or as Combination, provide an explanation in the Comments tab.
A4: Line # | B4: ALLOCATION METHOD | C4: Allocation By Region (Select One) | F4: Allocation by Category of Policyholder (Select One)
C5: Actual | D5: Allocated | E5: Combination | F5: Actual | G5: Allocated | H5: Combination
B6: Revenue Information
A7: 6 | B7: Direct premiums written
A8: 7 | B8: Direct premiums earned
A9: 8 | B9: Net premium income
A10: 9 | B10: Change in unearned premium reserves and reserve for rate credits
A11: 10 | B11: Fee-for-service
A12: 11 | B12: Risk revenue
A13: 13 | B13: Aggregate write-ins for other health care related revenues
B14: Expense Information
A15: 15 | B15: Hospital benefits (not including emergency room) - inpatient only
A16: 16 | B16: Hospital benefits (not including emergency room) - outpatient only
A17: 17 | B17: Medical benefits (excluding hospital inpatient and outpatient above)
A18: 18 | B18: Other professional services
A19: 19 | B19: Outside referrals
A20: 20 | B20: Emergency room and out-of-area
A21: 21 | B21: Prescription drugs
A22: 22 | B22: Aggregate write-ins for other medical and hospital
A23: 23 | B23: Incentive pool and withhold adjustments and bonus amounts
A24: 24 | B24: Net reinsurance recoveries
A25: 26 | B25: Increase in reserves
A26: 27 | B26: Cost containment expenses
... A32: 33 | B32: ACA Annual Health Insurance Industry Fee
A33: 33a | B33: ACA Exchange Fee
A34: 34 | B34: Charitable contributions
A35: 35 | B35: Lobbying expenses
A36: 36 | B36: All other expenses

Sheet Comments
A1: Maine 945 Report
C2: Enter Comments Below
B3: Line # | C3: ALLOCATION METHOD
C5: Revenue Information | D5: Allocation by Region Comments | E5: Allocation by Policyholder Category Comments
B6: 6 | C6: Direct premiums written
B7: 7 | C7: Direct premiums earned
B8: 8 | C8: Net premium income
B9: 9 | C9: Change in unearned premium reserves and reserve for rate credits
B10: 10 | C10: Fee-for-service
B11: 11 | C11: Risk revenue
B12: 13 | C12: Aggregate write-ins for other health care related revenues
C13: Expense Information
B14: 15 | C14: Hospital benefits (not including emergency room) - inpatient only
B15: 16 | C15: Hospital benefits (not including emergency room) - outpatient only
B16: 17 | C16: Medical benefits (excluding hospital inpatient and outpatient above)
B17: 18 | C17: Other professional services
B18: 19 | C18: Outside referrals
B19: 20 | C19: Emergency room and out-of-area
B20: 21 | C20: Prescription drugs
B21: 22 | C21: Aggregate write-ins for other medical and hospital
B22: 23 | C22: Incentive pool and withhold adjustments and bonus amounts
B23: 24 | C23: Net reinsurance recoveries
B24: 26 | C24: Increase in reserves
B25: 27 | C25: Cost containment expenses
... B31: 33 | C31: ACA Annual Health Insurance Industry Fee
B32: 33a | C32: ACA Exchange Fee
B33: 34 | C33: Charitable contributions
B34: 35 | C34: Lobbying expenses
B35: 36 | C35: All other expenses | E35: 7
