Workbook

Sheet ALL
A1: VERSANT POWER - Maine Public Service District
A2: SMALL STANDARD OFFER CLASS, All Customers
A3: Note : Hourly loads include losses and unaccounted for energy (UFE), and are taken from the Daily Settlements
A4: Data in kWhs
A6: Date/Hour | B6: 1 | C6: 2 | D6: 3 | E6: 4 | F6: 5 | G6: 6 | H6: 7 | I6: 8 | J6: 9 | K6: 10 | L6: 11 | M6: 12 | N6: 13 | O6: 14 | P6: 15 | Q6: 16 | R6: 17 | S6: 18 | T6: 19 | U6: 20 | V6: 21 | W6: 22 | X6: 23 | Y6: 24 | Z6: 25
A7: 45658 | B7: =Commercial_All!B7+Residential_All!B7 -> 35781.899 | C7: =Commercial_All!C7+Residential_All!C7 -> 34153.626 | D7: =Commercial_All!D7+Residential_All!D7 -> 32244.811 | E7: =Commercial_All!E7+Residential_All!E7 -> 31358.1 | F7: =Commercial_All!F7+Residential_All!F7 -> 31166.64 | G7: =Commercial_All!G7+Residential_All!G7 -> 31787.565 | H7: =Commercial_All!H7+Residential_All!H7 -> 33413.306 | I7: =Commercial_All!I7+Residential_All!I7 -> 36217.427 | ... Z7: =Commercial_All!Z7+Residential_All!Z7 -> 0
A8: 45659 | B8: =Commercial_All!B8+Residential_All!B8 -> 35190.25 | C8: =Commercial_All!C8+Residential_All!C8 -> 33673.623 | D8: =Commercial_All!D8+Residential_All!D8 -> 32249.225 | E8: =Commercial_All!E8+Residential_All!E8 -> 31724.274 | F8: =Commercial_All!F8+Residential_All!F8 -> 32148.249 | G8: =Commercial_All!G8+Residential_All!G8 -> 33678.997 | H8: =Commercial_All!H8+Residential_All!H8 -> 38339.453 | I8: =Commercial_All!I8+Residential_All!I8 -> 41709.111 | ... Z8: =Commercial_All!Z8+Residential_All!Z8 -> 0
A9: 45660 | B9: =Commercial_All!B9+Residential_All!B9 -> 37796.786 | C9: =Commercial_All!C9+Residential_All!C9 -> 36220.252 | D9: =Commercial_All!D9+Residential_All!D9 -> 34444.379 | E9: =Commercial_All!E9+Residential_All!E9 -> 33783.301 | F9: =Commercial_All!F9+Residential_All!F9 -> 34190.63 | G9: =Commercial_All!G9+Residential_All!G9 -> 36287.811 | H9: =Commercial_All!H9+Residential_All!H9 -> 41093.105 | I9: =Commercial_All!I9+Residential_All!I9 -> 44640.657 | ... Z9: =Commercial_All!Z9+Residential_All!Z9 -> 0
A10: 45661 | B10: =Commercial_All!B10+Residential_All!B10 -> 39663.431 | C10: =Commercial_All!C10+Residential_All!C10 -> 38266.19 | D10: =Commercial_All!D10+Residential_All!D10 -> 36625.301 | E10: =Commercial_All!E10+Residential_All!E10 -> 35815.775 | F10: =Commercial_All!F10+Residential_All!F10 -> 35693.864 | G10: =Commercial_All!G10+Residential_All!G10 -> 36528.35 | H10: =Commercial_All!H10+Residential_All!H10 -> 38604.009 | I10: =Commercial_All!I10+Residential_All!I10 -> 42088.765 | ... Z10: =Commercial_All!Z10+Residential_All!Z10 -> 0
A11: 45662 | B11: =Commercial_All!B11+Residential_All!B11 -> 41593.349 | C11: =Commercial_All!C11+Residential_All!C11 -> 40034.837 | D11: =Commercial_All!D11+Residential_All!D11 -> 38251.489 | E11: =Commercial_All!E11+Residential_All!E11 -> 37603.157 | F11: =Commercial_All!F11+Residential_All!F11 -> 37412.068 | G11: =Commercial_All!G11+Residential_All!G11 -> 37834.723 | H11: =Commercial_All!H11+Residential_All!H11 -> 39593.382 | I11: =Commercial_All!I11+Residential_All!I11 -> 42796.769 | ... Z11: =Commercial_All!Z11+Residential_All!Z11 -> 0
A12: 45663 | B12: =Commercial_All!B12+Residential_All!B12 -> 42815.433 | C12: =Commercial_All!C12+Residential_All!C12 -> 40783.264 | D12: =Commercial_All!D12+Residential_All!D12 -> 38916.946 | E12: =Commercial_All!E12+Residential_All!E12 -> 37994.228 | F12: =Commercial_All!F12+Residential_All!F12 -> 38143.462 | G12: =Commercial_All!G12+Residential_All!G12 -> 40353.175 | H12: =Commercial_All!H12+Residential_All!H12 -> 45599.286 | I12: =Commercial_All!I12+Residential_All!I12 -> 49133.861 | ... Z12: =Commercial_All!Z12+Residential_All!Z12 -> 0
A13: 45664 | B13: =Commercial_All!B13+Residential_All!B13 -> 40718.161 | C13: =Commercial_All!C13+Residential_All!C13 -> 38751.897 | D13: =Commercial_All!D13+Residential_All!D13 -> 36895.845 | E13: =Commercial_All!E13+Residential_All!E13 -> 36169.152 | F13: =Commercial_All!F13+Residential_All!F13 -> 36521.242 | G13: =Commercial_All!G13+Residential_All!G13 -> 38310.212 | H13: =Commercial_All!H13+Residential_All!H13 -> 43466.238 | I13: =Commercial_All!I13+Residential_All!I13 -> 46811.733 | ... Z13: =Commercial_All!Z13+Residential_All!Z13 -> 0
A14: 45665 | B14: =Commercial_All!B14+Residential_All!B14 -> 39021.926 | C14: =Commercial_All!C14+Residential_All!C14 -> 37415.849 | D14: =Commercial_All!D14+Residential_All!D14 -> 35628.154 | E14: =Commercial_All!E14+Residential_All!E14 -> 34984.457 | F14: =Commercial_All!F14+Residential_All!F14 -> 35514.914 | G14: =Commercial_All!G14+Residential_All!G14 -> 37470.514 | H14: =Commercial_All!H14+Residential_All!H14 -> 42744.824 | I14: =Commercial_All!I14+Residential_All!I14 -> 46306.684 | ... Z14: =Commercial_All!Z14+Residential_All!Z14 -> 0
A15: 45666 | B15: =Commercial_All!B15+Residential_All!B15 -> 39368.264 | C15: =Commercial_All!C15+Residential_All!C15 -> 37558.814 | D15: =Commercial_All!D15+Residential_All!D15 -> 35559.575 | E15: =Commercial_All!E15+Residential_All!E15 -> 34723.148 | F15: =Commercial_All!F15+Residential_All!F15 -> 35207.967 | G15: =Commercial_All!G15+Residential_All!G15 -> 36881.565 | H15: =Commercial_All!H15+Residential_All!H15 -> 41548.958 | I15: =Commercial_All!I15+Residential_All!I15 -> 44852.001 | ... Z15: =Commercial_All!Z15+Residential_All!Z15 -> 0
A16: 45667 | B16: =Commercial_All!B16+Residential_All!B16 -> 37155.058 | C16: =Commercial_All!C16+Residential_All!C16 -> 35488.61 | D16: =Commercial_All!D16+Residential_All!D16 -> 33848.006 | E16: =Commercial_All!E16+Residential_All!E16 -> 33115.02 | F16: =Commercial_All!F16+Residential_All!F16 -> 33643.803 | G16: =Commercial_All!G16+Residential_All!G16 -> 35728.169 | H16: =Commercial_All!H16+Residential_All!H16 -> 40516.106 | I16: =Commercial_All!I16+Residential_All!I16 -> 43767.133 | ... Z16: =Commercial_All!Z16+Residential_All!Z16 -> 0
A17: 45668 | B17: =Commercial_All!B17+Residential_All!B17 -> 37701.053 | C17: =Commercial_All!C17+Residential_All!C17 -> 36499.443 | D17: =Commercial_All!D17+Residential_All!D17 -> 34817.361 | E17: =Commercial_All!E17+Residential_All!E17 -> 34168.251 | F17: =Commercial_All!F17+Residential_All!F17 -> 34031.894 | G17: =Commercial_All!G17+Residential_All!G17 -> 34745.737 | H17: =Commercial_All!H17+Residential_All!H17 -> 36986.864 | I17: =Commercial_All!I17+Residential_All!I17 -> 40268.727 | ... Z17: =Commercial_All!Z17+Residential_All!Z17 -> 0
A18: 45669 | B18: =Commercial_All!B18+Residential_All!B18 -> 37296.457 | C18: =Commercial_All!C18+Residential_All!C18 -> 35908.386 | D18: =Commercial_All!D18+Residential_All!D18 -> 34199.936 | E18: =Commercial_All!E18+Residential_All!E18 -> 33465.519 | F18: =Commercial_All!F18+Residential_All!F18 -> 33284.565 | G18: =Commercial_All!G18+Residential_All!G18 -> 33781.212 | H18: =Commercial_All!H18+Residential_All!H18 -> 35638.79 | I18: =Commercial_All!I18+Residential_All!I18 -> 38886.738 | ... Z18: =Commercial_All!Z18+Residential_All!Z18 -> 0
... A645: 46296 | B645: =Commercial_All!B645+Residential_All!B645 -> 0 | C645: =Commercial_All!C645+Residential_All!C645 -> 0 | D645: =Commercial_All!D645+Residential_All!D645 -> 0 | E645: =Commercial_All!E645+Residential_All!E645 -> 0 | F645: =Commercial_All!F645+Residential_All!F645 -> 0 | G645: =Commercial_All!G645+Residential_All!G645 -> 0 | H645: =Commercial_All!H645+Residential_All!H645 -> 0 | I645: =Commercial_All!I645+Residential_All!I645 -> 0 | ... Z645: =Commercial_All!Z645+Residential_All!Z645 -> 0

Sheet Residential_All
A1: VERSANT POWER - Maine Public Service District
A2: SMALL STANDARD OFFER CLASS, All Residential Customers
A3: Note : Hourly loads include losses and unaccounted for energy (UFE), and are taken from the Daily Settlements
A4: Data in kWhs
A6: Date/Hour | B6: 1 | C6: 2 | D6: 3 | E6: 4 | F6: 5 | G6: 6 | H6: 7 | I6: 8 | J6: 9 | K6: 10 | L6: 11 | M6: 12 | N6: 13 | O6: 14 | P6: 15 | Q6: 16 | R6: 17 | S6: 18 | T6: 19 | U6: 20 | V6: 21 | W6: 22 | X6: 23 | Y6: 24 | Z6: 25
A7: 45658 | B7: 25177 | C7: 23827 | D7: 21910 | E7: 20972 | F7: 20517 | G7: 20810 | H7: 21835 | I7: 23986 | J7: 26499 | K7: 27628 | L7: 30881 | M7: 33930 | N7: 35333 | O7: 34825 | P7: 33628 | Q7: 35025 | R7: 38230 | S7: 38569 | T7: 36944 | U7: 35381 | V7: 33086 | W7: 30819 | X7: 28430 | Y7: 26275 | AB7: =MONTH(A7) -> 1 | AC7: =YEAR(A7) -> 2025 | AD7: =SUM(B7:Z7) -> 704517
A8: 45659 | B8: 24623 | C8: 23078 | D8: 21479 | E8: 20523 | F8: 20463 | G8: 21931 | H8: 25749 | I8: 27652 | J8: 28004 | K8: 27118 | L8: 29497 | M8: 30579 | N8: 29542 | O8: 28021 | P8: 27784 | Q8: 28717 | R8: 31929 | S8: 34501 | T8: 34431 | U8: 34299 | V8: 33906 | W8: 32650 | X8: 30207 | Y8: 27822 | AB8: =MONTH(A8) -> 1 | AC8: =YEAR(A8) -> 2025 | AD8: =SUM(B8:Z8) -> 674505
A9: 45660 | B9: 26978 | C9: 25366 | D9: 23481 | E9: 22498 | F9: 22453 | G9: 24273 | H9: 28172 | I9: 30302 | J9: 30941 | K9: 29713 | L9: 32018 | M9: 33021 | N9: 32213 | O9: 30391 | P9: 29757 | Q9: 30763 | R9: 33683 | S9: 36025 | T9: 36006 | U9: 36047 | V9: 35973 | W9: 35191 | X9: 33151 | Y9: 30595 | AB9: =MONTH(A9) -> 1 | AC9: =YEAR(A9) -> 2025 | AD9: =SUM(B9:Z9) -> 729011
A10: 45661 | B10: 28819 | C10: 27604 | D10: 25902 | E10: 25033 | F10: 24635 | G10: 25093 | H10: 26539 | I10: 29375 | J10: 32374 | K10: 33106 | L10: 36122 | M10: 39121 | N10: 40285 | O10: 39630 | P10: 38175 | Q10: 39323 | R10: 42824 | S10: 44307 | T10: 43027 | U10: 41588 | V10: 39636 | W10: 37849 | X10: 35527 | Y10: 33190 | AB10: =MONTH(A10) -> 1 | AC10: =YEAR(A10) -> 2025 | AD10: =SUM(B10:Z10) -> 829084
A11: 45662 | B11: 30720 | C11: 29341 | D11: 27508 | E11: 26762 | F11: 26285 | G11: 26371 | H11: 27500 | I11: 30071 | J11: 33335 | K11: 34020 | L11: 36835 | M11: 39873 | N11: 41104 | O11: 40456 | P11: 39380 | Q11: 40668 | R11: 44777 | S11: 46281 | T11: 45346 | U11: 43782 | V11: 41682 | W11: 39447 | X11: 36557 | Y11: 33974 | AB11: =MONTH(A11) -> 1 | AC11: =YEAR(A11) -> 2025 | AD11: =SUM(B11:Z11) -> 862075
A12: 45663 | B12: 31684 | C12: 29612 | D12: 27606 | E12: 26375 | F12: 26085 | G12: 28059 | H12: 32401 | I12: 34446 | J12: 33742 | K12: 31613 | L12: 33801 | M12: 34338 | N12: 33765 | O12: 31820 | P12: 31112 | Q12: 31818 | R12: 34961 | S12: 37600 | T12: 37425 | U12: 37305 | V12: 37173 | W12: 35985 | X12: 33347 | Y12: 30692 | AB12: =MONTH(A12) -> 1 | AC12: =YEAR(A12) -> 2025 | AD12: =SUM(B12:Z12) -> 782765
A13: 45664 | B13: 29584 | C13: 27591 | D13: 25616 | E13: 24503 | F13: 24298 | G13: 25902 | H13: 30137 | I13: 31958 | J13: 31832 | K13: 30188 | L13: 32313 | M13: 33106 | N13: 31963 | O13: 30073 | P13: 29206 | Q13: 29822 | R13: 33142 | S13: 35566 | T13: 35322 | U13: 35188 | V13: 34831 | W13: 33781 | X13: 31206 | Y13: 28598 | AB13: =MONTH(A13) -> 1 | AC13: =YEAR(A13) -> 2025 | AD13: =SUM(B13:Z13) -> 735726
A14: 45665 | B14: 28052 | C14: 26405 | D14: 24518 | E14: 23500 | F14: 23463 | G14: 25250 | H14: 29570 | I14: 31603 | J14: 31798 | K14: 30337 | L14: 32801 | M14: 33671 | N14: 32758 | O14: 30835 | P14: 30117 | Q14: 30844 | R14: 33990 | S14: 36540 | T14: 36373 | U14: 36413 | V14: 36084 | W14: 35002 | X14: 32403 | Y14: 29566 | AB14: =MONTH(A14) -> 1 | AC14: =YEAR(A14) -> 2025 | AD14: =SUM(B14:Z14) -> 741893
A15: 45666 | B15: 28197 | C15: 26375 | D15: 24271 | E15: 23069 | F15: 22994 | G15: 24505 | H15: 28241 | I15: 30013 | J15: 30065 | K15: 28426 | L15: 30455 | M15: 31420 | N15: 30229 | O15: 28418 | P15: 27590 | Q15: 28275 | R15: 31331 | S15: 33825 | T15: 33714 | U15: 33795 | V15: 33435 | W15: 32239 | X15: 29635 | Y15: 26982 | AB15: =MONTH(A15) -> 1 | AC15: =YEAR(A15) -> 2025 | AD15: =SUM(B15:Z15) -> 697499
A16: 45667 | B16: 26058 | C16: 24373 | D16: 22632 | E16: 21576 | F16: 21653 | G16: 23452 | H16: 27314 | I16: 29082 | J16: 29365 | K16: 28181 | L16: 30343 | M16: 31123 | N16: 29699 | O16: 28021 | P16: 27338 | Q16: 27812 | R16: 30543 | S16: 33112 | T16: 32721 | U16: 32869 | V16: 32939 | W16: 32295 | X16: 30364 | Y16: 27970 | AB16: =MONTH(A16) -> 1 | AC16: =YEAR(A16) -> 2025 | AD16: =SUM(B16:Z16) -> 680835
A17: 45668 | B17: 26622 | C17: 25619 | D17: 23908 | E17: 23039 | F17: 22602 | G17: 22959 | H17: 24529 | I17: 27113 | J17: 30147 | K17: 31033 | L17: 33751 | M17: 36209 | N17: 36926 | O17: 35805 | P17: 34484 | Q17: 35096 | R17: 38042 | S17: 39109 | T17: 37898 | U17: 36409 | V17: 34445 | W17: 32951 | X17: 30842 | Y17: 28535 | AB17: =MONTH(A17) -> 1 | AC17: =YEAR(A17) -> 2025 | AD17: =SUM(B17:Z17) -> 748073
A18: 45669 | B18: 26093 | C18: 24921 | D18: 23200 | E18: 22351 | F18: 22026 | G18: 22210 | H18: 23409 | I18: 25976 | J18: 29300 | K18: 30378 | L18: 33131 | M18: 36294 | N18: 37617 | O18: 36799 | P18: 35330 | Q18: 36272 | R18: 39892 | S18: 40989 | T18: 39840 | U18: 38070 | V18: 35986 | W18: 33801 | X18: 31115 | Y18: 28711 | AB18: =MONTH(A18) -> 1 | AC18: =YEAR(A18) -> 2025 | AD18: =SUM(B18:Z18) -> 753711
... A279: 45930 | B279: 17903.15 | C279: 16939.3 | D279: 15962.08 | E279: 15719.05 | F279: 15216.76 | G279: 16197.66 | H279: 17483.18 | I279: 18034.97 | J279: 19243.7 | K279: 20331.36 | L279: 18877.44 | M279: 19332.2 | N279: 20647.73 | O279: 18828.34 | P279: 17546.43 | Q279: 17692.7 | R279: 18957.41 | S279: 19362.59 | T279: 20368.88 | U279: 21964.26 | V279: 20848.24 | W279: 20014.12 | X279: 19522.51 | Y279: 19174.67 | AB279: =MONTH(A279) -> 9 | AC279: =YEAR(A279) -> 2025 | AD279: =SUM(B279:Z279) -> 446168.73
A280: =ALL!A280 -> 45931 | B280: 16680.316 | C280: 16216.237 | D280: 16065.957 | E280: 16058.979 | F280: 16581.78 | G280: 18737.24 | H280: 21360.424 | I280: 22550.249 | J280: 22460.652 | K280: 22431.542 | L280: 22691.915 | M280: 22477.673 | N280: 22355.002 | O280: 21350.144 | P280: 21049.945 | Q280: 21328.65 | R280: 22788.017 | S280: 23949.707 | T280: 25582.975 | U280: 25483.499 | V280: 24033.113 | W280: 21928.002 | X280: 19911.178 | Y280: 18386.372 | Z280: 0 | AB280: =MONTH(A280) -> 10 | AC280: =YEAR(A280) -> 2025 | AD280: =SUM(B280:Z280) -> 502459.57
A281: =ALL!A281 -> 45932 | B281: 17770.5 | C281: 17374.814 | D281: 17326.077 | E281: 17538.192 | F281: 18178.051 | G281: 19986.507 | H281: 22738.825 | I281: 24137.527 | J281: 23569.139 | K281: 23331.472 | L281: 23254.194 | M281: 22525.63 | N281: 22052.924 | O281: 21584.154 | P281: 20966.846 | Q281: 20859.076 | R281: 21718.251 | S281: 23160.118 | T281: 24812.286 | U281: 24981.814 | V281: 23746.638 | W281: 21863.042 | X281: 19933.304 | Y281: 18380.824 | Z281: 0 | AB281: =MONTH(A281) -> 10 | AC281: =YEAR(A281) -> 2025 | AD281: =SUM(B281:Z281) -> 511790.21
A282: =ALL!A282 -> 45933 | B282: 17527.852 | C282: 17067.98 | D282: 16985.963 | E282: 17029.523 | F282: 17697.978 | G282: 19471.097 | H282: 22224.982 | I282: 23422.942 | J282: 23140.964 | K282: 22710.378 | L282: 22391.656 | M282: 21925.645 | N282: 21442.169 | O282: 21271.276 | P282: 21057.607 | Q282: 20973.251 | R282: 20951.733 | S282: 21568.143 | T282: 22905.554 | U282: 22608.232 | V282: 21658.898 | W282: 20020.408 | X282: 18541.762 | Y282: 17399.161 | Z282: 0 | AB282: =MONTH(A282) -> 10 | AC282: =YEAR(A282) -> 2025 | AD282: =SUM(B282:Z282) -> 491995.15
A283: =ALL!A283 -> 45934 | B283: 16754.511 | C283: 16223.521 | D283: 16015.277 | E283: 15833.837 | F283: 16142.627 | G283: 17013.199 | H283: 18226.302 | I283: 19750.375 | J283: 20833.836 | K283: 21320.881 | L283: 21380.222 | M283: 20743.235 | N283: 21149.042 | O283: 20319.071 | P283: 19943.141 | Q283: 20005.046 | R283: 20243.836 | S283: 21182.122 | T283: 21957.006 | U283: 21934.141 | V283: 21202.464 | W283: 19894.505 | X283: 18610.982 | Y283: 17657.082 | Z283: 0 | AB283: =MONTH(A283) -> 10 | AC283: =YEAR(A283) -> 2025 | AD283: =SUM(B283:Z283) -> 464336.26
A284: =ALL!A284 -> 45935 | B284: 16883.893 | C284: 16379.443 | D284: 16032.139 | E284: 15931.901 | F284: 16119.166 | G284: 16706.932 | H284: 17631.883 | I284: 19167.719 | J284: 21140.741 | K284: 21769.41 | L284: 20960.838 | M284: 21271.069 | N284: 21097.328 | O284: 20891.447 | P284: 20433.925 | Q284: 21189.412 | R284: 21826.146 | S284: 22865.236 | T284: 24198.198 | U284: 23647.399 | V284: 22090.547 | W284: 20205.291 | X284: 18525.101 | Y284: 17336.824 | Z284: 0 | AB284: =MONTH(A284) -> 10 | AC284: =YEAR(A284) -> 2025 | AD284: =SUM(B284:Z284) -> 474301.99
A285: =ALL!A285 -> 45936 | B285: 16505.311 | C285: 15626.201 | D285: 15333.328 | E285: 15460.005 | F285: 15914.431 | G285: 17517.862 | H285: 20136.532 | I285: 21690.199 | J285: 21774.845 | K285: 22018.338 | L285: 22406.988 | M285: 22628.378 | N285: 22642.245 | O285: 22979.287 | P285: 22794.77 | Q285: 22605.478 | R285: 23124.35 | S285: 24059.109 | T285: 25319.814 | U285: 24677.03 | V285: 22809.304 | W285: 20608.31 | X285: 18763.998 | Y285: 17656.438 | Z285: 0 | AB285: =MONTH(A285) -> 10 | AC285: =YEAR(A285) -> 2025 | AD285: =SUM(B285:Z285) -> 495052.55
A286: =ALL!A286 -> 45937 | B286: 17074.148 | C286: 16538.231 | D286: 16241.884 | E286: 16362.369 | F286: 16678.869 | G286: 18403.736 | H286: 20697.423 | I286: 21551.263 | J286: 21499.159 | K286: 21729.807 | L286: 22438.171 | M286: 22352.279 | N286: 22667.567 | O286: 22444.966 | P286: 22447.772 | Q286: 22301.61 | R286: 23115.187 | S286: 23972.253 | T286: 25218.578 | U286: 24725.979 | V286: 23083.194 | W286: 21288.817 | X286: 19612.674 | Y286: 18124.919 | Z286: 0 | AB286: =MONTH(A286) -> 10 | AC286: =YEAR(A286) -> 2025 | AD286: =SUM(B286:Z286) -> 500570.85
A287: =ALL!A287 -> 45938 | B287: 16716.137 | C287: 16170.342 | D287: 15917.048 | E287: 15942.187 | F287: 16724.822 | G287: 18006.761 | H287: 20439.337 | I287: 22012.489 | J287: 22802.563 | K287: 23137.874 | L287: 23685.164 | M287: 23809.513 | N287: 23639.529 | O287: 23633.479 | P287: 22380.053 | Q287: 22957.09 | R287: 23627.547 | S287: 24999.793 | T287: 25828.565 | U287: 25300.476 | V287: 23992.648 | W287: 21530.644 | X287: 19997.07 | Y287: 18892.949 | Z287: 0 | AB287: =MONTH(A287) -> 10 | AC287: =YEAR(A287) -> 2025 | AD287: =SUM(B287:Z287) -> 512144.08
A288: =ALL!A288 -> 45939 | B288: 18254.727 | C288: 17831.679 | D288: 17477.74 | E288: 17440.879 | F288: 18039.818 | G288: 19992.84 | H288: 22965.805 | I288: 24469.394 | J288: 24599.356 | K288: 24452.763 | L288: 24932.316 | M288: 24987.575 | N288: 24793.811 | O288: 24768.908 | P288: 24654.03 | Q288: 24299.257 | R288: 24851.067 | S288: 26195.727 | T288: 27555.518 | U288: 27190.329 | V288: 25400.141 | W288: 23435.462 | X288: 21855.285 | Y288: 20356.652 | Z288: 0 | AB288: =MONTH(A288) -> 10 | AC288: =YEAR(A288) -> 2025 | AD288: =SUM(B288:Z288) -> 550801.08
A289: =ALL!A289 -> 45940 | B289: 19548.334 | C289: 19070.654 | D289: 18909.084 | E289: 19087.764 | F289: 19797.912 | G289: 21426.743 | H289: 24092.85 | I289: 25119.976 | J289: 25153.86 | K289: 24328.845 | L289: 24084.791 | M289: 23422.47 | N289: 22893.117 | O289: 22220.403 | P289: 21395.229 | Q289: 21519.944 | R289: 22146.338 | S289: 24241.54 | T289: 25872.261 | U289: 25300.27 | V289: 24227.597 | W289: 22709.397 | X289: 21022.017 | Y289: 19755.882 | Z289: 0 | AB289: =MONTH(A289) -> 10 | AC289: =YEAR(A289) -> 2025 | AD289: =SUM(B289:Z289) -> 537347.28
A290: =ALL!A290 -> 45941 | B290: 19042.549 | C290: 18519.365 | D290: 18262.774 | E290: 18374.857 | F290: 18646.603 | G290: 19624.148 | H290: 21138.691 | I290: 22426.402 | J290: 23519.582 | K290: 23494.779 | L290: 23118.182 | M290: 22175.932 | N290: 21833.874 | O290: 21442.11 | P290: 20962.876 | Q290: 20511.239 | R290: 21494.509 | S290: 22706.827 | T290: 24108.956 | U290: 23781.608 | V290: 23004.409 | W290: 21623.673 | X290: 20046.019 | Y290: 19032.819 | Z290: 0 | AB290: =MONTH(A290) -> 10 | AC290: =YEAR(A290) -> 2025 | AD290: =SUM(B290:Z290) -> 508892.78
A291: =ALL!A291 -> 45942 | B291: 18385.167 | C291: 17904.45 | D291: 17785.371 | E291: 17864.198 | F291: 18065.264 | G291: 18940.267 | H291: 20107.039 | I291: 21786.543 | J291: 23359.997 | K291: 23431.545 | L291: 22975.831 | M291: 22317.202 | N291: 21958.329 | O291: 21400.534 | P291: 21083.71 | Q291: 20903.83 | R291: 22059.447 | S291: 23892.54 | T291: 25506.204 | U291: 24824.161 | V291: 23592.565 | W291: 21814.909 | X291: 20285.116 | Y291: 19121.99 | Z291: 0 | AB291: =MONTH(A291) -> 10 | AC291: =YEAR(A291) -> 2025 | AD291: =SUM(B291:Z291) -> 509366.21
... A522: =ALL!A522 -> 46173 | B522: 15895.471 | C522: 15351.137 | D522: 15200.056 | E522: 15162.718 | F522: 15265.386 | G522: 15510.895 | H522: 15985.858 | I522: 17017.479 | J522: 18346.205 | K522: 19404.703 | L522: 19583.847 | M522: 19592.28 | N522: 19740.004 | O522: 19068.63 | P522: 19137.443 | Q522: 19365.162 | R522: 20292.906 | S522: 20839.532 | T522: 20318.58 | U522: 20472.558 | V522: 20915.292 | W522: 20059.387 | X522: 17917.257 | Y522: 16170.611 | Z522: 0 | AB522: =MONTH(A522) -> 5 | AC522: =YEAR(A522) -> 2026 | AD522: =SUM(B522:Z522) -> 436613.4
A523: =ALL!A523 -> 46174 | AB523: =MONTH(A523) -> 6 | AC523: =YEAR(A523) -> 2026 | AD523: =SUM(B523:Z523) -> 0
A524: =ALL!A524 -> 46175 | AB524: =MONTH(A524) -> 6 | AC524: =YEAR(A524) -> 2026 | AD524: =SUM(B524:Z524) -> 0
A525: =ALL!A525 -> 46176 | AB525: =MONTH(A525) -> 6 | AC525: =YEAR(A525) -> 2026 | AD525: =SUM(B525:Z525) -> 0
A526: =ALL!A526 -> 46177 | AB526: =MONTH(A526) -> 6 | AC526: =YEAR(A526) -> 2026 | AD526: =SUM(B526:Z526) -> 0
A527: =ALL!A527 -> 46178 | AB527: =MONTH(A527) -> 6 | AC527: =YEAR(A527) -> 2026 | AD527: =SUM(B527:Z527) -> 0
A528: =ALL!A528 -> 46179 | AB528: =MONTH(A528) -> 6 | AC528: =YEAR(A528) -> 2026 | AD528: =SUM(B528:Z528) -> 0
A529: =ALL!A529 -> 46180 | AB529: =MONTH(A529) -> 6 | AC529: =YEAR(A529) -> 2026 | AD529: =SUM(B529:Z529) -> 0
A530: =ALL!A530 -> 46181 | AB530: =MONTH(A530) -> 6 | AC530: =YEAR(A530) -> 2026 | AD530: =SUM(B530:Z530) -> 0
A531: =ALL!A531 -> 46182 | AB531: =MONTH(A531) -> 6 | AC531: =YEAR(A531) -> 2026 | AD531: =SUM(B531:Z531) -> 0
A532: =ALL!A532 -> 46183 | AB532: =MONTH(A532) -> 6 | AC532: =YEAR(A532) -> 2026 | AD532: =SUM(B532:Z532) -> 0
A533: =ALL!A533 -> 46184 | AB533: =MONTH(A533) -> 6 | AC533: =YEAR(A533) -> 2026 | AD533: =SUM(B533:Z533) -> 0
A534: =ALL!A534 -> 46185 | AB534: =MONTH(A534) -> 6 | AC534: =YEAR(A534) -> 2026 | AD534: =SUM(B534:Z534) -> 0
... A644: =ALL!A644 -> 46295 | AB644: =MONTH(A644) -> 9 | AC644: =YEAR(A644) -> 2026 | AD644: =SUM(B644:Z644) -> 0
A645: =ALL!A645 -> 46296

Sheet Commercial_All
A1: VERSANT POWER - Maine Public Service District
A2: SMALL STANDARD OFFER CLASS, All Commerical Customers
A3: Note : Hourly loads include losses and unaccounted for energy (UFE), and are taken from the Daily Settlements
A4: Data in kWhs
A6: Date/Hour | B6: 1 | C6: 2 | D6: 3 | E6: 4 | F6: 5 | G6: 6 | H6: 7 | I6: 8 | J6: 9 | K6: 10 | L6: 11 | M6: 12 | N6: 13 | O6: 14 | P6: 15 | Q6: 16 | R6: 17 | S6: 18 | T6: 19 | U6: 20 | V6: 21 | W6: 22 | X6: 23 | Y6: 24 | Z6: 25
A7: 45658 | B7: 10604.899 | C7: 10326.626 | D7: 10334.811 | E7: 10386.1 | F7: 10649.64 | G7: 10977.565 | H7: 11578.306 | I7: 12231.427 | J7: 12549.53 | K7: 13347.789 | L7: 13437.273 | M7: 12844.717 | N7: 12359.105 | O7: 12072.102 | P7: 12103.203 | Q7: 11861.489 | R7: 11753.453 | S7: 12247.796 | T7: 12445.86 | U7: 11840.755 | V7: 11842.391 | W7: 11405.886 | X7: 10765.86 | Y7: 10742.943 | AB7: =MONTH(A7) -> 1 | AC7: =YEAR(A7) -> 2025 | AD7: =SUM(B7:Z7) -> 280709.53
A8: 45659 | B8: 10567.25 | C8: 10595.623 | D8: 10770.225 | E8: 11201.274 | F8: 11685.249 | G8: 11747.997 | H8: 12590.453 | I8: 14057.111 | J8: 14694.954 | K8: 15842.418 | L8: 16637.403 | M8: 16653.227 | N8: 16350.401 | O8: 16265.282 | P8: 16134.331 | Q8: 16362.95 | R8: 16499.358 | S8: 15574.513 | T8: 14606.562 | U8: 13618.423 | V8: 12991.492 | W8: 11967.341 | X8: 11417.89 | Y8: 11366.055 | AB8: =MONTH(A8) -> 1 | AC8: =YEAR(A8) -> 2025 | AD8: =SUM(B8:Z8) -> 330197.78
A9: 45660 | B9: 10818.786 | C9: 10854.252 | D9: 10963.379 | E9: 11285.301 | F9: 11737.63 | G9: 12014.811 | H9: 12921.105 | I9: 14338.657 | J9: 14931.758 | K9: 16059.579 | L9: 16846.38 | M9: 16856.747 | N9: 16557.741 | O9: 16434.974 | P9: 16310.024 | Q9: 16557.195 | R9: 16693.058 | S9: 15774.214 | T9: 14783.892 | U9: 13796.844 | V9: 13183.009 | W9: 12143.035 | X9: 11599.585 | Y9: 11548.296 | AB9: =MONTH(A9) -> 1 | AC9: =YEAR(A9) -> 2025 | AD9: =SUM(B9:Z9) -> 335010.25
A10: 45661 | B10: 10844.431 | C10: 10662.19 | D10: 10723.301 | E10: 10782.775 | F10: 11058.864 | G10: 11435.35 | H10: 12065.009 | I10: 12713.765 | J10: 13029.14 | K10: 13835.039 | L10: 13855.227 | M10: 13237.026 | N10: 12699.579 | O10: 12395.116 | P10: 12446.951 | Q10: 12175.772 | R10: 12107.568 | S10: 12631.921 | T10: 12794.519 | U10: 12203.6 | V10: 12199.78 | W10: 11759.455 | X10: 11122.703 | Y10: 11095.422 | AB10: =MONTH(A10) -> 1 | AC10: =YEAR(A10) -> 2025 | AD10: =SUM(B10:Z10) -> 289874.5
A11: 45662 | B11: 10873.349 | C11: 10693.837 | D11: 10743.489 | E11: 10841.157 | F11: 11127.068 | G11: 11463.723 | H11: 12093.382 | I11: 12725.769 | J11: 13060.241 | K11: 13846.497 | L11: 13875.415 | M11: 13231.024 | N11: 12730.68 | O11: 12438.221 | P11: 12501.515 | Q11: 12246.159 | R11: 12189.959 | S11: 12701.761 | T11: 12874.727 | U11: 12289.809 | V11: 12285.444 | W11: 11827.659 | X11: 11175.084 | Y11: 11128.159 | AB11: =MONTH(A11) -> 1 | AC11: =YEAR(A11) -> 2025 | AD11: =SUM(B11:Z11) -> 290964.13
A12: 45663 | B12: 11131.433 | C12: 11171.264 | D12: 11310.946 | E12: 11619.228 | F12: 12058.462 | G12: 12294.175 | H12: 13198.286 | I12: 14687.861 | J12: 15307.153 | K12: 16437.156 | L12: 17223.412 | M12: 17200.495 | N12: 17014.435 | O12: 16862.749 | P12: 16715.429 | Q12: 16969.693 | R12: 17046.081 | S12: 16061.762 | T12: 15047.432 | U12: 14050.017 | V12: 13398.533 | W12: 12345.464 | X12: 11768.186 | Y12: 11700.527 | AB12: =MONTH(A12) -> 1 | AC12: =YEAR(A12) -> 2025 | AD12: =SUM(B12:Z12) -> 342620.18
A13: 45664 | B13: 11134.161 | C13: 11160.897 | D13: 11279.845 | E13: 11666.152 | F13: 12223.242 | G13: 12408.212 | H13: 13329.238 | I13: 14853.733 | J13: 15500.852 | K13: 16694.695 | L13: 17522.418 | M13: 17513.688 | N13: 17221.775 | O13: 17062.45 | P13: 16809.823 | Q13: 16968.602 | R13: 17039.534 | S13: 16042.119 | T13: 15040.339 | U13: 14032.012 | V13: 13384.892 | W13: 12328.004 | X13: 11766.003 | Y13: 11687.432 | AB13: =MONTH(A13) -> 1 | AC13: =YEAR(A13) -> 2025 | AD13: =SUM(B13:Z13) -> 344670.12
A14: 45665 | B14: 10969.926 | C14: 11010.849 | D14: 11110.154 | E14: 11484.457 | F14: 12051.914 | G14: 12220.514 | H14: 13174.824 | I14: 14703.684 | J14: 15357.351 | K14: 16521.184 | L14: 17344.542 | M14: 17397.468 | N14: 17111.012 | O14: 16972.421 | P14: 16793.454 | Q14: 16895.487 | R14: 16991.518 | S14: 16007.199 | T14: 15003.782 | U14: 13986.179 | V14: 13347.789 | W14: 12301.813 | X14: 11715.805 | Y14: 11641.599 | AB14: =MONTH(A14) -> 1 | AC14: =YEAR(A14) -> 2025 | AD14: =SUM(B14:Z14) -> 342114.92
A15: 45666 | B15: 11171.264 | C15: 11183.814 | D15: 11288.575 | E15: 11654.148 | F15: 12213.967 | G15: 12376.565 | H15: 13307.958 | I15: 14839.001 | J15: 15500.307 | K15: 16722.522 | L15: 17573.707 | M15: 17595.533 | N15: 17269.245 | O15: 17111.012 | P15: 16853.473 | Q15: 17042.262 | R15: 17130.654 | S15: 16168.706 | T15: 15148.374 | U15: 14131.317 | V15: 13496.201 | W15: 12439.858 | X15: 11853.85 | Y15: 11774.187 | AB15: =MONTH(A15) -> 1 | AC15: =YEAR(A15) -> 2025 | AD15: =SUM(B15:Z15) -> 345846.5
A16: 45667 | B16: 11097.058 | C16: 11115.61 | D16: 11216.006 | E16: 11539.02 | F16: 11990.803 | G16: 12276.169 | H16: 13202.106 | I16: 14685.133 | J16: 15363.899 | K16: 16509.18 | L16: 17342.359 | M16: 17364.185 | N16: 17026.984 | O16: 16898.761 | P16: 16751.44 | Q16: 16978.423 | R16: 17109.375 | S16: 16155.065 | T16: 15131.46 | U16: 14127.497 | V16: 13506.023 | W16: 12445.315 | X16: 11878.949 | Y16: 11811.836 | AB16: =MONTH(A16) -> 1 | AC16: =YEAR(A16) -> 2025 | AD16: =SUM(B16:Z16) -> 343522.65
A17: 45668 | B17: 11079.053 | C17: 10880.443 | D17: 10909.361 | E17: 11129.251 | F17: 11429.894 | G17: 11786.737 | H17: 12457.864 | I17: 13155.727 | J17: 13510.933 | K17: 14353.934 | L17: 14380.67 | M17: 13711.18 | N17: 13166.64 | O17: 12839.806 | P17: 12874.181 | Q17: 12587.179 | R17: 12494.421 | S17: 13009.498 | T17: 13194.467 | U17: 12574.084 | V17: 12584.996 | W17: 12138.124 | X17: 11465.906 | Y17: 11448.991 | AB17: =MONTH(A17) -> 1 | AC17: =YEAR(A17) -> 2025 | AD17: =SUM(B17:Z17) -> 299163.34
A18: 45669 | B18: 11203.457 | C18: 10987.386 | D18: 10999.936 | E18: 11114.519 | F18: 11258.565 | G18: 11571.212 | H18: 12229.79 | I18: 12910.738 | J18: 13297.591 | K18: 14154.779 | L18: 14214.253 | M18: 13562.768 | N18: 13040.053 | O18: 12716.493 | P18: 12750.323 | Q18: 12457.864 | R18: 12412.577 | S18: 12913.467 | T18: 13121.898 | U18: 12485.146 | V18: 12500.969 | W18: 12059.007 | X18: 11366.055 | Y18: 11321.313 | AB18: =MONTH(A18) -> 1 | AC18: =YEAR(A18) -> 2025 | AD18: =SUM(B18:Z18) -> 296650.16
... A279: 45930 | B279: 6456.681 | C279: 6378.5755 | D279: 6431.1005 | E279: 6810.881 | F279: 7856.178 | G279: 9734.802 | H279: 11797.957 | I279: 13002.127 | J279: 13584.225 | K279: 12817.64 | L279: 12885.505 | M279: 12980.479 | N279: 12592.91 | O279: 12781.818 | P279: 12764.785 | Q279: 13295.024 | R279: 13481.721 | S279: 14109.744 | T279: 15044.843 | U279: 13736.586 | V279: 12116.401 | W279: 10008.273 | X279: 8394.4355 | Y279: 7112.4735 | AB279: =MONTH(A279) -> 9 | AC279: =YEAR(A279) -> 2025 | AD279: =SUM(B279:Z279) -> 266175.16
A280: =ALL!A280 -> 45931 | B280: 6807.5082 | C280: 6618.1098 | D280: 6556.7782 | E280: 6553.9306 | F280: 6767.294 | G280: 7646.9721 | H280: 8717.5363 | I280: 9203.1232 | J280: 9166.5572 | K280: 9154.6771 | L280: 9260.9393 | M280: 9173.5039 | N280: 9123.4399 | O280: 8713.3407 | P280: 8590.8246 | Q280: 8704.5688 | R280: 9300.1601 | S280: 9774.2649 | T280: 10440.828 | U280: 10400.23 | V280: 9808.304 | W280: 8949.1743 | X280: 8126.0753 | Y280: 7503.7774 | Z280: 0 | AB280: =MONTH(A280) -> 10 | AC280: =YEAR(A280) -> 2025 | AD280: =SUM(B280:Z280) -> 205061.92
A281: =ALL!A281 -> 45932 | B281: 7252.4301 | C281: 7090.9439 | D281: 7071.0538 | E281: 7157.6212 | F281: 7418.758 | G281: 8156.8183 | H281: 9280.0843 | I281: 9850.9174 | J281: 9618.949 | K281: 9521.9531 | L281: 9490.4145 | M281: 9193.0757 | N281: 9000.157 | O281: 8808.8441 | P281: 8556.9109 | Q281: 8512.9279 | R281: 8863.5714 | S281: 9452.0207 | T281: 10126.297 | U281: 10195.485 | V281: 9691.3891 | W281: 8922.663 | X281: 8135.1053 | Y281: 7501.5132 | Z281: 0 | AB281: =MONTH(A281) -> 10 | AC281: =YEAR(A281) -> 2025 | AD281: =SUM(B281:Z281) -> 208869.9
A282: =ALL!A282 -> 45933 | B282: 7153.4016 | C282: 6965.72 | D282: 6932.2475 | E282: 6950.0254 | F282: 7222.8324 | G282: 7946.4713 | H282: 9070.3763 | I282: 9559.2835 | J282: 9444.2036 | K282: 9268.4744 | L282: 9138.399 | M282: 8948.2122 | N282: 8750.8978 | O282: 8681.1535 | P282: 8593.9519 | Q282: 8559.5246 | R282: 8550.743 | S282: 8802.3097 | T282: 9348.1288 | U282: 9226.7869 | V282: 8839.3483 | W282: 8170.6538 | X282: 7567.1947 | Y282: 7100.8805 | Z282: 0 | AB282: =MONTH(A282) -> 10 | AC282: =YEAR(A282) -> 2025 | AD282: =SUM(B282:Z282) -> 200791.22
A283: =ALL!A283 -> 45934 | B283: 6837.7882 | C283: 6621.0829 | D283: 6536.0948 | E283: 6462.0465 | F283: 6588.0685 | G283: 6943.3632 | H283: 7438.4504 | I283: 8060.4493 | J283: 8502.6272 | K283: 8701.398 | L283: 8725.6162 | M283: 8465.6513 | N283: 8631.2679 | O283: 8292.5431 | P283: 8139.12 | Q283: 8164.3847 | R283: 8261.8387 | S283: 8644.7683 | T283: 8961.0109 | U283: 8951.6795 | V283: 8653.0701 | W283: 8119.2709 | X283: 7595.4445 | Y283: 7206.142 | Z283: 0 | AB283: =MONTH(A283) -> 10 | AC283: =YEAR(A283) -> 2025 | AD283: =SUM(B283:Z283) -> 189503.18
A284: =ALL!A284 -> 45935 | B284: 6890.5914 | C284: 6684.7172 | D284: 6542.9764 | E284: 6502.0678 | F284: 6578.4936 | G284: 6818.3707 | H284: 7195.8582 | I284: 7822.6579 | J284: 8627.8801 | K284: 8884.4501 | L284: 8554.4587 | M284: 8681.0691 | N284: 8610.1625 | O284: 8526.139 | P284: 8339.417 | Q284: 8647.7437 | R284: 8907.605 | S284: 9331.6747 | T284: 9875.6781 | U284: 9650.8879 | V284: 9015.5116 | W284: 8246.1079 | X284: 7560.3951 | Y284: 7075.4398 | Z284: 0 | AB284: =MONTH(A284) -> 10 | AC284: =YEAR(A284) -> 2025 | AD284: =SUM(B284:Z284) -> 193570.35
A285: =ALL!A285 -> 45936 | B285: 6736.0857 | C285: 6377.3068 | D285: 6257.7805 | E285: 6309.4794 | F285: 6494.9378 | G285: 7149.3242 | H285: 8218.0462 | I285: 8852.1229 | J285: 8886.6684 | K285: 8986.0417 | L285: 9144.6561 | M285: 9235.0091 | N285: 9240.6682 | O285: 9378.2207 | P285: 9302.9161 | Q285: 9225.6633 | R285: 9437.4232 | S285: 9818.9133 | T285: 10333.428 | U285: 10071.097 | V285: 9308.8477 | W285: 8410.5864 | X285: 7657.8925 | Y285: 7205.8792 | Z285: 0 | AB285: =MONTH(A285) -> 10 | AC285: =YEAR(A285) -> 2025 | AD285: =SUM(B285:Z285) -> 202038.99
A286: =ALL!A286 -> 45937 | B286: 6968.2373 | C286: 6749.5209 | D286: 6628.5769 | E286: 6677.7488 | F286: 6806.9175 | G286: 7510.8639 | H286: 8446.9547 | I286: 8795.4209 | J286: 8774.1564 | K286: 8868.2877 | L286: 9157.3825 | M286: 9122.3283 | N286: 9251.0027 | O286: 9160.1554 | P286: 9161.3008 | Q286: 9101.6497 | R286: 9433.6834 | S286: 9783.4661 | T286: 10292.112 | U286: 10091.074 | V286: 9420.6267 | W286: 8688.3124 | X286: 8004.2512 | Y286: 7397.0739 | Z286: 0 | AB286: =MONTH(A286) -> 10 | AC286: =YEAR(A286) -> 2025 | AD286: =SUM(B286:Z286) -> 204291.1
A287: =ALL!A287 -> 45938 | B287: 6822.1274 | C287: 6599.3795 | D287: 6496.006 | E287: 6506.2657 | F287: 6825.6719 | G287: 7348.8521 | H287: 8341.6257 | I287: 8983.6546 | J287: 9306.0965 | K287: 9442.9425 | L287: 9666.3004 | M287: 9717.0492 | N287: 9647.6762 | O287: 9645.2071 | P287: 9133.6634 | Q287: 9369.1618 | R287: 9642.7863 | S287: 10202.822 | T287: 10541.057 | U287: 10325.536 | V287: 9791.7896 | W287: 8787.0057 | X287: 8161.1295 | Y287: 7710.5196 | Z287: 0 | AB287: =MONTH(A287) -> 10 | AC287: =YEAR(A287) -> 2025 | AD287: =SUM(B287:Z287) -> 209014.33
A288: =ALL!A288 -> 45939 | B288: 7450.0507 | C288: 7277.3982 | D288: 7132.9497 | E288: 7117.9061 | F288: 7362.3428 | G288: 8159.4031 | H288: 9372.7183 | I288: 9986.3576 | J288: 10039.397 | K288: 9979.5701 | L288: 10175.283 | M288: 10197.835 | N288: 10118.757 | O288: 10108.594 | P288: 10061.71 | Q288: 9916.9219 | R288: 10142.124 | S288: 10690.902 | T288: 11245.855 | U288: 11096.815 | V288: 10366.21 | W288: 9564.3929 | X288: 8919.4971 | Y288: 8307.8808 | Z288: 0 | AB288: =MONTH(A288) -> 10 | AC288: =YEAR(A288) -> 2025 | AD288: =SUM(B288:Z288) -> 224790.87
A289: =ALL!A289 -> 45940 | B289: 7977.9931 | C289: 7783.0441 | D289: 7717.1046 | E289: 7790.0269 | F289: 8079.8499 | G289: 8744.6021 | H289: 9832.6838 | I289: 10251.871 | J289: 10265.699 | K289: 9928.9973 | L289: 9829.3949 | M289: 9559.0906 | N289: 9343.0532 | O289: 9068.5076 | P289: 8731.7407 | Q289: 8782.639 | R289: 9038.2807 | S289: 9893.3668 | T289: 10558.891 | U289: 10325.451 | V289: 9887.6763 | W289: 9268.0741 | X289: 8579.4268 | Y289: 8062.6966 | Z289: 0 | AB289: =MONTH(A289) -> 10 | AC289: =YEAR(A289) -> 2025 | AD289: =SUM(B289:Z289) -> 219300.16
A290: =ALL!A290 -> 45941 | B290: 7771.5739 | C290: 7558.0538 | D290: 7453.3348 | E290: 7499.0779 | F290: 7609.9817 | G290: 8008.9338 | H290: 8627.0434 | I290: 9152.5794 | J290: 9598.7238 | K290: 9588.6015 | L290: 9434.9059 | M290: 9050.3584 | N290: 8910.7588 | O290: 8750.8737 | P290: 8555.2905 | Q290: 8370.9702 | R290: 8772.2587 | S290: 9267.0252 | T290: 9839.2567 | U290: 9705.6611 | V290: 9388.4732 | W290: 8824.9727 | X290: 8181.1064 | Y290: 7767.6027 | Z290: 0 | AB290: =MONTH(A290) -> 10 | AC290: =YEAR(A290) -> 2025 | AD290: =SUM(B290:Z290) -> 207687.42
A291: =ALL!A291 -> 45942 | B291: 7503.2855 | C291: 7307.0971 | D291: 7258.4991 | E291: 7290.6695 | F291: 7372.7279 | G291: 7729.831 | H291: 8206.0094 | I291: 8891.4426 | J291: 9533.5945 | K291: 9562.7943 | L291: 9376.8102 | M291: 9108.0129 | N291: 8961.551 | O291: 8733.906 | P291: 8604.6047 | Q291: 8531.1929 | R291: 9002.8189 | S291: 9750.934 | T291: 10409.497 | U291: 10131.144 | V291: 9628.5095 | W291: 8903.0188 | X291: 8278.6858 | Y291: 7803.9951 | Z291: 0 | AB291: =MONTH(A291) -> 10 | AC291: =YEAR(A291) -> 2025 | AD291: =SUM(B291:Z291) -> 207880.63
... A522: =ALL!A522 -> 46173 | B522: 6487.2003 | C522: 6265.0485 | D522: 6203.3901 | E522: 6188.1519 | F522: 6230.0521 | G522: 6330.2483 | H522: 6524.0886 | I522: 6945.1099 | J522: 7487.3844 | K522: 7919.3747 | L522: 7992.4864 | M522: 7995.9278 | N522: 8056.2164 | O522: 7782.2179 | P522: 7810.3016 | Q522: 7903.2375 | R522: 8281.8649 | S522: 8504.9518 | T522: 8292.3428 | U522: 8355.1839 | V522: 8535.8708 | W522: 8186.5619 | X522: 7312.3241 | Y522: 6599.4893 | Z522: 0 | AB522: =MONTH(A522) -> 5 | AC522: =YEAR(A522) -> 2026 | AD522: =SUM(B522:Z522) -> 178189.03
A523: =ALL!A523 -> 46174 | AB523: =MONTH(A523) -> 6 | AC523: =YEAR(A523) -> 2026 | AD523: =SUM(B523:Z523) -> 0
A524: =ALL!A524 -> 46175 | AB524: =MONTH(A524) -> 6 | AC524: =YEAR(A524) -> 2026 | AD524: =SUM(B524:Z524) -> 0
A525: =ALL!A525 -> 46176 | AB525: =MONTH(A525) -> 6 | AC525: =YEAR(A525) -> 2026 | AD525: =SUM(B525:Z525) -> 0
A526: =ALL!A526 -> 46177 | AB526: =MONTH(A526) -> 6 | AC526: =YEAR(A526) -> 2026 | AD526: =SUM(B526:Z526) -> 0
A527: =ALL!A527 -> 46178 | AB527: =MONTH(A527) -> 6 | AC527: =YEAR(A527) -> 2026 | AD527: =SUM(B527:Z527) -> 0
A528: =ALL!A528 -> 46179 | AB528: =MONTH(A528) -> 6 | AC528: =YEAR(A528) -> 2026 | AD528: =SUM(B528:Z528) -> 0
A529: =ALL!A529 -> 46180 | AB529: =MONTH(A529) -> 6 | AC529: =YEAR(A529) -> 2026 | AD529: =SUM(B529:Z529) -> 0
A530: =ALL!A530 -> 46181 | AB530: =MONTH(A530) -> 6 | AC530: =YEAR(A530) -> 2026 | AD530: =SUM(B530:Z530) -> 0
A531: =ALL!A531 -> 46182 | AB531: =MONTH(A531) -> 6 | AC531: =YEAR(A531) -> 2026 | AD531: =SUM(B531:Z531) -> 0
A532: =ALL!A532 -> 46183 | AB532: =MONTH(A532) -> 6 | AC532: =YEAR(A532) -> 2026 | AD532: =SUM(B532:Z532) -> 0
A533: =ALL!A533 -> 46184 | AB533: =MONTH(A533) -> 6 | AC533: =YEAR(A533) -> 2026 | AD533: =SUM(B533:Z533) -> 0
A534: =ALL!A534 -> 46185 | AB534: =MONTH(A534) -> 6 | AC534: =YEAR(A534) -> 2026 | AD534: =SUM(B534:Z534) -> 0
... A644: =ALL!A644 -> 46295 | AB644: =MONTH(A644) -> 9 | AC644: =YEAR(A644) -> 2026 | AD644: =SUM(B644:Z644) -> 0
A645: =ALL!A645 -> 46296

Sheet STof
A1: VERSANT POWER - Maine Public Service District
A2: SMALL STANDARD OFFER CLASS, Standard offer Customers
A3: Note : Hourly loads include losses and unaccounted for energy (UFE), and are taken from the Daily Settlements
A4: Data in kWhs
A6: Date/Hour | B6: 1 | C6: 2 | D6: 3 | E6: 4 | F6: 5 | G6: 6 | H6: 7 | I6: 8 | J6: 9 | K6: 10 | L6: 11 | M6: 12 | N6: 13 | O6: 14 | P6: 15 | Q6: 16 | R6: 17 | S6: 18 | T6: 19 | U6: 20 | V6: 21 | W6: 22 | X6: 23 | Y6: 24 | Z6: 25
A7: =ALL!A7 -> 45658 | B7: =Residential_SO!B7+Commercial_SO!B7 -> 34365.987 | C7: =Residential_SO!C7+Commercial_SO!C7 -> 32775.212 | D7: =Residential_SO!D7+Commercial_SO!D7 -> 30867.323 | E7: =Residential_SO!E7+Commercial_SO!E7 -> 29974.886 | F7: =Residential_SO!F7+Commercial_SO!F7 -> 29748.861 | G7: =Residential_SO!G7+Commercial_SO!G7 -> 30326.775 | H7: =Residential_SO!H7+Commercial_SO!H7 -> 31872.724 | I7: =Residential_SO!I7+Commercial_SO!I7 -> 34589.184 | ... Z7: =Residential_SO!Z7+Commercial_SO!Z7 -> 0
A8: =ALL!A8 -> 45659 | B8: =Residential_SO!B8+Commercial_SO!B8 -> 33779.276 | C8: =Residential_SO!C8+Commercial_SO!C8 -> 32260.928 | D8: =Residential_SO!D8+Commercial_SO!D8 -> 30814.63 | E8: =Residential_SO!E8+Commercial_SO!E8 -> 30234.143 | F8: =Residential_SO!F8+Commercial_SO!F8 -> 30594.642 | G8: =Residential_SO!G8+Commercial_SO!G8 -> 32116.16 | H8: =Residential_SO!H8+Commercial_SO!H8 -> 36662.121 | I8: =Residential_SO!I8+Commercial_SO!I8 -> 39837.416 | ... Z8: =Residential_SO!Z8+Commercial_SO!Z8 -> 0
A9: =ALL!A9 -> 45660 | B9: =Residential_SO!B9+Commercial_SO!B9 -> 36350.822 | C9: =Residential_SO!C9+Commercial_SO!C9 -> 34771.636 | D9: =Residential_SO!D9+Commercial_SO!D9 -> 32983.45 | E9: =Residential_SO!E9+Commercial_SO!E9 -> 32281.15 | F9: =Residential_SO!F9+Commercial_SO!F9 -> 32629.152 | G9: =Residential_SO!G9+Commercial_SO!G9 -> 34687.979 | H9: =Residential_SO!H9+Commercial_SO!H9 -> 39370.406 | I9: =Residential_SO!I9+Commercial_SO!I9 -> 42730.035 | ... Z9: =Residential_SO!Z9+Commercial_SO!Z9 -> 0
A10: =ALL!A10 -> 45661 | B10: =Residential_SO!B10+Commercial_SO!B10 -> 38213.103 | C10: =Residential_SO!C10+Commercial_SO!C10 -> 36840.764 | D10: =Residential_SO!D10+Commercial_SO!D10 -> 35192.86 | E10: =Residential_SO!E10+Commercial_SO!E10 -> 34376.533 | F10: =Residential_SO!F10+Commercial_SO!F10 -> 34219.412 | G10: =Residential_SO!G10+Commercial_SO!G10 -> 35003.519 | H10: =Residential_SO!H10+Commercial_SO!H10 -> 36995.593 | I10: =Residential_SO!I10+Commercial_SO!I10 -> 40392.26 | ... Z10: =Residential_SO!Z10+Commercial_SO!Z10 -> 0
A11: =ALL!A11 -> 45662 | B11: =Residential_SO!B11+Commercial_SO!B11 -> 40137.228 | C11: =Residential_SO!C11+Commercial_SO!C11 -> 38603.26 | D11: =Residential_SO!D11+Commercial_SO!D11 -> 36815.4 | E11: =Residential_SO!E11+Commercial_SO!E11 -> 36155.258 | F11: =Residential_SO!F11+Commercial_SO!F11 -> 35926.67 | G11: =Residential_SO!G11+Commercial_SO!G11 -> 36305.17 | H11: =Residential_SO!H11+Commercial_SO!H11 -> 37980.245 | I11: =Residential_SO!I11+Commercial_SO!I11 -> 41097.689 | ... Z11: =Residential_SO!Z11+Commercial_SO!Z11 -> 0
A12: =ALL!A12 -> 45663 | B12: =Residential_SO!B12+Commercial_SO!B12 -> 41323.463 | C12: =Residential_SO!C12+Commercial_SO!C12 -> 39288.07 | D12: =Residential_SO!D12+Commercial_SO!D12 -> 37405.431 | E12: =Residential_SO!E12+Commercial_SO!E12 -> 36443.279 | F12: =Residential_SO!F12+Commercial_SO!F12 -> 36534.904 | G12: =Residential_SO!G12+Commercial_SO!G12 -> 38711.702 | H12: =Residential_SO!H12+Commercial_SO!H12 -> 43835.232 | I12: =Residential_SO!I12+Commercial_SO!I12 -> 47172.438 | ... Z12: =Residential_SO!Z12+Commercial_SO!Z12 -> 0
A13: =ALL!A13 -> 45664 | B13: =Residential_SO!B13+Commercial_SO!B13 -> 39226.833 | C13: =Residential_SO!C13+Commercial_SO!C13 -> 37259.062 | D13: =Residential_SO!D13+Commercial_SO!D13 -> 35389.409 | E13: =Residential_SO!E13+Commercial_SO!E13 -> 34613.049 | F13: =Residential_SO!F13+Commercial_SO!F13 -> 34892.073 | G13: =Residential_SO!G13+Commercial_SO!G13 -> 36654.782 | H13: =Residential_SO!H13+Commercial_SO!H13 -> 41686.009 | I13: =Residential_SO!I13+Commercial_SO!I13 -> 44829.555 | ... Z13: =Residential_SO!Z13+Commercial_SO!Z13 -> 0
A14: =ALL!A14 -> 45665 | B14: =Residential_SO!B14+Commercial_SO!B14 -> 37553.138 | C14: =Residential_SO!C14+Commercial_SO!C14 -> 35943.694 | D14: =Residential_SO!D14+Commercial_SO!D14 -> 34144.974 | E14: =Residential_SO!E14+Commercial_SO!E14 -> 33453.185 | F14: =Residential_SO!F14+Commercial_SO!F14 -> 33909.215 | G14: =Residential_SO!G14+Commercial_SO!G14 -> 35840.702 | H14: =Residential_SO!H14+Commercial_SO!H14 -> 40985.848 | I14: =Residential_SO!I14+Commercial_SO!I14 -> 44344.186 | ... Z14: =Residential_SO!Z14+Commercial_SO!Z14 -> 0
A15: =ALL!A15 -> 45666 | B15: =Residential_SO!B15+Commercial_SO!B15 -> 37873.07 | C15: =Residential_SO!C15+Commercial_SO!C15 -> 36063.973 | D15: =Residential_SO!D15+Commercial_SO!D15 -> 34052.994 | E15: =Residential_SO!E15+Commercial_SO!E15 -> 33169.62 | F15: =Residential_SO!F15+Commercial_SO!F15 -> 33581.014 | G15: =Residential_SO!G15+Commercial_SO!G15 -> 35232.286 | H15: =Residential_SO!H15+Commercial_SO!H15 -> 39773.52 | I15: =Residential_SO!I15+Commercial_SO!I15 -> 42873.755 | ... Z15: =Residential_SO!Z15+Commercial_SO!Z15 -> 0
A16: =ALL!A16 -> 45667 | B16: =Residential_SO!B16+Commercial_SO!B16 -> 35671.596 | C16: =Residential_SO!C16+Commercial_SO!C16 -> 34004.715 | D16: =Residential_SO!D16+Commercial_SO!D16 -> 32352.943 | E16: =Residential_SO!E16+Commercial_SO!E16 -> 31578.591 | F16: =Residential_SO!F16+Commercial_SO!F16 -> 32048.12 | G16: =Residential_SO!G16+Commercial_SO!G16 -> 34093.057 | H16: =Residential_SO!H16+Commercial_SO!H16 -> 38755.551 | I16: =Residential_SO!I16+Commercial_SO!I16 -> 41810.068 | ... Z16: =Residential_SO!Z16+Commercial_SO!Z16 -> 0
A17: =ALL!A17 -> 45668 | B17: =Residential_SO!B17+Commercial_SO!B17 -> 36219.952 | C17: =Residential_SO!C17+Commercial_SO!C17 -> 35045.391 | D17: =Residential_SO!D17+Commercial_SO!D17 -> 33360.517 | E17: =Residential_SO!E17+Commercial_SO!E17 -> 32683.566 | F17: =Residential_SO!F17+Commercial_SO!F17 -> 32508.778 | G17: =Residential_SO!G17+Commercial_SO!G17 -> 33174.818 | H17: =Residential_SO!H17+Commercial_SO!H17 -> 35326.922 | I17: =Residential_SO!I17+Commercial_SO!I17 -> 38514.255 | ... Z17: =Residential_SO!Z17+Commercial_SO!Z17 -> 0
A18: =ALL!A18 -> 45669 | B18: =Residential_SO!B18+Commercial_SO!B18 -> 35799.04 | C18: =Residential_SO!C18+Commercial_SO!C18 -> 34440.309 | D18: =Residential_SO!D18+Commercial_SO!D18 -> 32732.212 | E18: =Residential_SO!E18+Commercial_SO!E18 -> 31983.766 | F18: =Residential_SO!F18+Commercial_SO!F18 -> 31783.92 | G18: =Residential_SO!G18+Commercial_SO!G18 -> 32239.561 | H18: =Residential_SO!H18+Commercial_SO!H18 -> 34009.762 | I18: =Residential_SO!I18+Commercial_SO!I18 -> 37165.399 | ... Z18: =Residential_SO!Z18+Commercial_SO!Z18 -> 0
... A439: =ALL!A439 -> 46090 | B439: =Residential_SO!B439+Commercial_SO!B439 -> 26881.004 | C439: =Residential_SO!C439+Commercial_SO!C439 -> 25907.102 | D439: =Residential_SO!D439+Commercial_SO!D439 -> 25871.829 | E439: =Residential_SO!E439+Commercial_SO!E439 -> 25853.703 | F439: =Residential_SO!F439+Commercial_SO!F439 -> 26529.214 | G439: =Residential_SO!G439+Commercial_SO!G439 -> 28411.133 | H439: =Residential_SO!H439+Commercial_SO!H439 -> 32048.74 | I439: =Residential_SO!I439+Commercial_SO!I439 -> 33791.528 | ... Z439: =Residential_SO!Z439+Commercial_SO!Z439 -> 0
A440: =ALL!A440 -> 46091 | B440: =Residential_SO!B440+Commercial_SO!B440 -> 24839.938 | C440: =Residential_SO!C440+Commercial_SO!D440 -> 24124.029 | D440: =Residential_SO!D440+Commercial_SO!E440 -> 23957.293 | E440: =Residential_SO!E440+Commercial_SO!F440 -> 24131.399 | F440: =Residential_SO!F440+Commercial_SO!G440 -> 25192.011 | G440: =Residential_SO!G440+Commercial_SO!H440 -> 27725.928 | H440: =Residential_SO!H440+Commercial_SO!I440 -> 31033.217 | I440: =Residential_SO!I440+Commercial_SO!J440 -> 32342.59 | J440: =Residential_SO!J440+Commercial_SO!K440 -> 31657.433 | ... X440: =Residential_SO!X440+Commercial_SO!Y440 -> 28047.687 | Y440: =Residential_SO!Y440+Commercial_SO!Y440 -> 26890.991 | Z440: =Residential_SO!Z440+Commercial_SO!Z440 -> 0
A441: =ALL!A441 -> 46092 | B441: =Residential_SO!B441+Commercial_SO!B441 -> 26034.637 | C441: =Residential_SO!C441+Commercial_SO!C441 -> 25753.914 | D441: =Residential_SO!D441+Commercial_SO!D441 -> 25822.871 | E441: =Residential_SO!E441+Commercial_SO!E441 -> 26047.915 | F441: =Residential_SO!F441+Commercial_SO!F441 -> 26944.601 | G441: =Residential_SO!G441+Commercial_SO!G441 -> 28986.865 | H441: =Residential_SO!H441+Commercial_SO!H441 -> 32963.4 | I441: =Residential_SO!I441+Commercial_SO!I441 -> 35336.945 | ... Z441: =Residential_SO!Z441+Commercial_SO!Z441 -> 0
A442: =ALL!A442 -> 46093 | B442: =Residential_SO!B442+Commercial_SO!B442 -> 29800.115 | C442: =Residential_SO!C442+Commercial_SO!C442 -> 29269.983 | D442: =Residential_SO!D442+Commercial_SO!D442 -> 29074.623 | E442: =Residential_SO!E442+Commercial_SO!E442 -> 28919.615 | F442: =Residential_SO!F442+Commercial_SO!F442 -> 29545.47 | G442: =Residential_SO!G442+Commercial_SO!G442 -> 31085.542 | H442: =Residential_SO!H442+Commercial_SO!H442 -> 33697.802 | I442: =Residential_SO!I442+Commercial_SO!I442 -> 35917.747 | ... Z442: =Residential_SO!Z442+Commercial_SO!Z442 -> 0
A443: =ALL!A443 -> 46094 | B443: =Residential_SO!B443+Commercial_SO!B443 -> 29911.568 | C443: =Residential_SO!C443+Commercial_SO!C443 -> 29521.281 | D443: =Residential_SO!D443+Commercial_SO!D443 -> 29632.784 | E443: =Residential_SO!E443+Commercial_SO!E443 -> 29813.395 | F443: =Residential_SO!F443+Commercial_SO!F443 -> 30400.211 | G443: =Residential_SO!G443+Commercial_SO!G443 -> 32480.787 | H443: =Residential_SO!H443+Commercial_SO!H443 -> 35802.209 | I443: =Residential_SO!I443+Commercial_SO!I443 -> 38019.316 | ... Z443: =Residential_SO!Z443+Commercial_SO!Z443 -> 0
A444: =ALL!A444 -> 46095 | B444: =Residential_SO!B444+Commercial_SO!B444 -> 29008.674 | C444: =Residential_SO!C444+Commercial_SO!C444 -> 28322.792 | D444: =Residential_SO!D444+Commercial_SO!D444 -> 28130.795 | E444: =Residential_SO!E444+Commercial_SO!E444 -> 27923.872 | F444: =Residential_SO!F444+Commercial_SO!F444 -> 28132.306 | G444: =Residential_SO!G444+Commercial_SO!G444 -> 28990.385 | H444: =Residential_SO!H444+Commercial_SO!H444 -> 30419.975 | I444: =Residential_SO!I444+Commercial_SO!I444 -> 32324.411 | ... Z444: =Residential_SO!Z444+Commercial_SO!Z444 -> 0
A445: =ALL!A445 -> 46096 | B445: =Residential_SO!B445+Commercial_SO!B445 -> 29056.337 | C445: =Residential_SO!C445+Commercial_SO!C445 -> 28486.497 | D445: =Residential_SO!D445+Commercial_SO!D445 -> 28307.396 | E445: =Residential_SO!E445+Commercial_SO!E445 -> 28429.035 | F445: =Residential_SO!F445+Commercial_SO!F445 -> 28551.864 | G445: =Residential_SO!G445+Commercial_SO!G445 -> 29467.05 | H445: =Residential_SO!H445+Commercial_SO!H445 -> 30678.4 | I445: =Residential_SO!I445+Commercial_SO!I445 -> 32393.499 | ... Z445: =Residential_SO!Z445+Commercial_SO!Z445 -> 0
A446: =ALL!A446 -> 46097 | B446: =Residential_SO!B446+Commercial_SO!B446 -> 28268.92 | C446: =Residential_SO!C446+Commercial_SO!C446 -> 27507.829 | D446: =Residential_SO!D446+Commercial_SO!D446 -> 27651.916 | E446: =Residential_SO!E446+Commercial_SO!E446 -> 27768.894 | F446: =Residential_SO!F446+Commercial_SO!F446 -> 28574.687 | G446: =Residential_SO!G446+Commercial_SO!G446 -> 30642.004 | H446: =Residential_SO!H446+Commercial_SO!H446 -> 34371.097 | I446: =Residential_SO!I446+Commercial_SO!I446 -> 36479.387 | ... Z446: =Residential_SO!Z446+Commercial_SO!Z446 -> 0
A447: =ALL!A447 -> 46098 | B447: =Residential_SO!B447+Commercial_SO!B447 -> 24874.618 | C447: =Residential_SO!C447+Commercial_SO!C447 -> 24442.986 | D447: =Residential_SO!D447+Commercial_SO!D447 -> 24130.428 | E447: =Residential_SO!E447+Commercial_SO!E447 -> 23763.711 | F447: =Residential_SO!F447+Commercial_SO!F447 -> 24385.204 | G447: =Residential_SO!G447+Commercial_SO!G447 -> 26109.404 | H447: =Residential_SO!H447+Commercial_SO!H447 -> 29407.932 | I447: =Residential_SO!I447+Commercial_SO!I447 -> 30950.769 | ... Z447: =Residential_SO!Z447+Commercial_SO!Z447 -> 0
A448: =ALL!A448 -> 46099 | B448: =Residential_SO!B448+Commercial_SO!B448 -> 31213.637 | C448: =Residential_SO!C448+Commercial_SO!C448 -> 30924.267 | D448: =Residential_SO!D448+Commercial_SO!D448 -> 31064.018 | E448: =Residential_SO!E448+Commercial_SO!E448 -> 31298.461 | F448: =Residential_SO!F448+Commercial_SO!F448 -> 32185.488 | G448: =Residential_SO!G448+Commercial_SO!G448 -> 34249.457 | H448: =Residential_SO!H448+Commercial_SO!H448 -> 37968.779 | I448: =Residential_SO!I448+Commercial_SO!I448 -> 39991.854 | ... Z448: =Residential_SO!Z448+Commercial_SO!Z448 -> 0
A449: =ALL!A449 -> 46100 | B449: =Residential_SO!B449+Commercial_SO!B449 -> 31202.039 | C449: =Residential_SO!C449+Commercial_SO!C449 -> 30889.257 | D449: =Residential_SO!D449+Commercial_SO!D449 -> 30861.874 | E449: =Residential_SO!E449+Commercial_SO!E449 -> 30897.024 | F449: =Residential_SO!F449+Commercial_SO!F449 -> 31474.165 | G449: =Residential_SO!G449+Commercial_SO!G449 -> 33488.886 | H449: =Residential_SO!H449+Commercial_SO!H449 -> 36948.711 | I449: =Residential_SO!I449+Commercial_SO!I449 -> 38552.898 | ... Z449: =Residential_SO!Z449+Commercial_SO!Z449 -> 0
A450: =ALL!A450 -> 46101 | B450: =Residential_SO!B450+Commercial_SO!B450 -> 28462.46 | C450: =Residential_SO!C450+Commercial_SO!C450 -> 28033.35 | D450: =Residential_SO!D450+Commercial_SO!D450 -> 27892.991 | E450: =Residential_SO!E450+Commercial_SO!E450 -> 27800.595 | F450: =Residential_SO!F450+Commercial_SO!F450 -> 28391.166 | G450: =Residential_SO!G450+Commercial_SO!G450 -> 30278.138 | H450: =Residential_SO!H450+Commercial_SO!H450 -> 33030.054 | I450: =Residential_SO!I450+Commercial_SO!I450 -> 35005.808 | ... Z450: =Residential_SO!Z450+Commercial_SO!Z450 -> 0
A451: =ALL!A451 -> 46102 | B451: =Residential_SO!B451+Commercial_SO!B451 -> 27777.381 | C451: =Residential_SO!C451+Commercial_SO!C451 -> 27248.039 | D451: =Residential_SO!D451+Commercial_SO!D451 -> 27097.814 | E451: =Residential_SO!E451+Commercial_SO!E451 -> 26896.312 | F451: =Residential_SO!F451+Commercial_SO!F451 -> 27101.61 | G451: =Residential_SO!G451+Commercial_SO!G451 -> 28094.358 | H451: =Residential_SO!H451+Commercial_SO!H451 -> 29704.849 | I451: =Residential_SO!I451+Commercial_SO!I451 -> 31919.519 | ... Z451: =Residential_SO!Z451+Commercial_SO!Z451 -> 0
A452: =ALL!A452 -> 46103 | B452: =Residential_SO!B452+Commercial_SO!B452 -> 28792.726 | C452: =Residential_SO!C452+Commercial_SO!C452 -> 28233.578 | D452: =Residential_SO!D452+Commercial_SO!D452 -> 27965.272 | E452: =Residential_SO!E452+Commercial_SO!E452 -> 28009.631 | F452: =Residential_SO!F452+Commercial_SO!F452 -> 27944.825 | G452: =Residential_SO!G452+Commercial_SO!G452 -> 28952.895 | H452: =Residential_SO!H452+Commercial_SO!H452 -> 30365.737 | I452: =Residential_SO!I452+Commercial_SO!I452 -> 32309.765 | ... Z452: =Residential_SO!Z452+Commercial_SO!Z452 -> 0
... A643: =ALL!A643 -> 46294 | B643: =Residential_SO!B643+Commercial_SO!B643 -> 0 | C643: =Residential_SO!C643+Commercial_SO!C643 -> 0 | D643: =Residential_SO!D643+Commercial_SO!D643 -> 0 | E643: =Residential_SO!E643+Commercial_SO!E643 -> 0 | F643: =Residential_SO!F643+Commercial_SO!F643 -> 0 | G643: =Residential_SO!G643+Commercial_SO!G643 -> 0 | H643: =Residential_SO!H643+Commercial_SO!H643 -> 0 | I643: =Residential_SO!I643+Commercial_SO!I643 -> 0 | ... Z643: =Residential_SO!Z643+Commercial_SO!Z643 -> 0

Sheet Residential_SO
A1: VERSANT POWER - Maine Public Service District
A2: SMALL STANDARD OFFER CLASS, Standard offer Residential Customers
A3: Note : Hourly loads include losses and unaccounted for energy (UFE), and are taken from the Daily Settlements
A4: Data in kWhs
A6: Date/Hour | B6: 1 | C6: 2 | D6: 3 | E6: 4 | F6: 5 | G6: 6 | H6: 7 | I6: 8 | J6: 9 | K6: 10 | L6: 11 | M6: 12 | N6: 13 | O6: 14 | P6: 15 | Q6: 16 | R6: 17 | S6: 18 | T6: 19 | U6: 20 | V6: 21 | W6: 22 | X6: 23 | Y6: 24 | Z6: 25
A7: 45658 | B7: 25152 | C7: 23803 | D7: 21888 | E7: 20951 | F7: 20496 | G7: 20789 | H7: 21813 | I7: 23962 | J7: 26472 | K7: 27600 | L7: 30850 | M7: 33896 | N7: 35297 | O7: 34790 | P7: 33594 | Q7: 34990 | R7: 38191 | S7: 38530 | T7: 36907 | U7: 35345 | V7: 33053 | W7: 30788 | X7: 28401 | Y7: 26249 | AB7: =MONTH(A7) -> 1 | AC7: =YEAR(A7) -> 2025 | AD7: =SUM(B7:Z7) -> 703807
A8: 45659 | B8: 24598 | C8: 23055 | D8: 21457 | E8: 20502 | F8: 20442 | G8: 21909 | H8: 25723 | I8: 27624 | J8: 27976 | K8: 27091 | L8: 29467 | M8: 30548 | N8: 29512 | O8: 27993 | P8: 27756 | Q8: 28688 | R8: 31897 | S8: 34466 | T8: 34396 | U8: 34264 | V8: 33872 | W8: 32617 | X8: 30177 | Y8: 27794 | AB8: =MONTH(A8) -> 1 | AC8: =YEAR(A8) -> 2025 | AD8: =SUM(B8:Z8) -> 673824
A9: 45660 | B9: 26951 | C9: 25341 | D9: 23458 | E9: 22476 | F9: 22431 | G9: 24249 | H9: 28144 | I9: 30272 | J9: 30910 | K9: 29684 | L9: 31986 | M9: 32988 | N9: 32181 | O9: 30361 | P9: 29728 | Q9: 30733 | R9: 33650 | S9: 35989 | T9: 35970 | U9: 36011 | V9: 35937 | W9: 35156 | X9: 33118 | Y9: 30565 | AB9: =MONTH(A9) -> 1 | AC9: =YEAR(A9) -> 2025 | AD9: =SUM(B9:Z9) -> 728289
A10: 45661 | B10: 28791 | C10: 27577 | D10: 25876 | E10: 25008 | F10: 24611 | G10: 25068 | H10: 26513 | I10: 29346 | J10: 32342 | K10: 33073 | L10: 36086 | M10: 39082 | N10: 40245 | O10: 39591 | P10: 38137 | Q10: 39284 | R10: 42782 | S10: 44263 | T10: 42985 | U10: 41547 | V10: 39597 | W10: 37812 | X10: 35492 | Y10: 33157 | AB10: =MONTH(A10) -> 1 | AC10: =YEAR(A10) -> 2025 | AD10: =SUM(B10:Z10) -> 828265
A11: 45662 | B11: 30690 | C11: 29312 | D11: 27481 | E11: 26736 | F11: 26259 | G11: 26345 | H11: 27473 | I11: 30041 | J11: 33302 | K11: 33986 | L11: 36799 | M11: 39834 | N11: 41063 | O11: 40416 | P11: 39341 | Q11: 40628 | R11: 44733 | S11: 46235 | T11: 45301 | U11: 43739 | V11: 41641 | W11: 39408 | X11: 36521 | Y11: 33940 | AB11: =MONTH(A11) -> 1 | AC11: =YEAR(A11) -> 2025 | AD11: =SUM(B11:Z11) -> 861224
A12: 45663 | B12: 31652 | C12: 29582 | D12: 27578 | E12: 26348 | F12: 26058 | G12: 28030 | H12: 32368 | I12: 34411 | J12: 33707 | K12: 31581 | L12: 33766 | M12: 34303 | N12: 33730 | O12: 31787 | P12: 31080 | Q12: 31785 | R12: 34925 | S12: 37561 | T12: 37387 | U12: 37267 | V12: 37135 | W12: 35948 | X12: 33313 | Y12: 30661 | AB12: =MONTH(A12) -> 1 | AC12: =YEAR(A12) -> 2025 | AD12: =SUM(B12:Z12) -> 781963
A13: 45664 | B13: 29553 | C13: 27562 | D13: 25589 | E13: 24477 | F13: 24272 | G13: 25874 | H13: 30105 | I13: 31924 | J13: 31798 | K13: 30156 | L13: 32279 | M13: 33071 | N13: 31929 | O13: 30041 | P13: 29175 | Q13: 29790 | R13: 33107 | S13: 35528 | T13: 35284 | U13: 35151 | V13: 34794 | W13: 33745 | X13: 31173 | Y13: 28568 | AB13: =MONTH(A13) -> 1 | AC13: =YEAR(A13) -> 2025 | AD13: =SUM(B13:Z13) -> 734945
A14: 45665 | B14: 28022 | C14: 26377 | D14: 24492 | E14: 23475 | F14: 23438 | G14: 25223 | H14: 29539 | I14: 31569 | J14: 31764 | K14: 30305 | L14: 32766 | M14: 33635 | N14: 32723 | O14: 30802 | P14: 30085 | Q14: 30811 | R14: 33954 | S14: 36501 | T14: 36334 | U14: 36374 | V14: 36046 | W14: 34965 | X14: 32369 | Y14: 29535 | AB14: =MONTH(A14) -> 1 | AC14: =YEAR(A14) -> 2025 | AD14: =SUM(B14:Z14) -> 741104
A15: 45666 | B15: 28167 | C15: 26347 | D15: 24245 | E15: 23044 | F15: 22969 | G15: 24479 | H15: 28211 | I15: 29981 | J15: 30033 | K15: 28396 | L15: 30422 | M15: 31386 | N15: 30197 | O15: 28388 | P15: 27561 | Q15: 28245 | R15: 31298 | S15: 33789 | T15: 33678 | U15: 33759 | V15: 33399 | W15: 32205 | X15: 29603 | Y15: 26953 | AB15: =MONTH(A15) -> 1 | AC15: =YEAR(A15) -> 2025 | AD15: =SUM(B15:Z15) -> 696755
A16: 45667 | B16: 26030 | C16: 24347 | D16: 22608 | E16: 21553 | F16: 21630 | G16: 23427 | H16: 27285 | I16: 29051 | J16: 29334 | K16: 28151 | L16: 30311 | M16: 31090 | N16: 29667 | O16: 27991 | P16: 27309 | Q16: 27782 | R16: 30510 | S16: 33077 | T16: 32686 | U16: 32834 | V16: 32904 | W16: 32261 | X16: 30332 | Y16: 27940 | AB16: =MONTH(A16) -> 1 | AC16: =YEAR(A16) -> 2025 | AD16: =SUM(B16:Z16) -> 680110
A17: 45668 | B17: 26594 | C17: 25592 | D17: 23882 | E17: 23014 | F17: 22578 | G17: 22934 | H17: 24503 | I17: 27084 | J17: 30115 | K17: 31000 | L17: 33715 | M17: 36170 | N17: 36887 | O17: 35767 | P17: 34447 | Q17: 35059 | R17: 38001 | S17: 39067 | T17: 37858 | U17: 36370 | V17: 34408 | W17: 32916 | X17: 30809 | Y17: 28505 | AB17: =MONTH(A17) -> 1 | AC17: =YEAR(A17) -> 2025 | AD17: =SUM(B17:Z17) -> 747275
A18: 45669 | B18: 26065 | C18: 24894 | D18: 23175 | E18: 22327 | F18: 22002 | G18: 22186 | H18: 23384 | I18: 25948 | J18: 29269 | K18: 30346 | L18: 33096 | M18: 36255 | N18: 37577 | O18: 36760 | P18: 35292 | Q18: 36233 | R18: 39849 | S18: 40945 | T18: 39797 | U18: 38029 | V18: 35948 | W18: 33765 | X18: 31082 | Y18: 28680 | AB18: =MONTH(A18) -> 1 | AC18: =YEAR(A18) -> 2025 | AD18: =SUM(B18:Z18) -> 752904
... A279: 45930 | B279: 17885.591 | C279: 16922.686 | D279: 15946.424 | E279: 15703.633 | F279: 15201.835 | G279: 16181.773 | H279: 17466.032 | I279: 18017.281 | J279: 19224.826 | K279: 20311.419 | L279: 18858.925 | M279: 19313.239 | N279: 20627.479 | O279: 18809.873 | P279: 17529.22 | Q279: 17675.347 | R279: 18938.817 | S279: 19343.599 | T279: 20348.902 | U279: 21942.717 | V279: 20827.792 | W279: 19994.49 | X279: 19503.362 | Y279: 19155.863 | AB279: =MONTH(A279) -> 9 | AC279: =YEAR(A279) -> 2025 | AD279: =SUM(B279:Z279) -> 445731.12
A280: =ALL!A280 -> 45931 | B280: 16663.636 | C280: 16200.02 | D280: 16049.891 | E280: 16042.92 | F280: 16565.198 | G280: 18718.502 | H280: 21339.063 | I280: 22527.699 | J280: 22438.191 | K280: 22409.111 | L280: 22669.223 | M280: 22455.196 | N280: 22332.647 | O280: 21328.794 | P280: 21028.895 | Q280: 21307.321 | R280: 22765.229 | S280: 23925.758 | T280: 25557.392 | U280: 25458.016 | V280: 24009.08 | W280: 21906.074 | X280: 19891.266 | Y280: 18367.986 | Z280: 0 | AB280: =MONTH(A280) -> 10 | AC280: =YEAR(A280) -> 2025 | AD280: =SUM(B280:Z280) -> 501957.11
A281: =ALL!A281 -> 45932 | B281: 17752.73 | C281: 17357.439 | D281: 17308.751 | E281: 17520.654 | F281: 18159.873 | G281: 19966.52 | H281: 22716.087 | I281: 24113.39 | J281: 23545.57 | K281: 23308.141 | L281: 23230.939 | M281: 22503.104 | N281: 22030.871 | O281: 21562.57 | P281: 20945.88 | Q281: 20838.217 | R281: 21696.533 | S281: 23136.958 | T281: 24787.473 | U281: 24956.832 | V281: 23722.891 | W281: 21841.179 | X281: 19913.37 | Y281: 18362.443 | Z281: 0 | AB281: =MONTH(A281) -> 10 | AC281: =YEAR(A281) -> 2025 | AD281: =SUM(B281:Z281) -> 511278.42
A282: =ALL!A282 -> 45933 | B282: 17510.325 | C282: 17050.912 | D282: 16968.977 | E282: 17012.494 | F282: 17680.28 | G282: 19451.626 | H282: 22202.757 | I282: 23399.519 | J282: 23117.823 | K282: 22687.667 | L282: 22369.265 | M282: 21903.719 | N282: 21420.727 | O282: 21250.004 | P282: 21036.55 | Q282: 20952.278 | R282: 20930.782 | S282: 21546.575 | T282: 22882.648 | U282: 22585.623 | V282: 21637.239 | W282: 20000.387 | X282: 18523.221 | Y282: 17381.762 | Z282: 0 | AB282: =MONTH(A282) -> 10 | AC282: =YEAR(A282) -> 2025 | AD282: =SUM(B282:Z282) -> 491503.16
A283: =ALL!A283 -> 45934 | B283: 16737.756 | C283: 16207.298 | D283: 15999.262 | E283: 15818.004 | F283: 16126.484 | G283: 16996.186 | H283: 18208.076 | I283: 19730.625 | J283: 20813.002 | K283: 21299.56 | L283: 21358.842 | M283: 20722.491 | N283: 21127.893 | O283: 20298.752 | P283: 19923.198 | Q283: 19985.041 | R283: 20223.592 | S283: 21160.94 | T283: 21935.049 | U283: 21912.207 | V283: 21181.261 | W283: 19874.61 | X283: 18592.371 | Y283: 17639.424 | Z283: 0 | AB283: =MONTH(A283) -> 10 | AC283: =YEAR(A283) -> 2025 | AD283: =SUM(B283:Z283) -> 463871.92
A284: =ALL!A284 -> 45935 | B284: 16867.009 | C284: 16363.064 | D284: 16016.107 | E284: 15915.969 | F284: 16103.047 | G284: 16690.225 | H284: 17614.251 | I284: 19148.552 | J284: 21119.6 | K284: 21747.64 | L284: 20939.877 | M284: 21249.798 | N284: 21076.231 | O284: 20870.555 | P284: 20413.491 | Q284: 21168.223 | R284: 21804.32 | S284: 22842.371 | T284: 24174 | U284: 23623.751 | V284: 22068.457 | W284: 20185.086 | X284: 18506.576 | Y284: 17319.487 | Z284: 0 | AB284: =MONTH(A284) -> 10 | AC284: =YEAR(A284) -> 2025 | AD284: =SUM(B284:Z284) -> 473827.69
A285: =ALL!A285 -> 45936 | B285: 16488.805 | C285: 15610.575 | D285: 15317.995 | E285: 15444.545 | F285: 15898.516 | G285: 17500.344 | H285: 20116.396 | I285: 21668.509 | J285: 21753.07 | K285: 21996.32 | L285: 22384.581 | M285: 22605.75 | N285: 22619.603 | O285: 22956.308 | P285: 22771.975 | Q285: 22582.873 | R285: 23101.226 | S285: 24035.049 | T285: 25294.494 | U285: 24652.353 | V285: 22786.494 | W285: 20587.702 | X285: 18745.234 | Y285: 17638.781 | Z285: 0 | AB285: =MONTH(A285) -> 10 | AC285: =YEAR(A285) -> 2025 | AD285: =SUM(B285:Z285) -> 494557.5
A286: =ALL!A286 -> 45937 | B286: 17057.074 | C286: 16521.693 | D286: 16225.642 | E286: 16346.007 | F286: 16662.19 | G286: 18385.332 | H286: 20676.725 | I286: 21529.712 | J286: 21477.66 | K286: 21708.078 | L286: 22415.733 | M286: 22329.926 | N286: 22644.9 | O286: 22422.521 | P286: 22425.324 | Q286: 22279.309 | R286: 23092.071 | S286: 23948.281 | T286: 25193.359 | U286: 24701.253 | V286: 23060.111 | W286: 21267.528 | X286: 19593.061 | Y286: 18106.794 | Z286: 0 | AB286: =MONTH(A286) -> 10 | AC286: =YEAR(A286) -> 2025 | AD286: =SUM(B286:Z286) -> 500070.28
A287: =ALL!A287 -> 45938 | B287: 16699.421 | C287: 16154.172 | D287: 15901.131 | E287: 15926.245 | F287: 16708.097 | G287: 17988.755 | H287: 20418.898 | I287: 21990.476 | J287: 22779.76 | K287: 23114.736 | L287: 23661.479 | M287: 23785.703 | N287: 23615.89 | O287: 23609.846 | P287: 22357.673 | Q287: 22934.133 | R287: 23603.92 | S287: 24974.793 | T287: 25802.736 | U287: 25275.176 | V287: 23968.655 | W287: 21509.113 | X287: 19977.073 | Y287: 18874.056 | Z287: 0 | AB287: =MONTH(A287) -> 10 | AC287: =YEAR(A287) -> 2025 | AD287: =SUM(B287:Z287) -> 511631.94
A288: =ALL!A288 -> 45939 | B288: 18236.472 | C288: 17813.848 | D288: 17460.262 | E288: 17423.438 | F288: 18021.778 | G288: 19972.847 | H288: 22942.839 | I288: 24444.925 | J288: 24574.757 | K288: 24428.31 | L288: 24907.383 | M288: 24962.587 | N288: 24769.017 | O288: 24744.139 | P288: 24629.376 | Q288: 24274.958 | R288: 24826.216 | S288: 26169.531 | T288: 27527.962 | U288: 27163.139 | V288: 25374.741 | W288: 23412.026 | X288: 21833.43 | Y288: 20336.296 | Z288: 0 | AB288: =MONTH(A288) -> 10 | AC288: =YEAR(A288) -> 2025 | AD288: =SUM(B288:Z288) -> 550250.28
A289: =ALL!A289 -> 45940 | B289: 19528.786 | C289: 19051.584 | D289: 18890.175 | E289: 19068.677 | F289: 19778.115 | G289: 21405.316 | H289: 24068.757 | I289: 25094.856 | J289: 25128.706 | K289: 24304.516 | L289: 24060.706 | M289: 23399.047 | N289: 22870.224 | O289: 22198.182 | P289: 21373.834 | Q289: 21498.424 | R289: 22124.192 | S289: 24217.299 | T289: 25846.389 | U289: 25274.969 | V289: 24203.37 | W289: 22686.688 | X289: 21000.995 | Y289: 19736.126 | Z289: 0 | AB289: =MONTH(A289) -> 10 | AC289: =YEAR(A289) -> 2025 | AD289: =SUM(B289:Z289) -> 536809.93
A290: =ALL!A290 -> 45941 | B290: 19023.507 | C290: 18500.845 | D290: 18244.511 | E290: 18356.482 | F290: 18627.956 | G290: 19604.524 | H290: 21117.552 | I290: 22403.976 | J290: 23496.062 | K290: 23471.285 | L290: 23095.064 | M290: 22153.756 | N290: 21812.04 | O290: 21420.668 | P290: 20941.913 | Q290: 20490.728 | R290: 21473.015 | S290: 22684.12 | T290: 24084.847 | U290: 23757.827 | V290: 22981.404 | W290: 21602.05 | X290: 20025.973 | Y290: 19013.786 | Z290: 0 | AB290: =MONTH(A290) -> 10 | AC290: =YEAR(A290) -> 2025 | AD290: =SUM(B290:Z290) -> 508383.89
A291: =ALL!A291 -> 45942 | B291: 18366.782 | C291: 17886.546 | D291: 17767.586 | E291: 17846.334 | F291: 18047.199 | G291: 18921.327 | H291: 20086.932 | I291: 21764.757 | J291: 23336.637 | K291: 23408.113 | L291: 22952.855 | M291: 22294.885 | N291: 21936.371 | O291: 21379.134 | P291: 21062.626 | Q291: 20882.926 | R291: 22037.388 | S291: 23868.647 | T291: 25480.698 | U291: 24799.337 | V291: 23568.973 | W291: 21793.094 | X291: 20264.831 | Y291: 19102.868 | Z291: 0 | AB291: =MONTH(A291) -> 10 | AC291: =YEAR(A291) -> 2025 | AD291: =SUM(B291:Z291) -> 508856.84
... A522: =ALL!A522 -> 46173 | B522: 15879.576 | C522: 15335.786 | D522: 15184.856 | E522: 15147.556 | F522: 15250.12 | G522: 15495.384 | H522: 15969.872 | I522: 17000.462 | J522: 18327.858 | K522: 19385.298 | L522: 19564.263 | M522: 19572.687 | N522: 19720.264 | O522: 19049.561 | P522: 19118.306 | Q522: 19345.797 | R522: 20272.613 | S522: 20818.692 | T522: 20298.261 | U522: 20452.086 | V522: 20894.377 | W522: 20039.327 | X522: 17899.34 | Y522: 16154.441 | Z522: 0 | AB522: =MONTH(A522) -> 5 | AC522: =YEAR(A522) -> 2026 | AD522: =SUM(B522:Z522) -> 436176.78
A523: =ALL!A523 -> 46174 | AB523: =MONTH(A523) -> 6 | AC523: =YEAR(A523) -> 2026 | AD523: =SUM(B523:Z523) -> 0
A524: =ALL!A524 -> 46175 | AB524: =MONTH(A524) -> 6 | AC524: =YEAR(A524) -> 2026 | AD524: =SUM(B524:Z524) -> 0
A525: =ALL!A525 -> 46176 | AB525: =MONTH(A525) -> 6 | AC525: =YEAR(A525) -> 2026 | AD525: =SUM(B525:Z525) -> 0
A526: =ALL!A526 -> 46177 | AB526: =MONTH(A526) -> 6 | AC526: =YEAR(A526) -> 2026 | AD526: =SUM(B526:Z526) -> 0
A527: =ALL!A527 -> 46178 | AB527: =MONTH(A527) -> 6 | AC527: =YEAR(A527) -> 2026 | AD527: =SUM(B527:Z527) -> 0
A528: =ALL!A528 -> 46179 | AB528: =MONTH(A528) -> 6 | AC528: =YEAR(A528) -> 2026 | AD528: =SUM(B528:Z528) -> 0
A529: =ALL!A529 -> 46180 | AB529: =MONTH(A529) -> 6 | AC529: =YEAR(A529) -> 2026 | AD529: =SUM(B529:Z529) -> 0
A530: =ALL!A530 -> 46181 | AB530: =MONTH(A530) -> 6 | AC530: =YEAR(A530) -> 2026 | AD530: =SUM(B530:Z530) -> 0
A531: =ALL!A531 -> 46182 | AB531: =MONTH(A531) -> 6 | AC531: =YEAR(A531) -> 2026 | AD531: =SUM(B531:Z531) -> 0
A532: =ALL!A532 -> 46183 | AB532: =MONTH(A532) -> 6 | AC532: =YEAR(A532) -> 2026 | AD532: =SUM(B532:Z532) -> 0
A533: =ALL!A533 -> 46184 | AB533: =MONTH(A533) -> 6 | AC533: =YEAR(A533) -> 2026 | AD533: =SUM(B533:Z533) -> 0
A534: =ALL!A534 -> 46185 | AB534: =MONTH(A534) -> 6 | AC534: =YEAR(A534) -> 2026 | AD534: =SUM(B534:Z534) -> 0
... A644: =ALL!A644 -> 46295 | AB644: =MONTH(A644) -> 9 | AC644: =YEAR(A644) -> 2026 | AD644: =SUM(B644:Z644) -> 0
A645: =ALL!A645 -> 46296

Sheet Commercial_SO
A1: VERSANT POWER - Maine Public Service District
A2: SMALL STANDARD OFFER CLASS, Standard offer Commerical Customers
A3: Note : Hourly loads include losses and unaccounted for energy (UFE), and are taken from the Daily Settlements
A4: Data in kWhs
A6: Date/Hour | B6: 1 | C6: 2 | D6: 3 | E6: 4 | F6: 5 | G6: 6 | H6: 7 | I6: 8 | J6: 9 | K6: 10 | L6: 11 | M6: 12 | N6: 13 | O6: 14 | P6: 15 | Q6: 16 | R6: 17 | S6: 18 | T6: 19 | U6: 20 | V6: 21 | W6: 22 | X6: 23 | Y6: 24 | Z6: 25
A7: 45658 | B7: 9213.987 | C7: 8972.212 | D7: 8979.323 | E7: 9023.886 | F7: 9252.861 | G7: 9537.775 | H7: 10059.724 | I7: 10627.184 | J7: 10903.566 | K7: 11597.127 | L7: 11674.874 | M7: 11160.036 | N7: 10738.116 | O7: 10488.756 | P7: 10515.778 | Q7: 10305.766 | R7: 10211.9 | S7: 10641.406 | T7: 10813.493 | U7: 10287.751 | V7: 10289.173 | W7: 9909.919 | X7: 9353.837 | Y7: 9333.926 | AB7: =MONTH(A7) -> 1 | AC7: =YEAR(A7) -> 2025 | AD7: =SUM(B7:Z7) -> 243892.38
A8: 45659 | B8: 9181.276 | C8: 9205.928 | D8: 9357.63 | E8: 9732.143 | F8: 10152.642 | G8: 10207.16 | H8: 10939.121 | I8: 12213.416 | J8: 12767.601 | K8: 13764.566 | L8: 14455.283 | M8: 14469.031 | N8: 14205.924 | O8: 14131.969 | P8: 14018.193 | Q8: 14216.827 | R8: 14335.344 | S8: 13531.799 | T8: 12690.802 | U8: 11832.265 | V8: 11287.561 | W8: 10397.735 | X8: 9920.348 | Y8: 9875.312 | AB8: =MONTH(A8) -> 1 | AC8: =YEAR(A8) -> 2025 | AD8: =SUM(B8:Z8) -> 286889.88
A9: 45660 | B9: 9399.822 | C9: 9430.636 | D9: 9525.45 | E9: 9805.15 | F9: 10198.152 | G9: 10438.979 | H9: 11226.406 | I9: 12458.035 | J9: 12973.347 | K9: 13953.245 | L9: 14636.852 | M9: 14645.859 | N9: 14386.07 | O9: 14279.404 | P9: 14170.843 | Q9: 14385.595 | R9: 14503.638 | S9: 13705.308 | T9: 12844.874 | U9: 11987.285 | V9: 11453.959 | W9: 10550.385 | X9: 10078.213 | Y9: 10033.651 | AB9: =MONTH(A9) -> 1 | AC9: =YEAR(A9) -> 2025 | AD9: =SUM(B9:Z9) -> 291071.16
A10: 45661 | B10: 9422.103 | C10: 9263.764 | D10: 9316.86 | E10: 9368.533 | F10: 9608.412 | G10: 9935.519 | H10: 10482.593 | I10: 11046.26 | J10: 11320.271 | K10: 12020.47 | L10: 12038.01 | M10: 11500.891 | N10: 11033.934 | O10: 10769.404 | P10: 10814.441 | Q10: 10578.829 | R10: 10519.57 | S10: 10975.15 | T10: 11116.422 | U10: 10603.006 | V10: 10599.688 | W10: 10217.115 | X10: 9663.878 | Y10: 9640.174 | AB10: =MONTH(A10) -> 1 | AC10: =YEAR(A10) -> 2025 | AD10: =SUM(B10:Z10) -> 251855.3
A11: 45662 | B11: 9447.228 | C11: 9291.26 | D11: 9334.4 | E11: 9419.258 | F11: 9667.67 | G11: 9960.17 | H11: 10507.245 | I11: 11056.689 | J11: 11347.293 | K11: 12030.425 | L11: 12055.551 | M11: 11495.677 | N11: 11060.956 | O11: 10806.856 | P11: 10861.848 | Q11: 10639.984 | R11: 10591.155 | S11: 11035.83 | T11: 11186.11 | U11: 10677.909 | V11: 10674.117 | W11: 10276.373 | X11: 9709.388 | Y11: 9668.618 | AB11: =MONTH(A11) -> 1 | AC11: =YEAR(A11) -> 2025 | AD11: =SUM(B11:Z11) -> 252802.01
A12: 45663 | B12: 9671.463 | C12: 9706.07 | D12: 9827.431 | E12: 10095.279 | F12: 10476.904 | G12: 10681.702 | H12: 11467.232 | I12: 12761.438 | J12: 13299.506 | K12: 14281.3 | L12: 14964.433 | M12: 14944.522 | N12: 14782.864 | O12: 14651.074 | P12: 14523.075 | Q12: 14743.991 | R12: 14810.36 | S12: 13955.142 | T12: 13073.849 | U12: 12207.253 | V12: 11641.215 | W12: 10726.264 | X12: 10224.7 | Y12: 10165.916 | AB12: =MONTH(A12) -> 1 | AC12: =YEAR(A12) -> 2025 | AD12: =SUM(B12:Z12) -> 297682.98
A13: 45664 | B13: 9673.833 | C13: 9697.062 | D13: 9800.409 | E13: 10136.049 | F13: 10620.073 | G13: 10780.782 | H13: 11581.009 | I13: 12905.555 | J13: 13467.8 | K13: 14505.061 | L13: 15224.222 | M13: 15216.637 | N13: 14963.01 | O13: 14824.582 | P13: 14605.089 | Q13: 14743.043 | R13: 14804.672 | S13: 13938.075 | T13: 13067.686 | U13: 12191.608 | V13: 11629.364 | W13: 10711.094 | X13: 10222.804 | Y13: 10154.538 | AB13: =MONTH(A13) -> 1 | AC13: =YEAR(A13) -> 2025 | AD13: =SUM(B13:Z13) -> 299464.06
A14: 45665 | B14: 9531.138 | C14: 9566.694 | D14: 9652.974 | E14: 9978.185 | F14: 10471.215 | G14: 10617.702 | H14: 11446.848 | I14: 12775.186 | J14: 13343.12 | K14: 14354.307 | L14: 15069.676 | M14: 15115.66 | N14: 14866.775 | O14: 14746.361 | P14: 14590.867 | Q14: 14679.518 | R14: 14762.954 | S14: 13907.735 | T14: 13035.924 | U14: 12151.787 | V14: 11597.127 | W14: 10688.339 | X14: 10179.19 | Y14: 10114.716 | AB14: =MONTH(A14) -> 1 | AC14: =YEAR(A14) -> 2025 | AD14: =SUM(B14:Z14) -> 297244
A15: 45666 | B15: 9706.07 | C15: 9716.973 | D15: 9807.994 | E15: 10125.62 | F15: 10612.014 | G15: 10753.286 | H15: 11562.52 | I15: 12892.755 | J15: 13467.326 | K15: 14529.238 | L15: 15268.784 | M15: 15287.747 | N15: 15004.254 | O15: 14866.775 | P15: 14643.014 | Q15: 14807.042 | R15: 14883.841 | S15: 14048.059 | T15: 13161.552 | U15: 12277.889 | V15: 11726.074 | W15: 10808.278 | X15: 10299.129 | Y15: 10229.915 | AB15: =MONTH(A15) -> 1 | AC15: =YEAR(A15) -> 2025 | AD15: =SUM(B15:Z15) -> 300486.15
A16: 45667 | B16: 9641.596 | C16: 9657.715 | D16: 9744.943 | E16: 10025.591 | F16: 10418.12 | G16: 10666.057 | H16: 11470.551 | I16: 12759.068 | J16: 13348.809 | K16: 14343.877 | L16: 15067.779 | M16: 15086.742 | N16: 14793.768 | O16: 14682.362 | P16: 14554.364 | Q16: 14751.576 | R16: 14865.352 | S16: 14036.207 | T16: 13146.856 | U16: 12274.57 | V16: 11734.607 | W16: 10813.019 | X16: 10320.936 | Y16: 10262.625 | AB16: =MONTH(A16) -> 1 | AC16: =YEAR(A16) -> 2025 | AD16: =SUM(B16:Z16) -> 298467.09
A17: 45668 | B17: 9625.952 | C17: 9453.391 | D17: 9478.517 | E17: 9669.566 | F17: 9930.778 | G17: 10240.818 | H17: 10823.922 | I17: 11430.255 | J17: 11738.873 | K17: 12471.309 | L17: 12494.538 | M17: 11912.856 | N17: 11439.736 | O17: 11155.77 | P17: 11185.636 | Q17: 10936.276 | R17: 10855.685 | S17: 11303.205 | T17: 11463.914 | U17: 10924.899 | V17: 10934.38 | W17: 10546.118 | X17: 9962.066 | Y17: 9947.37 | AB17: =MONTH(A17) -> 1 | AC17: =YEAR(A17) -> 2025 | AD17: =SUM(B17:Z17) -> 259925.83
A18: 45669 | B18: 9734.04 | C18: 9546.309 | D18: 9557.212 | E18: 9656.766 | F18: 9781.92 | G18: 10053.561 | H18: 10625.762 | I18: 11217.399 | J18: 11553.513 | K18: 12298.274 | L18: 12349.947 | M18: 11783.91 | N18: 11329.753 | O18: 11048.63 | P18: 11078.023 | Q18: 10823.922 | R18: 10784.574 | S18: 11219.769 | T18: 11400.863 | U18: 10847.625 | V18: 10861.373 | W18: 10477.378 | X18: 9875.312 | Y18: 9836.438 | AB18: =MONTH(A18) -> 1 | AC18: =YEAR(A18) -> 2025 | AD18: =SUM(B18:Z18) -> 257742.27
... A279: 45930 | B279: 5609.839 | C279: 5541.978 | D279: 5587.614 | E279: 5917.583 | F279: 6825.782 | G279: 8458.01 | H279: 10250.566 | I279: 11296.8 | J279: 11802.552 | K279: 11136.511 | L279: 11195.474 | M279: 11277.992 | N279: 10941.256 | O279: 11105.387 | P279: 11090.588 | Q279: 11551.282 | R279: 11713.493 | S279: 12259.146 | T279: 13071.599 | U279: 11934.93 | V279: 10527.244 | W279: 8695.613 | X279: 7293.443 | Y279: 6179.619 | AB279: =MONTH(A279) -> 9 | AC279: =YEAR(A279) -> 2025 | AD279: =SUM(B279:Z279) -> 231264.3
A280: =ALL!A280 -> 45931 | B280: 5922.5321 | C280: 5757.7556 | D280: 5704.397 | E280: 5701.9196 | F280: 5887.5458 | G280: 6652.8657 | H280: 7584.2565 | I280: 8006.7172 | J280: 7974.9048 | K280: 7964.5691 | L280: 8057.0172 | M280: 7980.9484 | N280: 7937.3927 | O280: 7580.6065 | P280: 7474.0174 | Q280: 7572.9748 | R280: 8091.1393 | S280: 8503.6105 | T280: 9083.5203 | U280: 9048.2004 | V280: 8533.2245 | W280: 7785.7816 | X280: 7069.6855 | Y280: 6528.2863 | AB280: =MONTH(A280) -> 10 | AC280: =YEAR(A280) -> 2025 | AD280: =SUM(B280:Z280) -> 178403.87
A281: =ALL!A281 -> 45932 | B281: 6309.6142 | C281: 6169.1212 | D281: 6151.8168 | E281: 6227.1304 | F281: 6454.3194 | G281: 7096.4319 | H281: 8073.6734 | I281: 8570.2981 | J281: 8368.4856 | K281: 8284.0992 | L281: 8256.6606 | M281: 7997.9759 | N281: 7830.1366 | O281: 7663.6943 | P281: 7444.5125 | Q281: 7406.2473 | R281: 7711.3071 | S281: 8223.258 | T281: 8809.8786 | U281: 8870.0716 | V281: 8431.5085 | W281: 7762.7168 | X281: 7077.5416 | Y281: 6526.3165 | AB281: =MONTH(A281) -> 10 | AC281: =YEAR(A281) -> 2025 | AD281: =SUM(B281:Z281) -> 181716.82
A282: =ALL!A282 -> 45933 | B282: 6223.4594 | C282: 6060.1764 | D282: 6031.0553 | E282: 6046.5221 | F282: 6283.8642 | G282: 6913.43 | H282: 7891.2274 | I282: 8316.5767 | J282: 8216.4571 | K282: 8063.5727 | L282: 7950.4072 | M282: 7784.9446 | N282: 7613.2811 | O282: 7552.6035 | P282: 7476.7382 | Q282: 7446.7864 | R282: 7439.1464 | S282: 7658.0094 | T282: 8132.872 | U282: 8027.3046 | V282: 7690.2331 | W282: 7108.4688 | X282: 6583.4594 | Y282: 6177.7661 | AB282: =MONTH(A282) -> 10 | AC282: =YEAR(A282) -> 2025 | AD282: =SUM(B282:Z282) -> 174688.36
A283: =ALL!A283 -> 45934 | B283: 5948.8758 | C283: 5760.3421 | D283: 5686.4025 | E283: 5621.9804 | F283: 5731.6196 | G283: 6040.726 | H283: 6471.4518 | I283: 7012.5909 | J283: 7397.2857 | K283: 7570.2163 | L283: 7591.2861 | M283: 7365.1166 | N283: 7509.203 | O283: 7214.5125 | P283: 7081.0344 | Q283: 7103.0147 | R283: 7187.7996 | S283: 7520.9484 | T283: 7796.0795 | U283: 7787.9612 | V283: 7528.171 | W283: 7063.7657 | X283: 6608.0367 | Y283: 6269.3436 | AB283: =MONTH(A283) -> 10 | AC283: =YEAR(A283) -> 2025 | AD283: =SUM(B283:Z283) -> 164867.76
A284: =ALL!A284 -> 45935 | B284: 5994.8145 | C284: 5815.7039 | D284: 5692.3895 | E284: 5656.799 | F284: 5723.2894 | G284: 5931.9825 | H284: 6260.3966 | I284: 6805.7124 | J284: 7506.2557 | K284: 7729.4716 | L284: 7442.379 | M284: 7552.5301 | N284: 7490.8414 | O284: 7417.7409 | P284: 7255.2928 | Q284: 7523.537 | R284: 7749.6163 | S284: 8118.557 | T284: 8591.84 | U284: 8396.2725 | V284: 7843.4951 | W284: 7174.1139 | X284: 6577.5437 | Y284: 6155.6326 | AB284: =MONTH(A284) -> 10 | AC284: =YEAR(A284) -> 2025 | AD284: =SUM(B284:Z284) -> 168406.21
A285: =ALL!A285 -> 45936 | B285: 5860.3945 | C285: 5548.2569 | D285: 5444.2691 | E285: 5489.247 | F285: 5650.5959 | G285: 6219.9121 | H285: 7149.7002 | I285: 7701.347 | J285: 7731.4015 | K285: 7817.8563 | L285: 7955.8508 | M285: 8034.4579 | N285: 8039.3814 | O285: 8159.052 | P285: 8093.537 | Q285: 8026.327 | R285: 8210.5582 | S285: 8542.4546 | T285: 8990.082 | U285: 8761.8546 | V285: 8098.6975 | W285: 7317.2102 | X285: 6662.3664 | Y285: 6269.1149 | AB285: =MONTH(A285) -> 10 | AC285: =YEAR(A285) -> 2025 | AD285: =SUM(B285:Z285) -> 175773.93
A286: =ALL!A286 -> 45937 | B286: 6062.3664 | C286: 5872.0832 | D286: 5766.8619 | E286: 5809.6414 | F286: 5922.0182 | G286: 6534.4516 | H286: 7348.8506 | I286: 7652.0161 | J286: 7633.516 | K286: 7715.4103 | L286: 7966.9228 | M286: 7936.4256 | N286: 8048.3724 | O286: 7969.3352 | P286: 7970.3317 | Q286: 7918.4353 | R286: 8207.3046 | S286: 8511.6155 | T286: 8954.137 | U286: 8779.2345 | V286: 8195.9453 | W286: 7558.8317 | X286: 6963.6985 | Y286: 6435.4543 | AB286: =MONTH(A286) -> 10 | AC286: =YEAR(A286) -> 2025 | AD286: =SUM(B286:Z286) -> 177733.26
A287: =ALL!A287 -> 45938 | B287: 5935.2508 | C287: 5741.4602 | D287: 5651.5252 | E287: 5660.4512 | F287: 5938.3345 | G287: 6393.5013 | H287: 7257.2144 | I287: 7815.7795 | J287: 8096.304 | K287: 8215.36 | L287: 8409.6814 | M287: 8453.8328 | N287: 8393.4783 | O287: 8391.3302 | P287: 7946.2872 | Q287: 8151.1708 | R287: 8389.2241 | S287: 8876.455 | T287: 9170.7198 | U287: 8983.2161 | V287: 8518.8569 | W287: 7644.695 | X287: 7100.1827 | Y287: 6708.1521 | AB287: =MONTH(A287) -> 10 | AC287: =YEAR(A287) -> 2025 | AD287: =SUM(B287:Z287) -> 181842.46
A288: =ALL!A288 -> 45939 | B288: 6481.5441 | C288: 6331.3364 | D288: 6205.6662 | E288: 6192.5783 | F288: 6405.2383 | G288: 7098.6807 | H288: 8154.265 | I288: 8688.1311 | J288: 8734.2755 | K288: 8682.2259 | L288: 8852.4966 | M288: 8872.1169 | N288: 8803.3189 | O288: 8794.4768 | P288: 8753.6881 | Q288: 8627.7221 | R288: 8823.6482 | S288: 9301.0848 | T288: 9783.8937 | U288: 9654.2293 | V288: 9018.6031 | W288: 8321.0218 | X288: 7759.9624 | Y288: 7227.8563 | AB288: =MONTH(A288) -> 10 | AC288: =YEAR(A288) -> 2025 | AD288: =SUM(B288:Z288) -> 195568.06
A289: =ALL!A289 -> 45940 | B289: 6940.854 | C289: 6771.2483 | D289: 6713.881 | E289: 6777.3234 | F289: 7029.4695 | G289: 7607.8038 | H289: 8554.4349 | I289: 8919.1276 | J289: 8931.1582 | K289: 8638.2276 | L289: 8551.5735 | M289: 8316.4089 | N289: 8128.4563 | O289: 7889.6016 | P289: 7596.6144 | Q289: 7640.8959 | R289: 7863.3042 | S289: 8607.2291 | T289: 9186.2348 | U289: 8983.1427 | V289: 8602.2784 | W289: 8063.2245 | X289: 7464.1013 | Y289: 7014.546 | AB289: =MONTH(A289) -> 10 | AC289: =YEAR(A289) -> 2025 | AD289: =SUM(B289:Z289) -> 190791.14
A290: =ALL!A290 -> 45941 | B290: 6761.2693 | C290: 6575.5068 | D290: 6484.4013 | E290: 6524.1978 | F290: 6620.684 | G290: 6967.7724 | H290: 7505.5278 | I290: 7962.7441 | J290: 8350.8897 | K290: 8342.0833 | L290: 8208.3682 | M290: 7873.8118 | N290: 7752.3602 | O290: 7613.2601 | P290: 7443.1028 | Q290: 7282.7441 | R290: 7631.8651 | S290: 8062.3119 | T290: 8560.1534 | U290: 8443.9251 | V290: 8167.9717 | W290: 7677.7262 | X290: 7117.5626 | Y290: 6757.8143 | AB290: =MONTH(A290) -> 10 | AC290: =YEAR(A290) -> 2025 | AD290: =SUM(B290:Z290) -> 180688.05
A291: =ALL!A291 -> 45942 | B291: 6527.8584 | C291: 6357.1745 | D291: 6314.8942 | E291: 6342.8825 | F291: 6414.2733 | G291: 6724.953 | H291: 7139.2282 | I291: 7735.5551 | J291: 8294.2272 | K291: 8319.631 | L291: 8157.8248 | M291: 7923.9713 | N291: 7796.5494 | O291: 7598.4982 | P291: 7486.0061 | Q291: 7422.1378 | R291: 7832.4525 | S291: 8483.3126 | T291: 9056.262 | U291: 8814.095 | V291: 8376.8032 | W291: 7745.6264 | X291: 7202.4567 | Y291: 6789.4757 | AB291: =MONTH(A291) -> 10 | AC291: =YEAR(A291) -> 2025 | AD291: =SUM(B291:Z291) -> 180856.15
... A522: =ALL!A522 -> 46173 | B522: 5643.8643 | C522: 5450.5922 | D522: 5396.9494 | E522: 5383.6921 | F522: 5420.1453 | G522: 5507.316 | H522: 5675.9571 | I522: 6042.2456 | J522: 6514.0244 | K522: 6889.8559 | L522: 6953.4632 | M522: 6956.4572 | N522: 7008.9082 | O522: 6770.5296 | P522: 6794.9624 | Q522: 6875.8166 | R522: 7205.2225 | S522: 7399.3081 | T522: 7214.3383 | U522: 7269.01 | V522: 7426.2076 | W522: 7122.3088 | X522: 6361.7219 | Y522: 5741.5557 | AB522: =MONTH(A522) -> 5 | AC522: =YEAR(A522) -> 2026 | AD522: =SUM(B522:Z522) -> 155024.45
A523: =ALL!A523 -> 46174 | AB523: =MONTH(A523) -> 6 | AC523: =YEAR(A523) -> 2026 | AD523: =SUM(B523:Z523) -> 0
A524: =ALL!A524 -> 46175 | AB524: =MONTH(A524) -> 6 | AC524: =YEAR(A524) -> 2026 | AD524: =SUM(B524:Z524) -> 0
A525: =ALL!A525 -> 46176 | AB525: =MONTH(A525) -> 6 | AC525: =YEAR(A525) -> 2026 | AD525: =SUM(B525:Z525) -> 0
A526: =ALL!A526 -> 46177 | AB526: =MONTH(A526) -> 6 | AC526: =YEAR(A526) -> 2026 | AD526: =SUM(B526:Z526) -> 0
A527: =ALL!A527 -> 46178 | AB527: =MONTH(A527) -> 6 | AC527: =YEAR(A527) -> 2026 | AD527: =SUM(B527:Z527) -> 0
A528: =ALL!A528 -> 46179 | AB528: =MONTH(A528) -> 6 | AC528: =YEAR(A528) -> 2026 | AD528: =SUM(B528:Z528) -> 0
A529: =ALL!A529 -> 46180 | AB529: =MONTH(A529) -> 6 | AC529: =YEAR(A529) -> 2026 | AD529: =SUM(B529:Z529) -> 0
A530: =ALL!A530 -> 46181 | AB530: =MONTH(A530) -> 6 | AC530: =YEAR(A530) -> 2026 | AD530: =SUM(B530:Z530) -> 0
A531: =ALL!A531 -> 46182 | AB531: =MONTH(A531) -> 6 | AC531: =YEAR(A531) -> 2026 | AD531: =SUM(B531:Z531) -> 0
A532: =ALL!A532 -> 46183 | AB532: =MONTH(A532) -> 6 | AC532: =YEAR(A532) -> 2026 | AD532: =SUM(B532:Z532) -> 0
A533: =ALL!A533 -> 46184 | AB533: =MONTH(A533) -> 6 | AC533: =YEAR(A533) -> 2026 | AD533: =SUM(B533:Z533) -> 0
A534: =ALL!A534 -> 46185 | AB534: =MONTH(A534) -> 6 | AC534: =YEAR(A534) -> 2026 | AD534: =SUM(B534:Z534) -> 0
... A644: =ALL!A644 -> 46295 | AB644: =MONTH(A644) -> 9 | AC644: =YEAR(A644) -> 2026 | AD644: =SUM(B644:Z644) -> 0
