Workbook

Sheet CY Summary MGS-S
A1: Central Maine Power Company
A2: Medium Non-Residential Class
A3: 2025 Billing Units - All & SOP Only Customers
C8: January | D8: February | E8: March | F8: April | G8: May | H8: June | I8: July | J8: August | K8: September | L8: October | M8: November | N8: December | O8: YTD Total (1)
A9: Total
A10: MGS-S | B10: Customers | C10: 9821 | D10: 9757 | E10: 9791 | F10: 9756 | G10: 9709 | H10: 9723 | I10: 9695 | J10: 9658 | K10: 9662 | L10: 9682 | M10: 9584 | N10: 9595 | O10: =AVERAGE(C10:N10) -> 9702.75
B12: kWh | C12: 1.6488226e+08 | D12: 1.65262e+08 | E12: 1.5486728e+08 | F12: 1.4459703e+08 | G12: 1.435236e+08 | H12: 1.5337471e+08 | I12: 1.7194169e+08 | J12: 1.7660536e+08 | K12: 1.6437056e+08 | L12: 1.5580042e+08 | M12: 1.1927444e+08 | N12: 1.6961897e+08 | O12: =SUM(C12:N12) -> 1.8841183e+09
B14: kW | C14: 478288.83 | D14: 433367.71 | E14: 467175.19 | F14: 435923.52 | G14: 454496.22 | H14: 496319.42 | I14: 530995.35 | J14: 520768.37 | K14: 495988.08 | L14: 494370.23 | M14: 369517.76 | N14: 478964.5 | O14: =SUM(C14:N14) -> 5656175.2
A16: SOP Only
A17: MGS-S | B17: Customers | C17: 4247 | D17: 4001 | E17: 4218 | F17: 4207 | G17: 4186 | H17: 4190 | I17: 4229 | J17: 4201 | K17: 4225 | L17: 4303 | M17: 3583 | N17: 4286 | O17: =AVERAGE(C17:N17) -> 4156.3333
B19: kWh | C19: 47513345 | D19: 45097646 | E19: 44059506 | F19: 40394019 | G19: 40032440 | H19: 42841615 | I19: 51182046 | J19: 52268736 | K19: 46964267 | L19: 44987198 | M19: 32394160 | N19: 50657164 | O19: =SUM(C19:N19) -> 5.3839214e+08
B21: kW | C21: 152385.62 | D21: 137915.76 | E21: 149210.42 | F21: 139529.91 | G21: 148378.36 | H21: 160613.21 | I21: 181047.35 | J21: 176756.37 | K21: 164681.55 | L21: 165392.04 | M21: 115212.38 | N21: 161283.08 | O21: =SUM(C21:N21) -> 1852406
A24: (1) Customers are average year-to-date customers.
A27: Customer Counts represent the month the meter was read. If a customer had 2 meter reads in any given month, the customer is only counted once, but the sum of the kWh appears in the month read.
A29: Counts previously reported understated Jan - Jun, corrections made. Billed KWH were not impacted.

Sheet CY Summary MGS-P
A1: Central Maine Power Company
A2: Medium Non-Residential Class
A3: 2025 Billing Units - All & SOP Only Customers
C8: January | D8: February | E8: March | F8: April | G8: May | H8: June | I8: July | J8: August | K8: September | L8: October | M8: November | N8: December | O8: YTD Total (1)
A9: Total
A10: MGS-P | B10: Customers | C10: 163 | D10: 162 | E10: 160 | F10: 158 | G10: 156 | H10: 157 | I10: 155 | J10: 157 | K10: 157 | L10: 157 | M10: 157 | N10: 158 | O10: =AVERAGE(C10:N10) -> 158.08333
B12: kWh | C12: 7173064.5 | D12: 6930448.4 | E12: 6360477.1 | F12: 5587591.6 | G12: 5105025.5 | H12: 5311280.8 | I12: 5483698.8 | J12: 5848350.2 | K12: 5656176.4 | L12: 5936929.9 | M12: 3999825.4 | N12: 6248642.5 | O12: =SUM(C12:N12) -> 69641511
B14: kW | C14: 19965.42 | D14: 17825.56 | E14: 18522.57 | F14: 16011.2 | G14: 16398.85 | H14: 17077.47 | I14: 17686.83 | J14: 18433.82 | K14: 17630.3 | L14: 20207.18 | M14: 12022.64 | N14: 16261.69 | O14: =SUM(C14:N14) -> 208043.53
A16: SOP Only
A17: MGS-P | B17: Customers | C17: 64 | D17: 59 | E17: 61 | F17: 62 | G17: 60 | H17: 59 | I17: 62 | J17: 60 | K17: 61 | L17: 63 | M17: 45 | N17: 62 | O17: =AVERAGE(C17:N17) -> 59.833333
B19: kWh | C19: 2386323.6 | D19: 2407916.6 | E19: 1891828.3 | F19: 1549384.3 | G19: 1338431 | H19: 1328990.6 | I19: 1411955.6 | J19: 1561958.3 | K19: 1447913.9 | L19: 1369530 | M19: 869507.24 | N19: 1733064.1 | O19: =SUM(C19:N19) -> 19296803
B21: kW | C21: 6758.63 | D21: 6056.05 | E21: 5872.89 | F21: 5140.16 | G21: 5240.67 | H21: 5193.77 | I21: 5541.24 | J21: 5851.85 | K21: 5805.94 | L21: 5300.44 | M21: 3044.29 | N21: 5082 | O21: =SUM(C21:N21) -> 64887.93
A24: (1) Customers are average year-to-date customers.
A27: Customer Counts represent the month the meter was read. If a customer had 2 meter reads in any given month, the customer is only counted once, but the sum of the kWh appears in the month read.
A29: Counts previously reported understated Jan - Jun, corrections made. Billed KWH were not impacted.

Sheet CY Summary MGS
A1: Central Maine Power Company
A2: Medium Non-Residential Class
A3: 2025 Billing Units - All & SOP Only Customers
C8: January | D8: February | E8: March | F8: April | G8: May | H8: June | I8: July | J8: August | K8: September | L8: October | M8: November | N8: December | O8: YTD Total (1)
A9: Total
A10: MGS | B10: Customers | C10: =+'CY Summary MGS-S'!C10+'CY Summary MGS-P'!C10 -> 9984 | D10: =+'CY Summary MGS-S'!D10+'CY Summary MGS-P'!D10 -> 9919 | E10: =+'CY Summary MGS-S'!E10+'CY Summary MGS-P'!E10 -> 9951 | F10: =+'CY Summary MGS-S'!F10+'CY Summary MGS-P'!F10 -> 9914 | G10: =+'CY Summary MGS-S'!G10+'CY Summary MGS-P'!G10 -> 9865 | H10: =+'CY Summary MGS-S'!H10+'CY Summary MGS-P'!H10 -> 9880 | I10: =+'CY Summary MGS-S'!I10+'CY Summary MGS-P'!I10 -> 9850 | J10: =+'CY Summary MGS-S'!J10+'CY Summary MGS-P'!J10 -> 9815 | ... N10: =+'CY Summary MGS-S'!N10+'CY Summary MGS-P'!N10 -> 9753 | O10: =AVERAGE(C10:N10) -> 9860.8333
B12: kWh | C12: =+'CY Summary MGS-S'!C12+'CY Summary MGS-P'!C12 -> 1.7205533e+08 | D12: =+'CY Summary MGS-S'!D12+'CY Summary MGS-P'!D12 -> 1.7219245e+08 | E12: =+'CY Summary MGS-S'!E12+'CY Summary MGS-P'!E12 -> 1.6122775e+08 | F12: =+'CY Summary MGS-S'!F12+'CY Summary MGS-P'!F12 -> 1.5018462e+08 | G12: =+'CY Summary MGS-S'!G12+'CY Summary MGS-P'!G12 -> 1.4862863e+08 | H12: =+'CY Summary MGS-S'!H12+'CY Summary MGS-P'!H12 -> 1.5868599e+08 | I12: =+'CY Summary MGS-S'!I12+'CY Summary MGS-P'!I12 -> 1.7742539e+08 | J12: =+'CY Summary MGS-S'!J12+'CY Summary MGS-P'!J12 -> 1.8245371e+08 | ... N12: =+'CY Summary MGS-S'!N12+'CY Summary MGS-P'!N12 -> 1.7586761e+08 | O12: =SUM(C12:N12) -> 1.9537598e+09
B14: kW | C14: =+'CY Summary MGS-S'!C14+'CY Summary MGS-P'!C14 -> 498254.25 | D14: =+'CY Summary MGS-S'!D14+'CY Summary MGS-P'!D14 -> 451193.27 | E14: =+'CY Summary MGS-S'!E14+'CY Summary MGS-P'!E14 -> 485697.76 | F14: =+'CY Summary MGS-S'!F14+'CY Summary MGS-P'!F14 -> 451934.72 | G14: =+'CY Summary MGS-S'!G14+'CY Summary MGS-P'!G14 -> 470895.07 | H14: =+'CY Summary MGS-S'!H14+'CY Summary MGS-P'!H14 -> 513396.89 | I14: =+'CY Summary MGS-S'!I14+'CY Summary MGS-P'!I14 -> 548682.18 | J14: =+'CY Summary MGS-S'!J14+'CY Summary MGS-P'!J14 -> 539202.19 | ... N14: =+'CY Summary MGS-S'!N14+'CY Summary MGS-P'!N14 -> 495226.19 | O14: =SUM(C14:N14) -> 5864218.7
A16: SOP Only
A17: MGS | B17: Customers | C17: ='CY Summary MGS-S'!C17+'CY Summary MGS-P'!C17 -> 4311 | D17: =+'CY Summary MGS-S'!D17+'CY Summary MGS-P'!D17 -> 4060 | E17: =+'CY Summary MGS-S'!E17+'CY Summary MGS-P'!E17 -> 4279 | F17: =+'CY Summary MGS-S'!F17+'CY Summary MGS-P'!F17 -> 4269 | G17: =+'CY Summary MGS-S'!G17+'CY Summary MGS-P'!G17 -> 4246 | H17: =+'CY Summary MGS-S'!H17+'CY Summary MGS-P'!H17 -> 4249 | I17: =+'CY Summary MGS-S'!I17+'CY Summary MGS-P'!I17 -> 4291 | J17: =+'CY Summary MGS-S'!J17+'CY Summary MGS-P'!J17 -> 4261 | K17: =+'CY Summary MGS-S'!K17+'CY Summary MGS-P'!K17 -> 4286 | ... N17: =+'CY Summary MGS-S'!N17+'CY Summary MGS-P'!N17 -> 4348 | O17: =AVERAGE(C17:N17) -> 4216.1667
B19: kWh | C19: =+'CY Summary MGS-S'!C19+'CY Summary MGS-P'!C19 -> 49899668 | D19: =+'CY Summary MGS-S'!D19+'CY Summary MGS-P'!D19 -> 47505563 | E19: =+'CY Summary MGS-S'!E19+'CY Summary MGS-P'!E19 -> 45951335 | F19: =+'CY Summary MGS-S'!F19+'CY Summary MGS-P'!F19 -> 41943403 | G19: =+'CY Summary MGS-S'!G19+'CY Summary MGS-P'!G19 -> 41370871 | H19: =+'CY Summary MGS-S'!H19+'CY Summary MGS-P'!H19 -> 44170606 | I19: =+'CY Summary MGS-S'!I19+'CY Summary MGS-P'!I19 -> 52594002 | J19: =+'CY Summary MGS-S'!J19+'CY Summary MGS-P'!J19 -> 53830694 | ... N19: =+'CY Summary MGS-S'!N19+'CY Summary MGS-P'!N19 -> 52390228 | O19: =SUM(C19:N19) -> 5.5768895e+08
B21: kW | C21: =+'CY Summary MGS-S'!C21+'CY Summary MGS-P'!C21 -> 159144.25 | D21: =+'CY Summary MGS-S'!D21+'CY Summary MGS-P'!D21 -> 143971.81 | E21: =+'CY Summary MGS-S'!E21+'CY Summary MGS-P'!E21 -> 155083.31 | F21: =+'CY Summary MGS-S'!F21+'CY Summary MGS-P'!F21 -> 144670.07 | G21: =+'CY Summary MGS-S'!G21+'CY Summary MGS-P'!G21 -> 153619.03 | H21: =+'CY Summary MGS-S'!H21+'CY Summary MGS-P'!H21 -> 165806.98 | I21: =+'CY Summary MGS-S'!I21+'CY Summary MGS-P'!I21 -> 186588.59 | J21: =+'CY Summary MGS-S'!J21+'CY Summary MGS-P'!J21 -> 182608.22 | ... N21: =+'CY Summary MGS-S'!N21+'CY Summary MGS-P'!N21 -> 166365.08 | O21: =SUM(C21:N21) -> 1917294
A24: (1) Customers are average year-to-date customers.
A27: Customer Counts represent the month the meter was read. If a customer had 2 meter reads in any given month, the customer is only counted once, but the sum of the kWh appears in the month read.
A29: Counts previously reported understated Jan - Jun, corrections made. Billed KWH were not impacted.
