Workbook

Sheet Hourly Loads - All
A1: VERSANT POWER - Maine Public Service District
A2: LARGE STANDARD OFFER CLASS, All Customers
A4: Data in kWhs
A6: Date/Hour | B6: 1 | C6: 2 | D6: 3 | E6: 4 | F6: 5 | G6: 6 | H6: 7 | I6: 8 | J6: 9 | K6: 10 | L6: 11 | M6: 12 | N6: 13 | O6: 14 | P6: 15 | Q6: 16 | R6: 17 | S6: 18 | T6: 19 | U6: 20 | V6: 21 | W6: 22 | X6: 23 | Y6: 24 | Z6: 25
A7: 45658 | B7: 17748 | C7: 16633 | D7: 16749 | E7: 17828 | F7: 17775 | G7: 18272 | H7: 18372 | I7: 17987 | J7: 17660 | K7: 18052 | L7: 18469 | M7: 18771 | N7: 18469 | O7: 17882 | P7: 18216 | Q7: 17497 | R7: 17338 | S7: 17521 | T7: 17625 | U7: 17430 | V7: 17245 | W7: 17129 | X7: 17028 | Y7: 16881 | Z7: 0 | AB7: =MONTH(A7) -> 1 | AC7: =YEAR(A7) -> 2025 | AD7: =SUM(B7:Z7) -> 424577 | AE7: 2025
A8: 45659 | B8: 17003 | C8: 17265 | D8: 17422 | E8: 17426 | F8: 18309 | G8: 20444 | H8: 22224 | I8: 22586 | J8: 22468 | K8: 22573 | L8: 22882 | M8: 21936 | N8: 22798 | O8: 23014 | P8: 22515 | Q8: 21007 | R8: 20178 | S8: 19129 | T8: 20121 | U8: 19561 | V8: 19599 | W8: 19405 | X8: 19624 | Y8: 18685 | Z8: 0 | AB8: =MONTH(A8) -> 1 | AC8: =YEAR(A8) -> 2025 | AD8: =SUM(B8:Z8) -> 488174 | AF8: 1 | AG8: =SUMIFS(AD:AD,AB:AB,AF8,AC:AC,$AE$7) -> 15355746 | AH8: =AG8/1000 -> 15355.746
A9: 45660 | B9: 18857 | C9: 19006 | D9: 18687 | E9: 18534 | F9: 18772 | G9: 19043 | H9: 20480 | I9: 20964 | J9: 20216 | K9: 21249 | L9: 21513 | M9: 20855 | N9: 21691 | O9: 22117 | P9: 21284 | Q9: 21208 | R9: 20562 | S9: 20146 | T9: 20751 | U9: 20702 | V9: 20422 | W9: 20311 | X9: 20429 | Y9: 19808 | Z9: 0 | AB9: =MONTH(A9) -> 1 | AC9: =YEAR(A9) -> 2025 | AD9: =SUM(B9:Z9) -> 487607 | AF9: 2 | AG9: =SUMIFS(AD:AD,AB:AB,AF9,AC:AC,$AE$7) -> 14179109 | AH9: =AG9/1000 -> 14179.109
A10: 45661 | B10: 19402 | C10: 20074 | D10: 20024 | E10: 20093 | F10: 20105 | G10: 19135 | H10: 19332 | I10: 19420 | J10: 19318 | K10: 18971 | L10: 19653 | M10: 19692 | N10: 19785 | O10: 19851 | P10: 19915 | Q10: 19992 | R10: 19846 | S10: 19646 | T10: 19444 | U10: 19213 | V10: 19066 | W10: 18932 | X10: 19408 | Y10: 19303 | Z10: 0 | AB10: =MONTH(A10) -> 1 | AC10: =YEAR(A10) -> 2025 | AD10: =SUM(B10:Z10) -> 469620 | AF10: 3 | AG10: =SUMIFS(AD:AD,AB:AB,AF10,AC:AC,$AE$7) -> 14319211 | AH10: =AG10/1000 -> 14319.211
A11: 45662 | B11: 19383 | C11: 18800 | D11: 18993 | E11: 19107 | F11: 19149 | G11: 19031 | H11: 19220 | I11: 19305 | J11: 18921 | K11: 18848 | L11: 19208 | M11: 19005 | N11: 19076 | O11: 19466 | P11: 19566 | Q11: 19498 | R11: 19835 | S11: 19675 | T11: 19349 | U11: 19378 | V11: 19189 | W11: 18735 | X11: 19261 | Y11: 19454 | Z11: 0 | AB11: =MONTH(A11) -> 1 | AC11: =YEAR(A11) -> 2025 | AD11: =SUM(B11:Z11) -> 461452 | AF11: 4 | AG11: =SUMIFS(AD:AD,AB:AB,AF11,AC:AC,$AE$7) -> 14121029 | AH11: =AG11/1000 -> 14121.029
A12: 45663 | B12: 19447 | C12: 19406 | D12: 19409 | E12: 19479 | F12: 20201 | G12: 21559 | H12: 22053 | I12: 22292 | J12: 23229 | K12: 23400 | L12: 23441 | M12: 22693 | N12: 23400 | O12: 22868 | P12: 21753 | Q12: 21059 | R12: 20490 | S12: 18972 | T12: 19839 | U12: 20360 | V12: 20349 | W12: 20930 | X12: 20668 | Y12: 20713 | Z12: 0 | AB12: =MONTH(A12) -> 1 | AC12: =YEAR(A12) -> 2025 | AD12: =SUM(B12:Z12) -> 508010 | AF12: 5 | AG12: =SUMIFS(AD:AD,AB:AB,AF12,AC:AC,$AE$7) -> 13958214 | AH12: =AG12/1000 -> 13958.214
A13: 45664 | B13: 20857 | C13: 20837 | D13: 20586 | E13: 21017 | F13: 20995 | G13: 22140 | H13: 24220 | I13: 24743 | J13: 24397 | K13: 23908 | L13: 24635 | M13: 24081 | N13: 23686 | O13: 24406 | P13: 24453 | Q13: 25097 | R13: 23378 | S13: 20951 | T13: 20878 | U13: 20833 | V13: 20368 | W13: 20655 | X13: 20769 | Y13: 20016 | Z13: 0 | AB13: =MONTH(A13) -> 1 | AC13: =YEAR(A13) -> 2025 | AD13: =SUM(B13:Z13) -> 537906 | AF13: 6 | AG13: =SUMIFS(AD:AD,AB:AB,AF13,AC:AC,$AE$7) -> 12235724 | AH13: =AG13/1000 -> 12235.724
A14: 45665 | B14: 20126 | C14: 19791 | D14: 19131 | E14: 19448 | F14: 19816 | G14: 21496 | H14: 23988 | I14: 23904 | J14: 23557 | K14: 23427 | L14: 23860 | M14: 22847 | N14: 23854 | O14: 24646 | P14: 24543 | Q14: 24249 | R14: 22247 | S14: 20717 | T14: 21078 | U14: 20552 | V14: 20646 | W14: 20848 | X14: 20541 | Y14: 20298 | Z14: 0 | AB14: =MONTH(A14) -> 1 | AC14: =YEAR(A14) -> 2025 | AD14: =SUM(B14:Z14) -> 525610 | AF14: 7 | AG14: =SUMIFS(AD:AD,AB:AB,AF14,AC:AC,$AE$7) -> 13361843 | AH14: =AG14/1000 -> 13361.843
A15: 45666 | B15: 20617 | C15: 20363 | D15: 20316 | E15: 20507 | F15: 20634 | G15: 22230 | H15: 24123 | I15: 24793 | J15: 23810 | K15: 23675 | L15: 23487 | M15: 23285 | N15: 22820 | O15: 23214 | P15: 23117 | Q15: 22451 | R15: 21741 | S15: 20499 | T15: 20272 | U15: 20362 | V15: 20044 | W15: 19951 | X15: 19831 | Y15: 18707 | Z15: 0 | AB15: =MONTH(A15) -> 1 | AC15: =YEAR(A15) -> 2025 | AD15: =SUM(B15:Z15) -> 520849 | AF15: 8 | AG15: =SUMIFS(AD:AD,AB:AB,AF15,AC:AC,$AE$7) -> 14130455 | AH15: =AG15/1000 -> 14130.455
A16: 45667 | B16: 18787 | C16: 18629 | D16: 18855 | E16: 18907 | F16: 19642 | G16: 19068 | H16: 19866 | I16: 20344 | J16: 19722 | K16: 19933 | L16: 20001 | M16: 19661 | N16: 20447 | O16: 20506 | P16: 20074 | Q16: 19754 | R16: 18651 | S16: 18053 | T16: 18323 | U16: 17964 | V16: 18078 | W16: 18173 | X16: 18195 | Y16: 18040 | Z16: 0 | AB16: =MONTH(A16) -> 1 | AC16: =YEAR(A16) -> 2025 | AD16: =SUM(B16:Z16) -> 459673 | AF16: 9 | AG16: =SUMIFS(AD:AD,AB:AB,AF16,AC:AC,$AE$7) -> 12944153 | AH16: =AG16/1000 -> 12944.153
A17: 45668 | B17: 18319 | C17: 18079 | D17: 17875 | E17: 18097 | F17: 18227 | G17: 17786 | H17: 18156 | I17: 18285 | J17: 18922 | K17: 19279 | L17: 19090 | M17: 19016 | N17: 18892 | O17: 19241 | P17: 18886 | Q17: 18442 | R17: 18797 | S17: 18928 | T17: 19617 | U17: 19268 | V17: 19478 | W17: 19190 | X17: 18980 | Y17: 19034 | Z17: 0 | AB17: =MONTH(A17) -> 1 | AC17: =YEAR(A17) -> 2025 | AD17: =SUM(B17:Z17) -> 449884 | AF17: 10 | AG17: =SUMIFS(AD:AD,AB:AB,AF17,AC:AC,$AE$7) -> 14414997 | AH17: =AG17/1000 -> 14414.997
A18: 45669 | B18: 19104 | C18: 19054 | D18: 18958 | E18: 18724 | F18: 18269 | G18: 18984 | H18: 18889 | I18: 18941 | J18: 18848 | K18: 19361 | L18: 19663 | M18: 19438 | N18: 19313 | O18: 19390 | P18: 19367 | Q18: 19585 | R18: 19746 | S18: 19400 | T18: 19490 | U18: 19013 | V18: 19346 | W18: 19545 | X18: 19387 | Y18: 19308 | Z18: 0 | AB18: =MONTH(A18) -> 1 | AC18: =YEAR(A18) -> 2025 | AD18: =SUM(B18:Z18) -> 461123 | AF18: 11 | AG18: =SUMIFS(AD:AD,AB:AB,AF18,AC:AC,$AE$7) -> 13592138 | AH18: =AG18/1000 -> 13592.138
A19: 45670 | B19: 19056 | C19: 18881 | D19: 19299 | E19: 19288 | F19: 19970 | G19: 21674 | H19: 24203 | I19: 23663 | J19: 23878 | K19: 23637 | L19: 24140 | M19: 23570 | N19: 23822 | O19: 24377 | P19: 23605 | Q19: 23685 | R19: 22834 | S19: 20725 | T19: 21310 | U19: 21020 | V19: 20272 | W19: 19812 | X19: 19626 | Y19: 19741 | Z19: 0 | AB19: =MONTH(A19) -> 1 | AC19: =YEAR(A19) -> 2025 | AD19: =SUM(B19:Z19) -> 522088 | AF19: 12 | AG19: =SUMIFS(AD:AD,AB:AB,AF19,AC:AC,$AE$7) -> 13728211 | AH19: =AG19/1000 -> 13728.211
A20: 45671 | B20: 20341 | C20: 20301 | D20: 20053 | E20: 20368 | F20: 20381 | G20: 20232 | H20: 22501 | I20: 21819 | J20: 21985 | K20: 22015 | L20: 21882 | M20: 21022 | N20: 21620 | O20: 22170 | P20: 21869 | Q20: 22929 | R20: 22500 | S20: 21069 | T20: 21878 | U20: 21383 | V20: 21034 | W20: 20973 | X20: 21286 | Y20: 20108 | Z20: 0 | AB20: =MONTH(A20) -> 1 | AC20: =YEAR(A20) -> 2025 | AD20: =SUM(B20:Z20) -> 511719 | AE20: 2026 | AF20: 1 | AG20: =SUMIFS(AD:AD,AB:AB,AF20,AC:AC,$AE$20) -> 14896416 | AH20: =AG20/1000 -> 14896.416
A21: 45672 | B21: 19938 | C21: 20442 | D21: 20086 | E21: 20512 | F21: 20880 | G21: 22676 | H21: 24864 | I21: 24898 | J21: 24944 | K21: 25412 | L21: 25563 | M21: 24565 | N21: 24891 | O21: 25092 | P21: 23934 | Q21: 24580 | R21: 22977 | S21: 21506 | T21: 22214 | U21: 22220 | V21: 21862 | W21: 21417 | X21: 21480 | Y21: 20800 | Z21: 0 | AB21: =MONTH(A21) -> 1 | AC21: =YEAR(A21) -> 2025 | AD21: =SUM(B21:Z21) -> 547753 | AF21: 2 | AG21: =SUMIFS(AD:AD,AB:AB,AF21,AC:AC,$AE$20) -> 14389549 | AH21: =AG21/1000 -> 14389.549
A22: 45673 | B22: 20982 | C22: 21152 | D22: 21046 | E22: 21161 | F22: 21122 | G22: 22037 | H22: 24340 | I22: 24268 | J22: 23441 | K22: 23238 | L22: 23467 | M22: 23021 | N22: 22868 | O22: 23700 | P22: 23464 | Q22: 23180 | R22: 22428 | S22: 20362 | T22: 20866 | U22: 20782 | V22: 20382 | W22: 19915 | X22: 19773 | Y22: 19980 | Z22: 0 | AB22: =MONTH(A22) -> 1 | AC22: =YEAR(A22) -> 2025 | AD22: =SUM(B22:Z22) -> 526975 | AF22: 3 | AG22: =SUMIFS(AD:AD,AB:AB,AF22,AC:AC,$AE$20) -> 14247749 | AH22: =AG22/1000 -> 14247.749
A23: 45674 | B23: 19361 | C23: 18863 | D23: 18816 | E23: 18549 | F23: 19464 | G23: 20158 | H23: 21303 | I23: 22127 | J23: 21759 | K23: 21199 | L23: 21171 | M23: 21324 | N23: 21746 | O23: 20392 | P23: 20285 | Q23: 20939 | R23: 20705 | S23: 20629 | T23: 21378 | U23: 21388 | V23: 21209 | W23: 21072 | X23: 20872 | Y23: 20119 | Z23: 0 | AB23: =MONTH(A23) -> 1 | AC23: =YEAR(A23) -> 2025 | AD23: =SUM(B23:Z23) -> 494828 | AF23: 4 | AG23: =SUMIFS(AD:AD,AB:AB,AF23,AC:AC,$AE$20) -> 13401539 | AH23: =AG23/1000 -> 13401.539
A24: 45675 | B24: 20501 | C24: 20474 | D24: 20483 | E24: 20545 | F24: 20036 | G24: 18805 | H24: 19035 | I24: 19214 | J24: 18622 | K24: 18793 | L24: 19322 | M24: 19280 | N24: 19540 | O24: 19515 | P24: 19274 | Q24: 19152 | R24: 19322 | S24: 19005 | T24: 18996 | U24: 18793 | V24: 19098 | W24: 18657 | X24: 18707 | Y24: 18826 | Z24: 0 | AB24: =MONTH(A24) -> 1 | AC24: =YEAR(A24) -> 2025 | AD24: =SUM(B24:Z24) -> 463995 | AF24: 5 | AG24: =SUMIFS(AD:AD,AB:AB,AF24,AC:AC,$AE$20) -> 12629681 | AH24: =AG24/1000 -> 12629.681
A25: 45676 | B25: 18553 | C25: 18227 | D25: 18715 | E25: 19036 | F25: 18637 | G25: 18861 | H25: 18437 | I25: 19162 | J25: 19318 | K25: 19352 | L25: 19533 | M25: 19568 | N25: 19494 | O25: 19429 | P25: 19708 | Q25: 19418 | R25: 19573 | S25: 19148 | T25: 18681 | U25: 19014 | V25: 19234 | W25: 19150 | X25: 19068 | Y25: 19181 | Z25: 0 | AB25: =MONTH(A25) -> 1 | AC25: =YEAR(A25) -> 2025 | AD25: =SUM(B25:Z25) -> 458497 | AF25: 6 | AG25: =SUMIFS(AD:AD,AB:AB,AF25,AC:AC,$AE$20) -> 13069197 | AH25: =AG25/1000 -> 13069.197
A26: 45677 | B26: 19152 | C26: 19051 | D26: 19175 | E26: 19577 | F26: 19194 | G26: 21131 | H26: 23869 | I26: 24488 | J26: 23630 | K26: 24247 | L26: 25008 | M26: 24225 | N26: 24680 | O26: 25286 | P26: 25339 | Q26: 25014 | R26: 24215 | S26: 22185 | T26: 22788 | U26: 21693 | V26: 21638 | W26: 22126 | X26: 21654 | Y26: 21211 | Z26: 0 | AB26: =MONTH(A26) -> 1 | AC26: =YEAR(A26) -> 2025 | AD26: =SUM(B26:Z26) -> 540576 | AF26: 7 | AG26: =SUMIFS(AD:AD,AB:AB,AF26,AC:AC,$AE$20) -> 12953247 | AH26: =AG26/1000 -> 12953.247
A27: 45678 | B27: 21330 | C27: 21406 | D27: 21022 | E27: 20986 | F27: 21065 | G27: 22412 | H27: 24457 | I27: 24153 | J27: 24258 | K27: 24672 | L27: 24585 | M27: 23065 | N27: 24156 | O27: 24099 | P27: 23910 | Q27: 24418 | R27: 23451 | S27: 21522 | T27: 21723 | U27: 21684 | V27: 21385 | W27: 21608 | X27: 21824 | Y27: 21069 | Z27: 0 | AB27: =MONTH(A27) -> 1 | AC27: =YEAR(A27) -> 2025 | AD27: =SUM(B27:Z27) -> 544260 | AF27: 8 | AG27: =SUMIFS(AD:AD,AB:AB,AF27,AC:AC,$AE$20) -> 0 | AH27: =AG27/1000 -> 0
A28: 45679 | B28: 21355 | C28: 21577 | D28: 21651 | E28: 21510 | F28: 21347 | G28: 20149 | H28: 20714 | I28: 19939 | J28: 18773 | K28: 18969 | L28: 18565 | M28: 17976 | N28: 18908 | O28: 19446 | P28: 19153 | Q28: 18471 | R28: 17687 | S28: 16819 | T28: 16889 | U28: 16343 | V28: 16053 | W28: 15783 | X28: 15940 | Y28: 15617 | Z28: 0 | AB28: =MONTH(A28) -> 1 | AC28: =YEAR(A28) -> 2025 | AD28: =SUM(B28:Z28) -> 449634 | AF28: 9 | AG28: =SUMIFS(AD:AD,AB:AB,AF28,AC:AC,$AE$20) -> 0 | AH28: =AG28/1000 -> 0
A29: 45680 | B29: 15536 | C29: 15553 | D29: 14773 | E29: 14770 | F29: 14703 | G29: 15747 | H29: 18115 | I29: 18508 | J29: 18324 | K29: 18490 | L29: 19056 | M29: 18156 | N29: 18876 | O29: 20894 | P29: 21275 | Q29: 21481 | R29: 20435 | S29: 18622 | T29: 19618 | U29: 19031 | V29: 18099 | W29: 17452 | X29: 17266 | Y29: 17370 | Z29: 0 | AB29: =MONTH(A29) -> 1 | AC29: =YEAR(A29) -> 2025 | AD29: =SUM(B29:Z29) -> 432150 | AF29: 10 | AG29: =SUMIFS(AD:AD,AB:AB,AF29,AC:AC,$AE$20) -> 0 | AH29: =AG29/1000 -> 0
A30: 45681 | B30: 17774 | C30: 18237 | D30: 18495 | E30: 18488 | F30: 18586 | G30: 18991 | H30: 21176 | I30: 21326 | J30: 21856 | K30: 21819 | L30: 22113 | M30: 21626 | N30: 21391 | O30: 22227 | P30: 22291 | Q30: 22170 | R30: 21690 | S30: 20979 | T30: 21246 | U30: 20952 | V30: 20587 | W30: 21177 | X30: 21301 | Y30: 19992 | Z30: 0 | AB30: =MONTH(A30) -> 1 | AC30: =YEAR(A30) -> 2025 | AD30: =SUM(B30:Z30) -> 496490 | AF30: 11 | AG30: =SUMIFS(AD:AD,AB:AB,AF30,AC:AC,$AE$20) -> 0 | AH30: =AG30/1000 -> 0
A31: 45682 | B31: 19418 | C31: 19157 | D31: 19681 | E31: 20558 | F31: 20611 | G31: 20146 | H31: 20116 | I31: 20009 | J31: 19782 | K31: 19658 | L31: 19794 | M31: 19744 | N31: 19718 | O31: 19129 | P31: 19077 | Q31: 19872 | R31: 20192 | S31: 20154 | T31: 20224 | U31: 20154 | V31: 19879 | W31: 19575 | X31: 19810 | Y31: 19607 | Z31: 0 | AB31: =MONTH(A31) -> 1 | AC31: =YEAR(A31) -> 2025 | AD31: =SUM(B31:Z31) -> 476065 | AF31: 12 | AG31: =SUMIFS(AD:AD,AB:AB,AF31,AC:AC,$AE$20) -> 0 | AH31: =AG31/1000 -> 0
A32: 45683 | B32: 19942 | C32: 20071 | D32: 19317 | E32: 19172 | F32: 19057 | G32: 19735 | H32: 19783 | I32: 19654 | J32: 19703 | K32: 19841 | L32: 20030 | M32: 19727 | N32: 19160 | O32: 19199 | P32: 19419 | Q32: 19833 | R32: 19604 | S32: 19776 | T32: 19611 | U32: 20018 | V32: 19809 | W32: 19581 | X32: 19473 | Y32: 18877 | Z32: 0 | AB32: =MONTH(A32) -> 1 | AC32: =YEAR(A32) -> 2025 | AD32: =SUM(B32:Z32) -> 470392 | AG32: =SUMIFS(AD:AD,AB:AB,AF32,AC:AC,$AE$20) -> 0 | AH32: =AG32/1000 -> 0
A33: 45684 | B33: 19165 | C33: 19306 | D33: 19325 | E33: 19427 | F33: 20439 | G33: 22553 | H33: 23927 | I33: 23634 | J33: 22946 | K33: 23980 | L33: 23953 | M33: 23599 | N33: 23993 | O33: 24127 | P33: 23420 | Q33: 23545 | R33: 22810 | S33: 22024 | T33: 22753 | U33: 22075 | V33: 21736 | W33: 21819 | X33: 21830 | Y33: 21315 | Z33: 0 | AB33: =MONTH(A33) -> 1 | AC33: =YEAR(A33) -> 2025 | AD33: =SUM(B33:Z33) -> 533701
A34: 45685 | B34: 21217 | C34: 20925 | D34: 20492 | E34: 20516 | F34: 20521 | G34: 20475 | H34: 21595 | I34: 21442 | J34: 21278 | K34: 21327 | L34: 21092 | M34: 20241 | N34: 21158 | O34: 21162 | P34: 21123 | Q34: 22096 | R34: 21925 | S34: 21099 | T34: 21483 | U34: 21674 | V34: 21364 | W34: 21330 | X34: 21558 | Y34: 21061 | Z34: 0 | AB34: =MONTH(A34) -> 1 | AC34: =YEAR(A34) -> 2025 | AD34: =SUM(B34:Z34) -> 508154
A35: 45686 | B35: 20855 | C35: 20599 | D35: 20233 | E35: 19947 | F35: 20372 | G35: 21704 | H35: 23282 | I35: 23890 | J35: 24257 | K35: 24127 | L35: 22649 | M35: 21689 | N35: 22394 | O35: 22755 | P35: 22039 | Q35: 23169 | R35: 22270 | S35: 21156 | T35: 21382 | U35: 21290 | V35: 21225 | W35: 21627 | X35: 21455 | Y35: 21130 | Z35: 0 | AB35: =MONTH(A35) -> 1 | AC35: =YEAR(A35) -> 2025 | AD35: =SUM(B35:Z35) -> 525496
A36: 45687 | B36: 21358 | C36: 21076 | D36: 20901 | E36: 20845 | F36: 20452 | G36: 21158 | H36: 24247 | I36: 25432 | J36: 25536 | K36: 24731 | L36: 24556 | M36: 24120 | N36: 24234 | O36: 24298 | P36: 24134 | Q36: 23729 | R36: 22479 | S36: 20370 | T36: 21147 | U36: 21157 | V36: 21151 | W36: 21067 | X36: 20635 | Y36: 20447 | Z36: 0 | AB36: =MONTH(A36) -> 1 | AC36: =YEAR(A36) -> 2025 | AD36: =SUM(B36:Z36) -> 539260
A37: 45688 | B37: 20702 | C37: 20782 | D37: 20603 | E37: 20163 | F37: 20445 | G37: 21068 | H37: 23142 | I37: 23311 | J37: 23387 | K37: 23627 | L37: 23444 | M37: 22761 | N37: 22570 | O37: 22602 | P37: 23177 | Q37: 22434 | R37: 22019 | S37: 20403 | T37: 20626 | U37: 20287 | V37: 20042 | W37: 20365 | X37: 20720 | Y37: 20548 | Z37: 0 | AB37: =MONTH(A37) -> 1 | AC37: =YEAR(A37) -> 2025 | AD37: =SUM(B37:Z37) -> 519228
A38: 45689 | B38: 20343 | C38: 20553 | D38: 20308 | E38: 19951 | F38: 20188 | G38: 20436 | H38: 21292 | I38: 20800 | J38: 20302 | K38: 20636 | L38: 20683 | M38: 20558 | N38: 20906 | O38: 21094 | P38: 20645 | Q38: 20856 | R38: 20737 | S38: 20338 | T38: 20213 | U38: 19584 | V38: 19074 | W38: 19454 | X38: 18551 | Y38: 19563 | Z38: 0 | AB38: =MONTH(A38) -> 2 | AC38: =YEAR(A38) -> 2025 | AD38: =SUM(B38:Z38) -> 487065
A39: 45690 | B39: 19938 | C39: 20020 | D39: 19984 | E39: 19956 | F39: 20003 | G39: 20222 | H39: 20394 | I39: 20201 | J39: 19763 | K39: 20370 | L39: 20201 | M39: 20415 | N39: 20526 | O39: 20395 | P39: 20346 | Q39: 20303 | R39: 20247 | S39: 20511 | T39: 20195 | U39: 20231 | V39: 20235 | W39: 20249 | X39: 20090 | Y39: 19834 | Z39: 0 | AB39: =MONTH(A39) -> 2 | AC39: =YEAR(A39) -> 2025 | AD39: =SUM(B39:Z39) -> 484629
A40: 45691 | B40: 19808 | C40: 20303 | D40: 20083 | E40: 19576 | F40: 20617 | G40: 22047 | H40: 23408 | I40: 23449 | J40: 23823 | K40: 23856 | L40: 24631 | M40: 24041 | N40: 24765 | O40: 24979 | P40: 24911 | Q40: 25582 | R40: 24122 | S40: 22814 | T40: 23012 | U40: 22349 | V40: 21982 | W40: 22207 | X40: 21961 | Y40: 21543 | Z40: 0 | AB40: =MONTH(A40) -> 2 | AC40: =YEAR(A40) -> 2025 | AD40: =SUM(B40:Z40) -> 545869
A41: 45692 | B41: 21840 | C41: 21952 | D41: 21324 | E41: 21266 | F41: 20567 | G41: 22083 | H41: 24848 | I41: 24973 | J41: 25259 | K41: 24695 | L41: 24602 | M41: 24423 | N41: 24163 | O41: 25014 | P41: 24839 | Q41: 24349 | R41: 21863 | S41: 21841 | T41: 23066 | U41: 22206 | V41: 22039 | W41: 22685 | X41: 22955 | Y41: 22326 | Z41: 0 | AB41: =MONTH(A41) -> 2 | AC41: =YEAR(A41) -> 2025 | AD41: =SUM(B41:Z41) -> 555178
A42: 45693 | B42: 21993 | C42: 21826 | D42: 22020 | E42: 22476 | F42: 22460 | G42: 23426 | H42: 25861 | I42: 25282 | J42: 23785 | K42: 24143 | L42: 25340 | M42: 24187 | N42: 24194 | O42: 25085 | P42: 25295 | Q42: 25548 | R42: 23939 | S42: 22073 | T42: 22713 | U42: 22590 | V42: 22243 | W42: 22220 | X42: 22003 | Y42: 21504 | Z42: 0 | AB42: =MONTH(A42) -> 2 | AC42: =YEAR(A42) -> 2025 | AD42: =SUM(B42:Z42) -> 562206
...

Sheet Hourly Loads - SO Only
A1: VERSANT POWER - Maine Public District
A2: LARGE STANDARD OFFER CLASS, Standard Offer Customers
A4: Data in kWhs
A6: Date/Hour | B6: 1 | C6: 2 | D6: 3 | E6: 4 | F6: 5 | G6: 6 | H6: 7 | I6: 8 | J6: 9 | K6: 10 | L6: 11 | M6: 12 | N6: 13 | O6: 14 | P6: 15 | Q6: 16 | R6: 17 | S6: 18 | T6: 19 | U6: 20 | V6: 21 | W6: 22 | X6: 23 | Y6: 24 | Z6: 25
A7: 45658 | B7: 387 | C7: 378 | D7: 383 | E7: 380 | F7: 413 | G7: 408 | H7: 422 | I7: 440 | J7: 437 | K7: 530 | L7: 642 | M7: 648 | N7: 656 | O7: 611 | P7: 584 | Q7: 562 | R7: 549 | S7: 556 | T7: 459 | U7: 413 | V7: 384 | W7: 380 | X7: 380 | Y7: 382 | Z7: 0 | AB7: =MONTH(A7) -> 1 | AC7: =YEAR(A7) -> 2025 | AD7: =SUM(B7:Z7) -> 11384 | AE7: 2025
A8: 45659 | B8: 390 | C8: 382 | D8: 383 | E8: 380 | F8: 412 | G8: 410 | H8: 433 | I8: 433 | J8: 637 | K8: 645 | L8: 647 | M8: 645 | N8: 622 | O8: 604 | P8: 565 | Q8: 564 | R8: 620 | S8: 533 | T8: 576 | U8: 422 | V8: 386 | W8: 376 | X8: 374 | Y8: 373 | Z8: 0 | AB8: =MONTH(A8) -> 1 | AC8: =YEAR(A8) -> 2025 | AD8: =SUM(B8:Z8) -> 11812 | AF8: 1 | AG8: =SUMIFS(AD:AD,AB:AB,AF8,AC:AC,$AE$7) -> 400930 | AH8: =AG8/1000 -> 400.93
A9: 45660 | B9: 384 | C9: 383 | D9: 383 | E9: 384 | F9: 416 | G9: 424 | H9: 422 | I9: 457 | J9: 515 | K9: 718 | L9: 693 | M9: 694 | N9: 703 | O9: 688 | P9: 699 | Q9: 627 | R9: 634 | S9: 617 | T9: 598 | U9: 450 | V9: 409 | W9: 404 | X9: 382 | Y9: 379 | Z9: 0 | AB9: =MONTH(A9) -> 1 | AC9: =YEAR(A9) -> 2025 | AD9: =SUM(B9:Z9) -> 12463 | AF9: 2 | AG9: =SUMIFS(AD:AD,AB:AB,AF9,AC:AC,$AE$7) -> 394146.75 | AH9: =AG9/1000 -> 394.14675
A10: 45661 | B10: 387 | C10: 376 | D10: 381 | E10: 386 | F10: 414 | G10: 412 | H10: 430 | I10: 458 | J10: 470 | K10: 609 | L10: 689 | M10: 693 | N10: 699 | O10: 691 | P10: 703 | Q10: 683 | R10: 674 | S10: 674 | T10: 662 | U10: 449 | V10: 408 | W10: 405 | X10: 385 | Y10: 376 | Z10: 0 | AB10: =MONTH(A10) -> 1 | AC10: =YEAR(A10) -> 2025 | AD10: =SUM(B10:Z10) -> 12514 | AF10: 3 | AG10: =SUMIFS(AD:AD,AB:AB,AF10,AC:AC,$AE$7) -> 433355.5 | AH10: =AG10/1000 -> 433.3555
A11: 45662 | B11: 382 | C11: 379 | D11: 380 | E11: 380 | F11: 393 | G11: 399 | H11: 445 | I11: 448 | J11: 455 | K11: 600 | L11: 652 | M11: 662 | N11: 664 | O11: 670 | P11: 667 | Q11: 664 | R11: 673 | S11: 654 | T11: 458 | U11: 425 | V11: 419 | W11: 418 | X11: 393 | Y11: 392 | Z11: 0 | AB11: =MONTH(A11) -> 1 | AC11: =YEAR(A11) -> 2025 | AD11: =SUM(B11:Z11) -> 12072 | AF11: 4 | AG11: =SUMIFS(AD:AD,AB:AB,AF11,AC:AC,$AE$7) -> 333916.72 | AH11: =AG11/1000 -> 333.91672
A12: 45663 | B12: 392 | C12: 398 | D12: 394 | E12: 388 | F12: 399 | G12: 410 | H12: 443 | I12: 455 | J12: 474 | K12: 713 | L12: 691 | M12: 700 | N12: 711 | O12: 689 | P12: 689 | Q12: 671 | R12: 676 | S12: 660 | T12: 661 | U12: 459 | V12: 417 | W12: 419 | X12: 396 | Y12: 395 | Z12: 0 | AB12: =MONTH(A12) -> 1 | AC12: =YEAR(A12) -> 2025 | AD12: =SUM(B12:Z12) -> 12700 | AF12: 5 | AG12: =SUMIFS(AD:AD,AB:AB,AF12,AC:AC,$AE$7) -> 335604 | AH12: =AG12/1000 -> 335.604
A13: 45664 | B13: 397 | C13: 394 | D13: 396 | E13: 389 | F13: 411 | G13: 412 | H13: 453 | I13: 483 | J13: 471 | K13: 675 | L13: 698 | M13: 700 | N13: 697 | O13: 693 | P13: 684 | Q13: 672 | R13: 663 | S13: 635 | T13: 606 | U13: 428 | V13: 388 | W13: 382 | X13: 378 | Y13: 379 | Z13: 0 | AB13: =MONTH(A13) -> 1 | AC13: =YEAR(A13) -> 2025 | AD13: =SUM(B13:Z13) -> 12484 | AF13: 6 | AG13: =SUMIFS(AD:AD,AB:AB,AF13,AC:AC,$AE$7) -> 348529 | AH13: =AG13/1000 -> 348.529
A14: 45665 | B14: 394 | C14: 389 | D14: 386 | E14: 387 | F14: 414 | G14: 426 | H14: 442 | I14: 450 | J14: 676 | K14: 707 | L14: 689 | M14: 696 | N14: 701 | O14: 689 | P14: 685 | Q14: 686 | R14: 685 | S14: 653 | T14: 637 | U14: 451 | V14: 411 | W14: 405 | X14: 384 | Y14: 385 | Z14: 0 | AB14: =MONTH(A14) -> 1 | AC14: =YEAR(A14) -> 2025 | AD14: =SUM(B14:Z14) -> 12828 | AF14: 7 | AG14: =SUMIFS(AD:AD,AB:AB,AF14,AC:AC,$AE$7) -> 400953.79 | AH14: =AG14/1000 -> 400.95379
A15: 45666 | B15: 394 | C15: 378 | D15: 381 | E15: 384 | F15: 389 | G15: 400 | H15: 451 | I15: 457 | J15: 667 | K15: 685 | L15: 693 | M15: 696 | N15: 703 | O15: 688 | P15: 679 | Q15: 682 | R15: 674 | S15: 677 | T15: 644 | U15: 450 | V15: 414 | W15: 405 | X15: 385 | Y15: 385 | Z15: 0 | AB15: =MONTH(A15) -> 1 | AC15: =YEAR(A15) -> 2025 | AD15: =SUM(B15:Z15) -> 12761 | AF15: 8 | AG15: =SUMIFS(AD:AD,AB:AB,AF15,AC:AC,$AE$7) -> 382524.62 | AH15: =AG15/1000 -> 382.52462
A16: 45667 | B16: 390 | C16: 383 | D16: 382 | E16: 385 | F16: 415 | G16: 416 | H16: 435 | I16: 451 | J16: 514 | K16: 592 | L16: 691 | M16: 693 | N16: 691 | O16: 684 | P16: 663 | Q16: 636 | R16: 608 | S16: 576 | T16: 590 | U16: 449 | V16: 407 | W16: 400 | X16: 382 | Y16: 377 | Z16: 0 | AB16: =MONTH(A16) -> 1 | AC16: =YEAR(A16) -> 2025 | AD16: =SUM(B16:Z16) -> 12210 | AF16: 9 | AG16: =SUMIFS(AD:AD,AB:AB,AF16,AC:AC,$AE$7) -> 340676.04 | AH16: =AG16/1000 -> 340.67604
A17: 45668 | B17: 386 | C17: 377 | D17: 380 | E17: 381 | F17: 391 | G17: 401 | H17: 454 | I17: 457 | J17: 487 | K17: 573 | L17: 686 | M17: 696 | N17: 692 | O17: 687 | P17: 697 | Q17: 670 | R17: 674 | S17: 646 | T17: 635 | U17: 435 | V17: 405 | W17: 394 | X17: 379 | Y17: 376 | Z17: 0 | AB17: =MONTH(A17) -> 1 | AC17: =YEAR(A17) -> 2025 | AD17: =SUM(B17:Z17) -> 12359 | AF17: 10 | AG17: =SUMIFS(AD:AD,AB:AB,AF17,AC:AC,$AE$7) -> 319095 | AH17: =AG17/1000 -> 319.095
A18: 45669 | B18: 381 | C18: 381 | D18: 379 | E18: 384 | F18: 419 | G18: 424 | H18: 434 | I18: 433 | J18: 452 | K18: 560 | L18: 648 | M18: 664 | N18: 661 | O18: 665 | P18: 649 | Q18: 653 | R18: 638 | S18: 527 | T18: 421 | U18: 389 | V18: 387 | W18: 388 | X18: 386 | Y18: 385 | Z18: 0 | AB18: =MONTH(A18) -> 1 | AC18: =YEAR(A18) -> 2025 | AD18: =SUM(B18:Z18) -> 11708 | AF18: 11 | AG18: =SUMIFS(AD:AD,AB:AB,AF18,AC:AC,$AE$7) -> 329133 | AH18: =AG18/1000 -> 329.133
A19: 45670 | B19: 391 | C19: 387 | D19: 383 | E19: 382 | F19: 427 | G19: 417 | H19: 443 | I19: 449 | J19: 502 | K19: 656 | L19: 667 | M19: 683 | N19: 694 | O19: 683 | P19: 675 | Q19: 618 | R19: 626 | S19: 612 | T19: 599 | U19: 441 | V19: 405 | W19: 401 | X19: 390 | Y19: 382 | Z19: 0 | AB19: =MONTH(A19) -> 1 | AC19: =YEAR(A19) -> 2025 | AD19: =SUM(B19:Z19) -> 12313 | AF19: 12 | AG19: =SUMIFS(AD:AD,AB:AB,AF19,AC:AC,$AE$7) -> 348393 | AH19: =AG19/1000 -> 348.393
A20: 45671 | B20: 384 | C20: 382 | D20: 386 | E20: 385 | F20: 414 | G20: 414 | H20: 419 | I20: 465 | J20: 681 | K20: 681 | L20: 695 | M20: 683 | N20: 695 | O20: 662 | P20: 637 | Q20: 623 | R20: 584 | S20: 608 | T20: 545 | U20: 446 | V20: 406 | W20: 402 | X20: 389 | Y20: 386 | Z20: 0 | AB20: =MONTH(A20) -> 1 | AC20: =YEAR(A20) -> 2025 | AD20: =SUM(B20:Z20) -> 12372 | AE20: 2026 | AF20: 1 | AG20: =SUMIFS(AD:AD,AB:AB,AF20,AC:AC,$AE$20) -> 377453.04 | AH20: =AG20/1000 -> 377.45304
A21: 45672 | B21: 390 | C21: 384 | D21: 378 | E21: 379 | F21: 430 | G21: 427 | H21: 436 | I21: 448 | J21: 670 | K21: 654 | L21: 669 | M21: 675 | N21: 668 | O21: 651 | P21: 648 | Q21: 602 | R21: 606 | S21: 591 | T21: 589 | U21: 422 | V21: 381 | W21: 387 | X21: 385 | Y21: 383 | Z21: 0 | AB21: =MONTH(A21) -> 1 | AC21: =YEAR(A21) -> 2025 | AD21: =SUM(B21:Z21) -> 12253 | AF21: 2 | AG21: =SUMIFS(AD:AD,AB:AB,AF21,AC:AC,$AE$20) -> 351078.91 | AH21: =AG21/1000 -> 351.07891
A22: 45673 | B22: 392 | C22: 385 | D22: 383 | E22: 388 | F22: 406 | G22: 422 | H22: 424 | I22: 461 | J22: 705 | K22: 714 | L22: 702 | M22: 698 | N22: 684 | O22: 673 | P22: 655 | Q22: 625 | R22: 629 | S22: 622 | T22: 623 | U22: 454 | V22: 409 | W22: 407 | X22: 388 | Y22: 375 | Z22: 0 | AB22: =MONTH(A22) -> 1 | AC22: =YEAR(A22) -> 2025 | AD22: =SUM(B22:Z22) -> 12624 | AF22: 3 | AG22: =SUMIFS(AD:AD,AB:AB,AF22,AC:AC,$AE$20) -> 370702.23 | AH22: =AG22/1000 -> 370.70223
A23: 45674 | B23: 387 | C23: 379 | D23: 380 | E23: 385 | F23: 421 | G23: 418 | H23: 448 | I23: 456 | J23: 645 | K23: 708 | L23: 689 | M23: 681 | N23: 684 | O23: 685 | P23: 670 | Q23: 667 | R23: 657 | S23: 649 | T23: 601 | U23: 431 | V23: 399 | W23: 392 | X23: 374 | Y23: 367 | Z23: 0 | AB23: =MONTH(A23) -> 1 | AC23: =YEAR(A23) -> 2025 | AD23: =SUM(B23:Z23) -> 12573 | AF23: 4 | AG23: =SUMIFS(AD:AD,AB:AB,AF23,AC:AC,$AE$20) -> 332027.03 | AH23: =AG23/1000 -> 332.02703
A24: 45675 | B24: 373 | C24: 373 | D24: 369 | E24: 378 | F24: 383 | G24: 396 | H24: 420 | I24: 455 | J24: 491 | K24: 586 | L24: 683 | M24: 695 | N24: 690 | O24: 704 | P24: 692 | Q24: 632 | R24: 600 | S24: 608 | T24: 573 | U24: 439 | V24: 405 | W24: 393 | X24: 380 | Y24: 380 | Z24: 0 | AB24: =MONTH(A24) -> 1 | AC24: =YEAR(A24) -> 2025 | AD24: =SUM(B24:Z24) -> 12098 | AF24: 5 | AG24: =SUMIFS(AD:AD,AB:AB,AF24,AC:AC,$AE$20) -> 335380.1 | AH24: =AG24/1000 -> 335.3801
A25: 45676 | B25: 380 | C25: 375 | D25: 376 | E25: 378 | F25: 382 | G25: 388 | H25: 421 | I25: 432 | J25: 434 | K25: 498 | L25: 640 | M25: 654 | N25: 655 | O25: 638 | P25: 603 | Q25: 581 | R25: 561 | S25: 518 | T25: 421 | U25: 387 | V25: 383 | W25: 374 | X25: 378 | Y25: 377 | Z25: 0 | AB25: =MONTH(A25) -> 1 | AC25: =YEAR(A25) -> 2025 | AD25: =SUM(B25:Z25) -> 11234 | AF25: 6 | AG25: =SUMIFS(AD:AD,AB:AB,AF25,AC:AC,$AE$20) -> 440661.41 | AH25: =AG25/1000 -> 440.66141
A26: 45677 | B26: 380 | C26: 372 | D26: 373 | E26: 378 | F26: 390 | G26: 399 | H26: 428 | I26: 460 | J26: 484 | K26: 620 | L26: 684 | M26: 707 | N26: 682 | O26: 689 | P26: 686 | Q26: 681 | R26: 696 | S26: 674 | T26: 676 | U26: 448 | V26: 415 | W26: 394 | X26: 385 | Y26: 387 | Z26: 0 | AB26: =MONTH(A26) -> 1 | AC26: =YEAR(A26) -> 2025 | AD26: =SUM(B26:Z26) -> 12488 | AF26: 7 | AG26: =SUMIFS(AD:AD,AB:AB,AF26,AC:AC,$AE$20) -> 512703.9 | AH26: =AG26/1000 -> 512.7039
A27: 45678 | B27: 390 | C27: 381 | D27: 379 | E27: 383 | F27: 404 | G27: 434 | H27: 445 | I27: 471 | J27: 719 | K27: 725 | L27: 719 | M27: 713 | N27: 729 | O27: 705 | P27: 700 | Q27: 702 | R27: 692 | S27: 694 | T27: 681 | U27: 455 | V27: 416 | W27: 406 | X27: 381 | Y27: 380 | Z27: 0 | AB27: =MONTH(A27) -> 1 | AC27: =YEAR(A27) -> 2025 | AD27: =SUM(B27:Z27) -> 13104 | AF27: 8 | AG27: =SUMIFS(AD:AD,AB:AB,AF27,AC:AC,$AE$20) -> 0 | AH27: =AG27/1000 -> 0
A28: 45679 | B28: 473 | C28: 468.5 | D28: 469 | E28: 475 | F28: 524.5 | G28: 836 | H28: 693 | I28: 656.25 | J28: 536.75 | K28: 698.25 | L28: 777.25 | M28: 675.75 | N28: 588.5 | O28: 762.25 | P28: 760.25 | Q28: 639.25 | R28: 563.5 | S28: 676 | T28: 654.5 | U28: 525 | V28: 500.5 | W28: 498 | X28: 483.5 | Y28: 484 | Z28: 0 | AB28: =MONTH(A28) -> 1 | AC28: =YEAR(A28) -> 2025 | AD28: =SUM(B28:Z28) -> 14418.5 | AF28: 9 | AG28: =SUMIFS(AD:AD,AB:AB,AF28,AC:AC,$AE$20) -> 0 | AH28: =AG28/1000 -> 0
A29: 45680 | B29: 489.5 | C29: 481.5 | D29: 481 | E29: 486.5 | F29: 533 | G29: 832.5 | H29: 717.25 | I29: 719 | J29: 784.5 | K29: 712.25 | L29: 768.25 | M29: 747.25 | N29: 607 | O29: 753.75 | P29: 773.75 | Q29: 593.75 | R29: 523.5 | S29: 677 | T29: 679 | U29: 563.5 | V29: 544 | W29: 539.5 | X29: 525.5 | Y29: 526 | Z29: 0 | AB29: =MONTH(A29) -> 1 | AC29: =YEAR(A29) -> 2025 | AD29: =SUM(B29:Z29) -> 15058.75 | AF29: 10 | AG29: =SUMIFS(AD:AD,AB:AB,AF29,AC:AC,$AE$20) -> 0 | AH29: =AG29/1000 -> 0
A30: 45681 | B30: 532 | C30: 525.5 | D30: 522 | E30: 528 | F30: 539.5 | G30: 599 | H30: 710.5 | I30: 715 | J30: 837 | K30: 835.5 | L30: 818.5 | M30: 809.5 | N30: 620.5 | O30: 561.5 | P30: 528 | Q30: 632 | R30: 635.5 | S30: 621 | T30: 621.5 | U30: 518 | V30: 500 | W30: 492 | X30: 491.5 | Y30: 492.5 | Z30: 0 | AB30: =MONTH(A30) -> 1 | AC30: =YEAR(A30) -> 2025 | AD30: =SUM(B30:Z30) -> 14686 | AF30: 11 | AG30: =SUMIFS(AD:AD,AB:AB,AF30,AC:AC,$AE$20) -> 0 | AH30: =AG30/1000 -> 0
A31: 45682 | B31: 496.5 | C31: 496.5 | D31: 500 | E31: 497.5 | F31: 510 | G31: 515 | H31: 537 | I31: 545 | J31: 570 | K31: 641 | L31: 663.5 | M31: 670 | N31: 657 | O31: 624.5 | P31: 616 | Q31: 618 | R31: 658.5 | S31: 676 | T31: 671.5 | U31: 568.5 | V31: 545 | W31: 544 | X31: 537.5 | Y31: 536 | Z31: 0 | AB31: =MONTH(A31) -> 1 | AC31: =YEAR(A31) -> 2025 | AD31: =SUM(B31:Z31) -> 13894.5 | AF31: 12 | AG31: =SUMIFS(AD:AD,AB:AB,AF31,AC:AC,$AE$20) -> 0 | AH31: =AG31/1000 -> 0
A32: 45683 | B32: 537.5 | C32: 534.5 | D32: 501 | E32: 479.5 | F32: 491.5 | G32: 490 | H32: 508 | I32: 516 | J32: 502 | K32: 587.5 | L32: 606 | M32: 618 | N32: 608.5 | O32: 603 | P32: 605 | Q32: 600.5 | R32: 617.5 | S32: 616.5 | T32: 519 | U32: 502.5 | V32: 499.5 | W32: 501.5 | X32: 487 | Y32: 489.5 | Z32: 0 | AB32: =MONTH(A32) -> 1 | AC32: =YEAR(A32) -> 2025 | AD32: =SUM(B32:Z32) -> 13021.5 | AG32: =SUMIFS(AD:AD,AB:AB,AF32,AC:AC,$AE$20) -> 0 | AH32: =AG32/1000 -> 0
A33: 45684 | B33: 486.5 | C33: 486 | D33: 489.5 | E33: 491 | F33: 509 | G33: 644.5 | H33: 801 | I33: 584 | J33: 576 | K33: 749 | L33: 760.5 | M33: 756.5 | N33: 683.5 | O33: 733 | P33: 753.5 | Q33: 700.5 | R33: 605 | S33: 561 | T33: 588.5 | U33: 465.5 | V33: 462.5 | W33: 451 | X33: 443.5 | Y33: 443 | Z33: 0 | AB33: =MONTH(A33) -> 1 | AC33: =YEAR(A33) -> 2025 | AD33: =SUM(B33:Z33) -> 14224
A34: 45685 | B34: 446.5 | C34: 449 | D34: 447.5 | E34: 444 | F34: 480.5 | G34: 514.5 | H34: 639 | I34: 677 | J34: 804.5 | K34: 743.5 | L34: 721 | M34: 744.5 | N34: 720 | O34: 765.5 | P34: 766 | Q34: 718.5 | R34: 670 | S34: 571 | T34: 583.5 | U34: 488 | V34: 449.5 | W34: 444.5 | X34: 424 | Y34: 427.5 | Z34: 0 | AB34: =MONTH(A34) -> 1 | AC34: =YEAR(A34) -> 2025 | AD34: =SUM(B34:Z34) -> 14139.5
A35: 45686 | B35: 432.5 | C35: 425.5 | D35: 425 | E35: 429 | F35: 463 | G35: 527 | H35: 684.5 | I35: 712.5 | J35: 842.5 | K35: 758 | L35: 764.5 | M35: 827 | N35: 720.5 | O35: 764 | P35: 766 | Q35: 738 | R35: 690.5 | S35: 613.5 | T35: 591.5 | U35: 414.5 | V35: 310 | W35: 467 | X35: 496.5 | Y35: 458 | Z35: 0 | AB35: =MONTH(A35) -> 1 | AC35: =YEAR(A35) -> 2025 | AD35: =SUM(B35:Z35) -> 14321
A36: 45687 | B36: 458.5 | C36: 458.5 | D36: 456 | E36: 457 | F36: 508 | G36: 748.5 | H36: 702.25 | I36: 691.25 | J36: 765.5 | K36: 648.25 | L36: 756.25 | M36: 707.75 | N36: 560.25 | O36: 739.5 | P36: 743.5 | Q36: 698.75 | R36: 539 | S36: 660.5 | T36: 654 | U36: 544.5 | V36: 532.5 | W36: 522 | X36: 517.5 | Y36: 511 | Z36: 0 | AB36: =MONTH(A36) -> 1 | AC36: =YEAR(A36) -> 2025 | AD36: =SUM(B36:Z36) -> 14580.75
A37: 45688 | B37: 510 | C37: 505 | D37: 504 | E37: 508.5 | F37: 527 | G37: 843 | H37: 664.5 | I37: 644.25 | J37: 689.25 | K37: 658 | L37: 694.75 | M37: 770.25 | N37: 603 | O37: 665 | P37: 723.25 | Q37: 666 | R37: 517.25 | S37: 621.5 | T37: 593 | U37: 474.5 | V37: 459.5 | W37: 469 | X37: 459 | Y37: 462 | Z37: 0 | AB37: =MONTH(A37) -> 1 | AC37: =YEAR(A37) -> 2025 | AD37: =SUM(B37:Z37) -> 14231.5
A38: 45689 | B38: 466 | C38: 458.5 | D38: 460.5 | E38: 460 | F38: 495 | G38: 571.5 | H38: 642 | I38: 593.5 | J38: 597 | K38: 676.5 | L38: 689 | M38: 668 | N38: 633 | O38: 634 | P38: 638.5 | Q38: 626.5 | R38: 630 | S38: 620.5 | T38: 594.5 | U38: 490.5 | V38: 472.5 | W38: 473.5 | X38: 464.5 | Y38: 463.5 | Z38: 0 | AB38: =MONTH(A38) -> 2 | AC38: =YEAR(A38) -> 2025 | AD38: =SUM(B38:Z38) -> 13519
A39: 45690 | B39: 466 | C39: 464 | D39: 463 | E39: 466 | F39: 473 | G39: 481.5 | H39: 490 | I39: 523.5 | J39: 554 | K39: 632 | L39: 631 | M39: 631 | N39: 622 | O39: 609 | P39: 603.5 | Q39: 609.5 | R39: 602 | S39: 604 | T39: 501.5 | U39: 492 | V39: 484 | W39: 487 | X39: 475 | Y39: 470.5 | Z39: 0 | AB39: =MONTH(A39) -> 2 | AC39: =YEAR(A39) -> 2025 | AD39: =SUM(B39:Z39) -> 12835
A40: 45691 | B40: 469.5 | C40: 471 | D40: 468 | E40: 471 | F40: 490.5 | G40: 777 | H40: 646 | I40: 666.75 | J40: 736.75 | K40: 689.75 | L40: 719 | M40: 736 | N40: 575.25 | O40: 732.75 | P40: 698.75 | Q40: 674.25 | R40: 503.25 | S40: 631.5 | T40: 616.5 | U40: 494.5 | V40: 473.5 | W40: 468 | X40: 468 | Y40: 465.5 | Z40: 0 | AB40: =MONTH(A40) -> 2 | AC40: =YEAR(A40) -> 2025 | AD40: =SUM(B40:Z40) -> 14143
A41: 45692 | B41: 474 | C41: 468.5 | D41: 467.5 | E41: 470 | F41: 525.5 | G41: 728.5 | H41: 662.25 | I41: 664.75 | J41: 720.25 | K41: 668.75 | L41: 706.25 | M41: 735.25 | N41: 538.25 | O41: 705.25 | P41: 733.5 | Q41: 684 | R41: 440.25 | S41: 627 | T41: 625.5 | U41: 545.5 | V41: 514.5 | W41: 491.5 | X41: 484 | Y41: 482 | Z41: 0 | AB41: =MONTH(A41) -> 2 | AC41: =YEAR(A41) -> 2025 | AD41: =SUM(B41:Z41) -> 14162.75
A42: 45693 | B42: 483 | C42: 483 | D42: 480 | E42: 486 | F42: 543.5 | G42: 829.5 | H42: 693.25 | I42: 688.5 | J42: 731 | K42: 657.25 | L42: 748 | M42: 771.5 | N42: 557.25 | O42: 659 | P42: 677.25 | Q42: 664.75 | R42: 546.25 | S42: 658 | T42: 662.5 | U42: 531 | V42: 506.5 | W42: 507 | X42: 494.5 | Y42: 483.5 | Z42: 0 | AB42: =MONTH(A42) -> 2 | AC42: =YEAR(A42) -> 2025 | AD42: =SUM(B42:Z42) -> 14542
...
