Workbook
Name IQ_CH: 110000
Name IQ_CQ: 5000
Name IQ_CY: 10000
Name IQ_DAILY: 500000
Name IQ_FH: 100000
Name IQ_FQ: 500
Name IQ_FY: 1000
Name IQ_LTM: 2000
Name IQ_MONTH: 15000
Name IQ_NTM: 6000
Name IQ_WEEK: 50000
Name IQ_YTD: 3000

Sheet Small - DAY 1
A1: STANDARD OFFER SERVICE BID SHEET
A3: T&D Utility: | B3: CMP and Versant - BHD
A4: SO Class: | B4: Residential and Small Non-Residential
A5: Term: | B5: January 1, 2027 - December 31, 2027
A6: Docket No.: | B6: 2026-00065
A7: RFP Issued: | B7: 46281
A9: Standard offer bids for the residential and small commercial class may not be differentiated by time of day or by month.
A11: Small Class will be procured over multiple separate final bid days with 40% of the small class load available on Day 1 under the RFP issued on Sept. 16, 2026.
A12: Bidders may submit price proposals for all or a portion of the service requirement for each bid day.
A13: A bid for a portion of the service requirement must be in increments of 10% of the total standard offer load.
A15: Please enter prices for the tranche or tranches you are bidding on.
A16: Please enter prices to five (5) significant digits.
A17: Bidders may indicate that they are NOT bidding on a particular tranche by leaving any cell empty.
C20: =_xlfn.CONCAT(A5," ",B5) -> Term: January 1, 2027 - December 31, 2027
C21: Fixed Price Bid
C22: Bidder Name: | D22: [enter bidder name]
C23: Utility Name/District: | D23: [enter utility]
C26: Portion of Total SO Class Load | E26: 0.1 | F26: 0.2 | G26: 0.3 | H26: 0.4
C28: $/kWh | E28: 0 | F28: 0 | G28: 0 | H28: 0

Sheet Small - DAY 2
A1: STANDARD OFFER SERVICE BID SHEET
A3: T&D Utilities: | C3: ='Small - DAY 1'!B3 -> CMP and Versant - BHD
A4: SO Class: | C4: ='Small - DAY 1'!B4 -> Residential and Small Non-Residential
A5: Term: | C5: ='Small - DAY 1'!B5 -> January 1, 2027 - December 31, 2027
A6: Docket No.: | C6: ='Small - DAY 1'!B6 -> 2026-00065
A7: RFP Issued: | C7: ='Small - DAY 1'!B7 -> 46281
A9: Standard offer bids for the residential and small commercial class may not be differentiated by time of day or by month.
A11: Small Class will be procured over multiple separate final bid days with 40% of the small class load available on Day 2 under the RFP issued on Sept. 16, 2026.
A12: Bidders may submit price proposals for all or a portion of the service requirement for each bid day.
A13: A bid for a portion of the service requirement must be in increments of 10% of the total standard offer load.
A14: Bidders must provide a fixed price bid and may choose to provide an indexed bid.
A16: Please enter prices for the tranche or tranches you are bidding on.
A17: Please enter prices to five (5) significant digits.
A18: Bidders may indicate that they are NOT bidding on a particular tranche by leaving any cell empty.
B21: =_xlfn.CONCAT($A$5," ",$C$5) -> Term: January 1, 2027 - December 31, 2027
B22: Fixed Price Bid (Required)
B23: Bidder Name: | C23: [enter bidder name]
B24: Utility Name/District: | C24: [enter utility]
B27: Portion of Total SO Class Load | D27: 0.1 | E27: 0.2 | F27: 0.3 | G27: 0.4
B29: $/kWh | D29: 0 | E29: 0 | F29: 0 | G29: 0
A32: For bidders choosing to provide an indexed bid:
A33: Payment to the Provider shall consist of two components: an Energy Component and a Fixed Adder.
A34: Energy Component
B35: Provider will be paid the ISO-NE settlement quantities for the load asset times the real time hourly Maine LMP.
B36: The energy component will NOT be reduced by the uncollectible adder.
A38: Fixed Adder
B39: The Fixed Adder component will be based on customer's billed kWh usage at the customer meter.
B40: Payments to the Provider will be net of the uncollectible adder.
B42: =_xlfn.CONCAT($A$5," ",$C$5) -> Term: January 1, 2027 - December 31, 2027
B43: Indexed Bid (Optional)
B44: Bidder Name: | C44: =C23 -> [enter bidder name]
B45: Utility Name/District: | C45: =C24 -> [enter utility]
B48: Portion of Total SO Class Load | D48: 0.1 | E48: 0.2
B50: Fixed Adder ($/kWh) | D50: 0 | E50: 0

Sheet Medium C&I
A1: STANDARD OFFER SERVICE BID SHEET
A3: T&D Utilities: | B3: ='Small - DAY 1'!B3 -> CMP and Versant - BHD
A4: SO Class: | B4: Medium C&I
A5: Term: | B5: ='Small - DAY 1'!B5 -> January 1, 2027 - December 31, 2027
A6: Docket No.: | B6: ='Small - DAY 1'!B6 -> 2026-00065
A7: RFP Issued: | B7: ='Small - DAY 1'!B7 -> 46281
A9: Standard offer bids for the medium class may include prices for kW and kWh or prices for kWh only.
B10: Prices for kW will be billed using the same billing units that the utility uses for distribution service.
A12: Bids may be for 100% of the class load, or 20%, 40%, 60% or 80% of the load.
A14: Please enter prices for the tranche or tranches you are bidding on.
A15: Please enter prices to five (5) significant digits.
A16: Bidders may indicate that they are NOT bidding on a particular tranche by leaving any cell empty.
B19: =_xlfn.CONCAT($A$5," ",$B$5) -> Term: January 1, 2027 - December 31, 2027
B20: Bidder Name: | C20: [enter bidder name]
B21: Utility Name/District: | C21: [enter utility]
B22: % of load | C22: 0.2 | D22: 0.4 | E22: 0.6 | F22: 0.8 | G22: 1
C23: $/kWh | D23: $/kWh | E23: $/kWh | F23: $/kWh | G23: $/kWh
B25: Jan | C25: 0 | D25: 0 | E25: 0 | F25: 0 | G25: 0
B26: Feb | C26: 0 | D26: 0 | E26: 0 | F26: 0 | G26: 0
B27: Mar | C27: 0 | D27: 0 | E27: 0 | F27: 0 | G27: 0
B28: Apr | C28: 0 | D28: 0 | E28: 0 | F28: 0 | G28: 0
B29: May | C29: 0 | D29: 0 | E29: 0 | F29: 0 | G29: 0
B30: Jun | C30: 0 | D30: 0 | E30: 0 | F30: 0 | G30: 0
B31: Jul | C31: 0 | D31: 0 | E31: 0 | F31: 0 | G31: 0
B32: Aug | C32: 0 | D32: 0 | E32: 0 | F32: 0 | G32: 0
B33: Sep | C33: 0 | D33: 0 | E33: 0 | F33: 0 | G33: 0
B34: Oct | C34: 0 | D34: 0 | E34: 0 | F34: 0 | G34: 0
B35: Nov | C35: 0 | D35: 0 | E35: 0 | F35: 0 | G35: 0
B36: Dec | C36: 0 | D36: 0 | E36: 0 | F36: 0 | G36: 0
A42: For bidders chosing to bill on energy and demand basis:
B46: =B19 -> Term: January 1, 2027 - December 31, 2027
B47: Bidder Name: | C47: [enter bidder name]
B48: Utility Name/District: | C48: [enter utility]
B49: % of load | C49: 0.2 | E49: 0.4 | G49: 0.6 | I49: 0.8 | K49: 1
C50: Energy | D50: Demand | E50: Energy | F50: Demand | G50: Energy | H50: Demand | I50: Energy | J50: Demand | K50: Energy | L50: Demand
C51: $/kWh | D51: $/kW | E51: $/kWh | F51: $/kW | G51: $/kWh | H51: $/kW | I51: $/kWh | J51: $/kW | K51: $/kWh | L51: $/kW
B52: Jan | C52: 0 | D52: 0 | E52: 0 | F52: 0 | G52: 0 | H52: 0 | I52: 0 | J52: 0 | K52: 0 | L52: 0
B53: Feb | C53: 0 | D53: 0 | E53: 0 | F53: 0 | G53: 0 | H53: 0 | I53: 0 | J53: 0 | K53: 0 | L53: 0
B54: Mar | C54: 0 | D54: 0 | E54: 0 | F54: 0 | G54: 0 | H54: 0 | I54: 0 | J54: 0 | K54: 0 | L54: 0
B55: Apr | C55: 0 | D55: 0 | E55: 0 | F55: 0 | G55: 0 | H55: 0 | I55: 0 | J55: 0 | K55: 0 | L55: 0
...

Sheet Large C&I Indexed
A1: STANDARD OFFER SERVICE BID SHEET
A3: T&D Utilities: | B3: ='Small - DAY 1'!B3 -> CMP and Versant - BHD
A4: SO Class: | B4: Large C&I
A5: Term: | B5: ='Small - DAY 1'!B5 -> January 1, 2027 - December 31, 2027
A6: Docket No.: | B6: ='Small - DAY 1'!B6 -> 2026-00065
A7: RFP Issued: | B7: ='Small - DAY 1'!B7 -> 46281
A9: Bids must be for 100% of the class load.
A11: Payment to the Provider shall consist of three components: an Energy Component; a Fixed Adder; and a Capacity Charge.
A13: Energy Component
B14: Provider will be paid the ISO-NE settlement quantities for the load asset times the applicable hourly Maine LMP.
B15: The energy component will NOT be reduced by the uncollectible adder.
B16: Bidders should specify their election of day-ahead or real-time LMP pricing.
A17: Fixed Adder
B18: The Fixed Adder component will be based on customer's billed kWh usage at the customer meter.
B19: Line losses should be factored into the bid.
B20: Payments to the Provider will be net of the uncollectible adder.
A21: Capacity Charge
B22: The Capacity Component will be charged to customers on a per-kW basis, each customer's kW is set as the capacity tag calculated in accordance with ISO Manual for the FCM, Manual M-20.
B23: The Capacity Charge will be based on the individual customer’s capacity tag value (which reflects applicable line losses) times the bid price for the capacity component.
B24: Payments to the Provider will be net of the uncollectible adder.
A27: Select One: | C27: Day Ahead | E27: Real Time
A29: Please enter the fixed adder to five (5) significant digits
A30: Please enter the capacity charge to two (2) significant digits
C32: =_xlfn.CONCAT($A$5," ",$B$5) -> Term: January 1, 2027 - December 31, 2027
C33: Bidder Name: | D33: [enter bidder name]
C34: Utility Name/District: | D34: [enter utility]
D36: Fixed Adder | E36: Capacity Charge
D37: $/kWh | E37: $/kW-mo
C38: Jan | D38: 0 | E38: 0
C39: Feb | D39: 0 | E39: 0
C40: Mar | D40: 0 | E40: 0
C41: Apr | D41: 0 | E41: 0
C42: May | D42: 0 | E42: 0
C43: Jun | D43: 0 | E43: 0
C44: Jul | D44: 0 | E44: 0
C45: Aug | D45: 0 | E45: 0
C46: Sep | D46: 0 | E46: 0
C47: Oct | D47: 0 | E47: 0
C48: Nov | D48: 0 | E48: 0
C49: Dec | D49: 0 | E49: 0

Sheet Large C&I Not Indexed
B1: STANDARD OFFER SERVICE BID SHEET
B3: T&D Utilities: | C3: ='Small - DAY 1'!B3 -> CMP and Versant - BHD
B4: SO Class: | C4: Large C&I
B5: Term: | C5: ='Small - DAY 1'!B5 -> January 1, 2027 - December 31, 2027
B6: Docket No.: | C6: ='Small - DAY 1'!B6 -> 2026-00065
B7: RFP Issued: | C7: ='Small - DAY 1'!B7 -> 46281
B9: Bids must be for 100% of the class load.
B11: Standard offer bids for the large class may include prices for kW and kWh or prices for kWh only.
C12: Prices for kW will be billed using the same billing units that the utility uses for distribution service.
B14: Bids may also vary by time of day; the time of day periods must correspond to, or be compatible with, the utility's time-of-use rate structure.
B16: Please enter prices to five (5) significant digits.
B18: =_xlfn.CONCAT($B$5," ",$C$5) -> Term: January 1, 2027 - December 31, 2027
B19: Bidder Name: | C19: [enter bidder name]
B20: Utility Name/District: | C20: [enter utility]
D21: $/kWh
C22: Jan | D22: 0
C23: Feb | D23: 0
C24: Mar | D24: 0
C25: Apr | D25: 0
C26: May | D26: 0
C27: Jun | D27: 0
C28: Jul | D28: 0
C29: Aug | D29: 0
C30: Sep | D30: 0
C31: Oct | D31: 0
C32: Nov | D32: 0
C33: Dec | D33: 0
B39: For bidders choosing to bill on energy/demand or TOU basis:
B42: =_xlfn.CONCAT($B$5," ",$C$5) -> Term: January 1, 2027 - December 31, 2027
B43: Bidder Name: | C43: [enter bidder name]
B44: Utility Name/District: | C44: [enter utility]
C45: Energy | F45: Demand
C46: Peak | D46: Shoulder | E46: Off-peak | F46: Peak | G46: Shoulder
C47: $/kWh | D47: $/kWh | E47: $/kWh | F47: $/kW | G47: $/kW
B48: Jan | C48: 0 | D48: 0 | E48: 0 | F48: 0 | G48: 0
B49: Feb | C49: 0 | D49: 0 | E49: 0 | F49: 0 | G49: 0
B50: Mar | C50: 0 | D50: 0 | E50: 0 | F50: 0 | G50: 0
B51: Apr | C51: 0 | D51: 0 | E51: 0 | F51: 0 | G51: 0
B52: May | C52: 0 | D52: 0 | E52: 0 | F52: 0 | G52: 0
B53: Jun | C53: 0 | D53: 0 | E53: 0 | F53: 0 | G53: 0
...
