Workbook
Name B: [1]B11!#REF!
Name B: #REF!
Name B: #REF!
Name Compliance: '[1]On Site EMT'!$IV$1:$IV$3
Name Compliance: '[2] OSR-A'!$IV$1:$IV$3
Name Compliance: ' OSFV-A'!#REF!
Name disabilities: '[2] OSR-A'!$IW$1:$IW$21
Name NoNA: '[1]On Site EMT'!$IU$1:$IU$2
Name NoNA: '[2] OSR-A'!$IU$1:$IU$2
Name NoNA: ' OSFV-A'!#REF!
Name pf: SOF!$G$1:$G$3
Name Status: SOF!$G$1:$G$2
Name Status: #REF!

Sheet  OSFV-A
A1: **-** SPPS MONITORING - FILE VERIFICATION REPORT | AC1: + | AD1: + | AE1: Autism | IW1: Emotional Disturbance
A2: SPPS: | H2: Responsible SAU: | AC2: - | AD2: - | AE2: Developmental Delay (K) | IW2: Other Health Impairment
A3: Review Team member(s): | H3: Date of Placement: (01/02/1988) | AD3: NA | AE3: Visual Impairment | IW3: Traumatic Brain Injury
A4: Review Date: | H4: First Name: | AE4: Specific Learning Disability | IW4: Deafness
A5: Enrollment: | H5: Last Name: | AE5: Deaf-Blindness | IW5: Hearing Impairment
B6: Updated: August 5, 2026 | C6: Key + is equivalent to meets - is equivalent to does not meet NA is equivalent to not applicable | H6: Date of birth (01/02/1988) | AE6: Emotional Disturbance | IW6: Orthopedic Impairment
H7: Age | AE7: Other Health Impairment | IW7: Developmental Delay (3-5)
H8: Disability | AE8: Traumatic Brain Injury | IW8: Intellectual Disability
A9: Record of Access | I9: Q | J9: Q | K9: Q | L9: Q | M9: Q | N9: Q | O9: Q | P9: Q | Q9: Q | R9: Q | S9: Q | T9: Q | U9: Q | V9: Q | W9: Q | X9: Q | Y9: Q | Z9: Q | AA9: Q | AB9: Q | AC9: Q | AD9: Q | AE9: Deafness | AF9: Q | IW9: Speech or Language Impairment
A10: Element/ Citation | B10: Item Description | C10: Criteria | D10: Total Level of Compliance | E10: + | F10: - | G10: NA | I10: Q | J10: Q | K10: Q | L10: Q | M10: Q | N10: Q | O10: Q | P10: Q | Q10: Q | R10: Q | S10: Q | T10: Q | U10: Q | V10: Q | W10: Q | X10: Q | Y10: Q | Z10: Q | AA10: Q | AB10: Q | AC10: Q | AD10: Q | AE10: Hearing Impairment | AF10: Q | IW10: Intellectual Disability
A11: ROA1 34 CFR 300.614 | B11: Each participating agency must keep a record of parties obtaining access to education records collected, maintained, or used under Part B of the Act (except access by parents and authorized employees of the participating agency), including the name of the party, the date access was given, and the purpose for which the party is authorized to use the records. | C11: Yes: There is a sign-in sheet in the student's file. No: The sign-in sheet is missing. | D11: =IFERROR(SUM(E11/(E11+F11)),0) -> 0 | E11: =COUNTIF(I11:IC11,"+") -> 0 | F11: =COUNTIF(I11:IC11,"-") -> 0 | G11: =COUNTIF(I11:IC11,"NA") -> 0 | AE11: Orthopedic Impairment | IW11: Multiple Disabilities
A12: Forms | I12: Q | J12: Q | K12: Q | L12: Q | M12: Q | N12: Q | O12: Q | P12: Q | Q12: Q | R12: Q | S12: Q | T12: Q | U12: Q | V12: Q | W12: Q | X12: Q | Y12: Q | Z12: Q | AA12: Q | AB12: Q | AC12: Q | AD12: Q | AF12: Q | AG12: Q | AH12: Q
A13: Element/ Citation | B13: Item Description | C13: Criteria | D13: Total Level of Compliance | E13: + | F13: - | G13: NA | I13: Q | J13: Q | K13: Q | L13: Q | M13: Q | N13: Q | O13: Q | P13: Q | Q13: Q | R13: Q | S13: Q | T13: Q | U13: Q | V13: Q | W13: Q | X13: Q | Y13: Q | Z13: Q | AA13: Q | AB13: Q | AC13: Q | AD13: Q | AF13: Q | AG13: Q | AH13: Q
A14: IEP1 MUSER IX. 3. I. | B14: All IEPs from placement are included in the student's file including amendments between annual IEP meetings | C14: Yes: All IEPs, including amendments, are in the student's file. No: 1 or more IEPs are missing No: 1 or more IEPs are missing AND SPPS has documentation showing outreach efforts to the SAU to obtain the missing document(s), using multiple avenues of contact, and 3 or more attempts. | D14: =IFERROR(SUM(E14/(E14+F14)),0) -> 0 | E14: =COUNTIF(I14:IC14,"+") -> 0 | F14: =COUNTIF(I14:IC14,"-") -> 0 | G14: =COUNTIF(I14:IC14,"na") -> 0
A15: AWN1 MUSER IX. 3. I. | B15: All AWNs from placement are included in the student's file. | C15: Yes: All AWNs are included in the student’s file. No: 1 or more AWNs are missing No: 1 or more AWNs are missing AND SPPS has documentation showing outreach efforts to the SAU to obtain the missing document(s), using multiple avenues of contact, and 3 or more attempts. | D15: =IFERROR(SUM(E15/(E15+F15)),0) -> 0 | E15: =COUNTIF(I15:IC15,"+") -> 0 | F15: =COUNTIF(I15:IC15,"-") -> 0 | G15: =COUNTIF(I15:IC15,"na") -> 0
A16: WRN1 MUSER IX. 3. I. | B16: All WNs from placement are included in the student's file. | C16: Yes: All WNs are included in the student’s file. No: WNs are missing. No: 1 or more WNs are missing No: 1 or more WNs are missing AND SPPS has documentation showing outreach efforts to the SAU to obtain the missing document(s), using multiple avenues of contact, and 3 or more attempts. | D16: =IFERROR(SUM(E16/(E16+F16)),0) -> 0 | E16: =COUNTIF(I16:IC16,"+") -> 0 | F16: =COUNTIF(I16:IC16,"-") -> 0 | G16: =COUNTIF(I16:IC16,"na") -> 0
A17: Results of All Evaluations are included in the student's file | I17: Q | J17: Q | K17: Q | L17: Q | M17: Q | N17: Q | O17: Q | P17: Q | Q17: Q | R17: Q | S17: Q | T17: Q | U17: Q | V17: Q | W17: Q | X17: Q | Y17: Q | Z17: Q | AA17: Q | AB17: Q | AC17: Q | AD17: Q | AE17: Q | AF17: Q | AG17: Q | AH17: Q
A18: Element/ Citation | B18: Item Description | C18: Criteria | D18: Total Level of Compliance | E18: + | F18: - | G18: NA | I18: Q | J18: Q | K18: Q | L18: Q | M18: Q | N18: Q | O18: Q | P18: Q | Q18: Q | R18: Q | S18: Q | T18: Q | U18: Q | V18: Q | W18: Q | X18: Q | Y18: Q | Z18: Q | AA18: Q | AB18: Q | AC18: Q | AD18: Q | AE18: Q | AF18: Q | AG18: Q | AH18: Q
A19: RAE2 MUSER V.4.E. MUSER IX.3.I. | B19: The most recent evaluations are included in the student's file. | C19: Yes: Reports from all evaluations listed in the most recent IEP are included. No: 1 or more evaluations are missing No: 1 or more evalutaions are missing AND SPPS has documentation showing outreach efforts to the SAU to obtain the missing document(s), using multiple avenues of contact, and 3 or more attempts. | D19: =IFERROR(SUM(E19/(E19+F19)),0) -> 0 | E19: =COUNTIF(I19:IC19,"+") -> 0 | F19: =COUNTIF(I19:IC19,"-") -> 0 | G19: =COUNTIF(I19:IC19,"na") -> 0
A20: Evidence of Progress Reports | I20: Q | J20: Q | K20: Q | L20: Q | M20: Q | N20: Q | O20: Q | P20: Q | Q20: Q | R20: Q | S20: Q | T20: Q | U20: Q | V20: Q | W20: Q | X20: Q | Y20: Q | Z20: Q | AA20: Q | AB20: Q | AC20: Q | AD20: Q | AE20: Q | AF20: Q | AG20: Q | AH20: Q
A21: Element/ Citation | B21: Item Description | C21: Criteria | D21: Total Level of Compliance | E21: + | F21: - | G21: NA | I21: Q | J21: Q | K21: Q | L21: Q | M21: Q | N21: Q | O21: Q | P21: Q | Q21: Q | R21: Q | S21: Q | T21: Q | U21: Q | V21: Q | W21: Q | X21: Q | Y21: Q | Z21: Q | AA21: Q | AB21: Q | AC21: Q | AD21: Q | AE21: Q | AF21: Q | AG21: Q | AH21: Q
A22: PPR1 Periodic Progress Reports 34 CFR 300.320(a)(3)(ii) MUSER IX. 3. I. (6) | B22: Periodic reports on the progress the child is making toward meeting the annual goals (such as through the use of quarterly or other periodic reports, concurrent with the issuance of report cards) are provided to the parent. | C22: Yes: Evidence is present of providing to the sending SAU progress reports at least as often as the sending SAU issues progress reports for its in-district students. No: Evidence is missing that progress reports are provided to the sending SAU at least as often as the sending SAU issues progress reports for its in-district students. | D22: =IFERROR(SUM(E22/(E22+F22)),0) -> 0 | E22: =COUNTIF(I22:IC22,"+") -> 0 | F22: =COUNTIF(I22:IC22,"-") -> 0 | G22: =COUNTIF(I22:IC22,"na") -> 0

Sheet SOP-A
D1: Summary of Performance Review
F2: Revised 7/12/2018
A3: Review Date: | E3: SAU: | J3: Reviewed by:
E5: Child 1 | H5: Child 2 | K5: Child 3
A6: Name
A7: DOB
A8: Graduation or age out date
A9: Date given to child
A10: Section 1: Academic | N10: 0% or 100% - strengths and needs in academic and learning skills, progress towards meeting grade level standards, current present levels of academic performance in the IEP, etc.
A11: Section 2: Functional | N11: 0% or 100% - accommodations and modifications that were beneficial to child, present level of functional performance in current IEP, etc.
A12: Section 3: Recommendations: Education | N12: 0% or 100% - recommendations to assist the child in post-secondary education, accommodations for curriculum, environment, time/transition etc.
A13: Section 3: Recommendations: Employment/Training | N13: 0% or 100% - recommendations to assist the child in employment/training settings, include accommodations for both, etc.
A14: Section 4: Recommendations: Independent Living | N14: 0% or 100% - recommendations for indepent living, budgeting, banking, bill paying, laundry, meals, community access, etc.
A15: Comments:
C18: % of Compliance | F18: =IFERROR(AVERAGE(E9:G14),"") | I18: =IFERROR(AVERAGE(H9:J14),"") | L18: =IFERROR(AVERAGE(K9:M14),"")
F20: Total % of Compliance | I20: =IFERROR(AVERAGE(F18,I18,L18),0) -> 0
A21: Section 1 and 2 present levels should cover strengths, weaknesses, current assessment scores, and positive wording.

Sheet SOF
A1: Summary of Findings for Program Year 2025- 2026 | G1: Open
A2: The following table outlines site level of compliance with specific indicators for: | C2: =' OSFV-A'!C2 -> 0 | G2: Closed
A3: On Site Review Items (OSR) | B3: Description | C3: Data to Support Finding | D3: Compliance status | G3: NA
A4: ROA1 | B4: Record of Access | C4: OSR-data | D4: =' OSFV-A'!D11 -> 0
A5: IEP1 | B5: All IEPs in file | C5: OSR-data | D5: =' OSFV-A'!D14 -> 0
A6: AWN1 | B6: All Advanced Written Notices in file | C6: OSR-data | D6: =' OSFV-A'!D15 -> 0
A7: WRN1 | B7: All Written Notices in file | C7: OSR-data | D7: =' OSFV-A'!D16 -> 0
A8: RAE2 | B8: Most recent evaluations in file | C8: OSR-data | D8: =' OSFV-A'!D19 -> 0
A9: PPR1 | B9: Periodic Progress Reports | C9: OSR-data | D9: =' OSFV-A'!D22 -> 0
